Workbook
Name _aaa1: [1]Sheet2!$D$19:$D$19,[1]Sheet2!$F$19:$BD$19
Name _B22: [2]일위대가!$1400:$1413=[2]일위대가!$A$1400
Name _K02: [2]일위대가!$732:$745=[2]일위대가!$A$732
Name _LP1: [3]부하계산서!#REF!
Name _LP2: [3]부하계산서!#REF!
Name _LP3: [3]부하계산서!#REF!
Name _LPB1: #REF!
Name _LPK1: #REF!
Name _LU1: [3]부하계산서!#REF!
Name _LU2: [3]부하계산서!#REF!
Name _LV01: [3]부하계산서!#REF!
Name _LV02: #REF!
Name _O03: [2]일위대가!$1516:$1529=[2]일위대가!$A$1516
Name _UP1: #REF!
Name _UP2: #REF!
Name \a: #N/A
Name AA: #REF!
Name AAA: #REF!
Name AAAA: #REF!
Name AAAAAA: #REF!
Name AAAAAAAAAAAAAAAAAAA: #REF!
Name AB: #REF!
Name AFC설비: #REF!
Name AL: [4]자재단가비교표!#REF!
Name as: '[5]전차선로 물량표'!#REF!
Name B: [4]자재단가비교표!#REF!
Name CCTV설비: #REF!
Name CODE: #REF!
Name CV14_2C: [6]단가!#REF!
Name CV14_4C: [6]단가!#REF!
Name CV5.5_2: [6]단가!#REF!
Name CV5.5_4C: [6]단가!#REF!
Name CV8_2C: [6]단가!#REF!
Name CV8_4C: [6]단가!#REF!
Name D: [4]자재단가비교표!#REF!
Name DANGA: #REF!,#REF!
Name dd: [7]부하계산서!#REF!
Name E: [4]자재단가비교표!#REF!
Name E25M: [8]전기일위대가!#REF!
Name E25P: [8]전기일위대가!#REF!
Name E31E: [8]전기일위대가!#REF!
Name E31M: [8]전기일위대가!#REF!
Name E31P: [8]전기일위대가!#REF!
Name E32E: [8]전기일위대가!#REF!
Name E32M: [8]전기일위대가!#REF!
Name E32P: [8]전기일위대가!#REF!
Name E33E: [8]전기일위대가!#REF!
Name E33M: [8]전기일위대가!#REF!
Name E33P: [8]전기일위대가!#REF!
Name E34E: [8]전기일위대가!#REF!
Name E34M: [8]전기일위대가!#REF!
Name E34P: [8]전기일위대가!#REF!
Name E36M: [8]전기일위대가!#REF!
Name E36P: [8]전기일위대가!#REF!
Name E37M: [8]전기일위대가!#REF!
Name E37P: [8]전기일위대가!#REF!
Name E38M: [8]전기일위대가!#REF!
Name E38P: [8]전기일위대가!#REF!
Name E39M: [8]전기일위대가!#REF!
Name E39P: [8]전기일위대가!#REF!

Sheet 원가계산서(소방기계+소방전기)
B1: 공 사 원 가 계 산 서 | J1: 요율
B2: 공사명 : 2026학년도 밀레니엄관 지하1층 개선공사(소방) | J2: 50
B3: 비 목 | E3: 금 액 | F3: 구 성 비 | G3: 비 고
A4: A1 | B4: 순 공 사 원 가 | C4: 재 료 비 | D4: 직 접 재 료 비 | E4: ='공종별집계표(소방기계+소방전기)'!F5 -> 0
A5: A2 | D5: 간 접 재 료 비 | E5: 0
A6: A3 | D6: 작업설, 부산물(△) | E6: 0
A7: AS | D7: [ 소 계 ] | E7: =TRUNC(E4+E5-E6, 0) -> 0
A8: B1 | C8: 노 무 비 | D8: 직 접 노 무 비 | E8: ='공종별집계표(소방기계+소방전기)'!H5 -> 0
A9: B2 | D9: 간 접 노 무 비 | E9: =TRUNC(E8*0.175, 0) -> 0 | F9: 직접노무비 * 17.5% | G9: 6개월이하
A10: BS | D10: [ 소 계 ] | E10: =TRUNC(E8+E9, 0) -> 0
C11: 경 비 | D11: 경 비 | E11: ='공종별집계표(소방기계+소방전기)'!J5 -> 0
A12: C4 | D12: 산 재 보 험 료 | E12: =TRUNC(E10*0.0356, 0) -> 0 | F12: 노무비 * 3.56%
A13: C5 | D13: 고 용 보 험 료 | E13: =TRUNC(E10*0.0101, 0) -> 0 | F13: 노무비 * 1.01%
A14: C6 | D14: 국민 건강 보험료 | F14: 직접노무비 * 3.595% | G14: 1개월이상
A15: C7 | D15: 국민 연금 보험료 | F15: 직접노무비 * 4.75% | G15: 1개월이상
A16: C8 | D16: 퇴직 공제 부금비 | F16: 직접노무비 * 2.3% | G16: 1억원이상
A17: CA | D17: 산업안전보건관리비 | F17: (재료비+직노) * 3.11% | G17: 2천만원이상
A18: CB | D18: 노인장기요양보험료 | F18: 건강보험료 * 13.14% | G18: 1개월이상
A19: CG | D19: 기 타 경 비 | E19: =TRUNC((E7+E10)*0.05, 0) -> 0 | F19: (재료비+노무비) * 5% | G19: 6개월이하
A20: CL | D20: 석 면 분 담 금 | E20: =TRUNC(E10*0.00006,0) -> 0 | F20: 노무비 * 0.006%
A21: CS | D21: [ 소 계 ] | E21: =TRUNC(E11+E12+E13+E14+E15+E16+E17+E18+E19+E20, 0) -> 0
A22: S1 | B22: 계 | E22: =TRUNC(E7+E10+E21, 0) -> 0
A23: D1 | B23: 일 반 관 리 비 | E23: =TRUNC(E22*0.08, 0) -> 0 | F23: 계 * 8%
A24: D2 | B24: 이 윤 | E24: =TRUNC((E10+E21+E23)*0.15, 0) -> 0 | F24: (노무비+경비+일반관리비) * 15%
A25: D4 | B25: 소방시설공사업배상책임공제 | E25: =TRUNC((E22+E23+E24)*0.00351, 0) -> 0 | F25: 순공사금액*0.351%*(1+3년초과일수/1095) | G25: 10억원이하
A26: D9 | B26: 공 급 가 액 | E26: =TRUNC(E22+E23+E24+E25, 0) -> 0
A27: DB | B27: 부 가 가 치 세 | E27: =TRUNC((E26)*0.1, 0) -> 0 | F27: 공급가액 * 10%
A28: DH | B28: 도 급 액 | E28: =TRUNC((E26+E27), 0) -> 0
A29: S2 | B29: 총 공 사 비 | E29: =TRUNC(E28+0, -3) -> 0 | G29: 천단위미만 절사
E32: =E29/1.1 -> 0
E33: =E29-E32 -> 0
E35: =E22*1.1 -> 0

Sheet 공종별집계표(소방기계+소방전기)
A1: 공 종 별 집 계 표
A2: [ 부천대 대학혁신지원사업 밀레니엄관 지하1층 리뉴얼 디자인 (소방기계+소방전기) ]
A3: 품 명 | B3: 규 격 | C3: 단위 | D3: 수량 | E3: 재 료 비 | G3: 노 무 비 | I3: 경 비 | K3: 합 계 | M3: 비 고 | N3: 공종코드 | O3: 변수 | P3: 상위공종 | Q3: 공종구분 | R3: 공종레벨 | S3: 공종소계 | T3: 원가계산서 연결금액
E4: 단 가 | F4: 금 액 | G4: 단 가 | H4: 금 액 | I4: 단 가 | J4: 금 액 | K4: 단 가 | L4: 금 액
A5: 부천대 대학혁신지원사업 밀레니엄관 지하1층 리뉴얼 소방공사 | D5: 1 | E5: =F6+F9 -> 0 | F5: =E5*D5 -> 0 | G5: =H6+H9 -> 0 | H5: =G5*D5 -> 0 | I5: =J6+J9 -> 0 | J5: =I5*D5 -> 0 | K5: =E5+G5+I5 -> 0 | L5: =F5+H5+J5 -> 0 | N5: 01 | R5: 1
A6: 소방기계공사 | D6: 1 | E6: =F7+F8 -> 0 | F6: =E6*D6 -> 0 | G6: =H7+H8 -> 0 | H6: =G6*D6 -> 0 | I6: =J7+J8 -> 0 | J6: =I6*D6 -> 0 | K6: =E6+G6+I6 -> 0 | L6: =F6+H6+J6 -> 0 | N6: 0101 | P6: 01 | R6: 2
A7: 소화배관공사 | D7: 1 | E7: ='공종별내역서(소방기계)'!F51 -> 0 | F7: =E7*D7 -> 0 | G7: ='공종별내역서(소방기계)'!H51 -> 0 | H7: =G7*D7 -> 0 | I7: ='공종별내역서(소방기계)'!J51 -> 0 | J7: =I7*F7 -> 0 | K7: =E7+G7+I7 -> 0 | L7: =F7+H7+J7 -> 0 | N7: 010101 | P7: 0101 | R7: 3
A8: 철거공사 | D8: 1 | E8: ='공종별내역서(소방기계)'!F75 -> 0 | F8: =E8*D8 -> 0 | G8: ='공종별내역서(소방기계)'!H75 -> 0 | H8: =G8*D8 -> 0 | I8: ='공종별내역서(소방기계)'!J79 -> 0 | J8: =I8*D8 -> 0 | K8: =E8+G8+I8 -> 0 | L8: =F8+H8+J8 -> 0 | N8: 010102 | P8: 0101 | R8: 3
A9: 소방전기공사 | D9: 1 | E9: =F10+F11+F12+F13+F14 -> 0 | F9: =E9*D9 -> 0 | G9: =H10+H11+H12+H13+H14 -> 0 | H9: =G9*D9 -> 0 | I9: =J10+J11+J12+J13+J14 -> 0 | J9: =I9*D9 -> 0 | K9: =E9+G9+I9 -> 0 | L9: =F9+H9+J9 -> 0
A10: 자동화재탐지설비공사 | D10: 1 | E10: ='공종별내역서(소방전기)'!F55 -> 0 | F10: =E10*D10 -> 0 | G10: ='공종별내역서(소방전기)'!H55 -> 0 | H10: =G10*D10 -> 0 | I10: ='공종별내역서(소방전기)'!J55 -> 0 | J10: =I10*D10 -> 0 | K10: =E10+G10+I10 -> 0 | L10: =F10+H10+J10 -> 0
A11: 유도등설비공사 | D11: 1 | E11: ='공종별내역서(소방전기)'!F81 -> 0 | F11: =E11*D11 -> 0 | G11: ='공종별내역서(소방전기)'!H81 -> 0 | H11: =G11*D11 -> 0 | I11: ='공종별내역서(소방전기)'!J81 -> 0 | J11: =I11*D11 -> 0 | K11: =E11+G11+I11 -> 0 | L11: =F11+H11+J11 -> 0
A12: 비상방송설비공사 | D12: 1 | E12: ='공종별내역서(소방전기)'!F107 -> 0 | F12: =E12*D12 -> 0 | G12: ='공종별내역서(소방전기)'!H107 -> 0 | H12: =G12*D12 -> 0 | I12: ='공종별내역서(소방전기)'!J107 -> 0 | J12: =I12*D12 -> 0 | K12: =E12+G12+I12 -> 0 | L12: =F12+H12+J12 -> 0
A13: 비상조명등설비공사 | D13: 1 | E13: ='공종별내역서(소방전기)'!F133 -> 0 | F13: =E13*D13 -> 0 | G13: ='공종별내역서(소방전기)'!H133 -> 0 | H13: =G13*D13 -> 0 | I13: ='공종별내역서(소방전기)'!J133 -> 0 | J13: =I13*D13 -> 0 | K13: =E13+G13+I13 -> 0 | L13: =F13+H13+J13 -> 0
A14: 무선통신보조설비공사 | D14: 1 | F14: =E14*D14 -> 0 | G14: ='공종별내역서(소방전기)'!H159 -> 0 | H14: =G14*D14 -> 0 | I14: ='공종별내역서(소방전기)'!J168 -> 0 | J14: =I14*D14 -> 0 | K14: =E14+G14+I14 -> 0 | L14: =F14+H14+J14 -> 0
A26: [ 합 계 ] | F26: =F5 -> 0 | H26: =H5 -> 0 | J26: =J5 -> 0 | L26: =L5 -> 0

Sheet 공종별내역서(소방기계)
A1: [ 부천대 대학혁신지원사업 밀레니엄관 지하1층 리뉴얼 디자인 소방기계공사 ]
A2: 품 명 | B2: 규 격 | C2: 단위 | D2: 수량 | E2: 재 료 비 | G2: 노 무 비 | I2: 경 비 | K2: 합 계 | M2: 비 고 | N2: 품목코드 | O2: 변수 | P2: 설정 | Q2: 공종코드 | R2: 일위 | S2: 단산 | T2: 자재 | U2: 손료적용 | V2: 손료저장 | W2: 적용율 | X2: JUK1 | Y2: JUK2 | Z2: JUK3 | AA2: JUK4 | AB2: JUK5 | AC2: JUK6 | AD2: JUK7 | AE2: JUK8 | AF2: JUK9 | AG2: JUK10 | AH2: JUK11 | AI2: JUK12 | AJ2: JUK13 | AK2: JUK14 | AL2: JUK15 | AM2: JUK16 | AN2: JUK17 | AO2: JUK18 | AP2: JUK19 | AQ2: JUK20 | AR2: 자재구분 | AS2: 공종구분 | AT2: 공종레벨 | AU2: 공종+자재 | AV2: 고유번호
E3: 단 가 | F3: 금 액 | G3: 단 가 | H3: 금 액 | I3: 단 가 | J3: 금 액 | K3: 단 가 | L3: 금 액
A4: 소화배관공사 | Q4: 010101
A5: 강관배관 | B5: D25 | C5: M | D5: 58 | F5: =TRUNC(E5*D5, 0) -> 0 | H5: =TRUNC(G5*D5, 0) -> 0 | J5: =TRUNC(I5*D5, 0) -> 0 | K5: =TRUNC(E5+G5+I5, 0) -> 0 | L5: =TRUNC(F5+H5+J5, 0) -> 0 | N5: 5D1E64EBE007BB90863E379EDC09B3 | Q5: 010101 | R5: T | S5: F | T5: F | AU5: 0101015D1E64EBE007BB90863E379EDC09B3 | AV5: 160
A6: 강관배관 | B6: D32 | C6: M | D6: 18 | F6: =TRUNC(E6*D6, 0) -> 0 | H6: =TRUNC(G6*D6, 0) -> 0 | J6: =TRUNC(I6*D6, 0) -> 0 | K6: =TRUNC(E6+G6+I6, 0) -> 0 | L6: =TRUNC(F6+H6+J6, 0) -> 0 | N6: 5D1E64EBE007BB90863E379EDC0E35 | Q6: 010101 | R6: T | S6: F | T6: F | AU6: 0101015D1E64EBE007BB90863E379EDC0E35 | AV6: 161
A7: 강관배관 | B7: D40 | C7: M | D7: 20 | F7: =TRUNC(E7*D7, 0) -> 0 | H7: =TRUNC(G7*D7, 0) -> 0 | J7: =TRUNC(I7*D7, 0) -> 0 | K7: =TRUNC(E7+G7+I7, 0) -> 0 | L7: =TRUNC(F7+H7+J7, 0) -> 0 | N7: 5D1E64EBE007BB90863E379EDC0FDB | Q7: 010101 | R7: T | S7: F | T7: F | AU7: 0101015D1E64EBE007BB90863E379EDC0FDB | AV7: 162
A8: 강관배관 | B8: D50 | C8: M | D8: 11 | F8: =TRUNC(E8*D8, 0) -> 0 | H8: =TRUNC(G8*D8, 0) -> 0 | J8: =TRUNC(I8*D8, 0) -> 0 | K8: =TRUNC(E8+G8+I8, 0) -> 0 | L8: =TRUNC(F8+H8+J8, 0) -> 0 | N8: 5D1E64EBE007BB90863E379EDC0C07 | Q8: 010101 | R8: T | S8: F | T8: F | AU8: 0101015D1E64EBE007BB90863E379EDC0C07 | AV8: 163
A9: 나사식강관제관이음쇠 | B9: 나사식강관제관이음쇠, ∮25mm, 백엘보, 나사 | C9: 개 | D9: 14 | F9: =TRUNC(E9*D9, 0) -> 0 | H9: =TRUNC(G9*D9, 0) -> 0 | J9: =TRUNC(I9*D9, 0) -> 0 | K9: =TRUNC(E9+G9+I9, 0) -> 0 | L9: =TRUNC(F9+H9+J9, 0) -> 0 | N9: 5A8834483007CF0FE335FF969A1F81EC003B37 | Q9: 010101 | R9: F | S9: F | T9: T | AU9: 0101015A8834483007CF0FE335FF969A1F81EC003B37 | AV9: 164
A10: 나사식강관제관이음쇠 | B10: 나사식강관제관이음쇠, ∮32mm, 백엘보, 나사 | C10: 개 | D10: 4 | F10: =TRUNC(E10*D10, 0) -> 0 | H10: =TRUNC(G10*D10, 0) -> 0 | J10: =TRUNC(I10*D10, 0) -> 0 | K10: =TRUNC(E10+G10+I10, 0) -> 0 | L10: =TRUNC(F10+H10+J10, 0) -> 0 | N10: 5A8834483007CF0FE335FF969A1F81EC003B30 | Q10: 010101 | R10: F | S10: F | T10: T | AU10: 0101015A8834483007CF0FE335FF969A1F81EC003B30 | AV10: 165
A11: 나사식강관제관이음쇠 | B11: 나사식강관제관이음쇠, ∮40mm, 백엘보, 나사 | C11: 개 | D11: 1 | F11: =TRUNC(E11*D11, 0) -> 0 | H11: =TRUNC(G11*D11, 0) -> 0 | J11: =TRUNC(I11*D11, 0) -> 0 | K11: =TRUNC(E11+G11+I11, 0) -> 0 | L11: =TRUNC(F11+H11+J11, 0) -> 0 | N11: 5A8834483007CF0FE335FF969A1F81EC003B31 | Q11: 010101 | R11: F | S11: F | T11: T | AU11: 0101015A8834483007CF0FE335FF969A1F81EC003B31 | AV11: 166
A12: 나사식강관제관이음쇠 | B12: 나사식강관제관이음쇠, ∮50mm, 백엘보, 나사 | C12: 개 | D12: 1 | F12: =TRUNC(E12*D12, 0) -> 0 | H12: =TRUNC(G12*D12, 0) -> 0 | J12: =TRUNC(I12*D12, 0) -> 0 | K12: =TRUNC(E12+G12+I12, 0) -> 0 | L12: =TRUNC(F12+H12+J12, 0) -> 0 | N12: 5A8834483007CF0FE335FF969A1F81EC003B32 | Q12: 010101 | R12: F | S12: F | T12: T | AU12: 0101015A8834483007CF0FE335FF969A1F81EC003B32 | AV12: 167
A13: 나사식강관제관이음쇠 | B13: 나사식강관제관이음쇠, ∮25mm, 백티, 나사 | C13: 개 | D13: 23 | F13: =TRUNC(E13*D13, 0) -> 0 | H13: =TRUNC(G13*D13, 0) -> 0 | J13: =TRUNC(I13*D13, 0) -> 0 | K13: =TRUNC(E13+G13+I13, 0) -> 0 | L13: =TRUNC(F13+H13+J13, 0) -> 0 | N13: 5A8834483007CF0FE335FF969A1F81EC003A24 | Q13: 010101 | R13: F | S13: F | T13: T | AU13: 0101015A8834483007CF0FE335FF969A1F81EC003A24 | AV13: 168
A14: 나사식강관제관이음쇠 | B14: 나사식강관제관이음쇠, ∮32mm, 백티, 나사 | C14: 개 | D14: 6 | F14: =TRUNC(E14*D14, 0) -> 0 | H14: =TRUNC(G14*D14, 0) -> 0 | J14: =TRUNC(I14*D14, 0) -> 0 | K14: =TRUNC(E14+G14+I14, 0) -> 0 | L14: =TRUNC(F14+H14+J14, 0) -> 0 | N14: 5A8834483007CF0FE335FF969A1F81EC0035AB | Q14: 010101 | R14: F | S14: F | T14: T | AU14: 0101015A8834483007CF0FE335FF969A1F81EC0035AB | AV14: 169
A15: 나사식강관제관이음쇠 | B15: 나사식강관제관이음쇠, ∮40mm, 백티, 나사 | C15: 개 | D15: 3 | F15: =TRUNC(E15*D15, 0) -> 0 | H15: =TRUNC(G15*D15, 0) -> 0 | J15: =TRUNC(I15*D15, 0) -> 0 | K15: =TRUNC(E15+G15+I15, 0) -> 0 | L15: =TRUNC(F15+H15+J15, 0) -> 0 | N15: 5A8834483007CF0FE335FF969A1F81EC0035AA | Q15: 010101 | R15: F | S15: F | T15: T | AU15: 0101015A8834483007CF0FE335FF969A1F81EC0035AA | AV15: 170
A16: 나사식강관제관이음쇠 | B16: 나사식강관제관이음쇠, ∮50mm, 백티, 나사 | C16: 개 | D16: 4 | F16: =TRUNC(E16*D16, 0) -> 0 | H16: =TRUNC(G16*D16, 0) -> 0 | J16: =TRUNC(I16*D16, 0) -> 0 | K16: =TRUNC(E16+G16+I16, 0) -> 0 | L16: =TRUNC(F16+H16+J16, 0) -> 0 | N16: 5A8834483007CF0FE335FF969A1F81EC0035A9 | Q16: 010101 | R16: F | S16: F | T16: T | AU16: 0101015A8834483007CF0FE335FF969A1F81EC0035A9 | AV16: 171
... A40: 방수구 이전설치 | B40: 65mm | C40: 조 | D40: 2 | F40: =TRUNC(E40*D40, 0) -> 0 | H40: =TRUNC(G40*D40, 0) -> 0 | J40: =TRUNC(I40*D40, 0) -> 0 | K40: =TRUNC(E40+G40+I40, 0) -> 0 | L40: =TRUNC(F40+H40+J40, 0) -> 0 | N40: 5D1ED41AF007D255FC39446100B47B | Q40: 010101 | R40: T | S40: F | T40: F | AU40: 0101015D1ED41AF007D255FC39446100B47B | AV40: 154
Q41: 010101
Q42: 010101
Q43: 010101
Q44: 010101
Q45: 010101
Q46: 010101
Q47: 010101
Q48: 010101
Q49: 010101
Q50: 010101
A51: [ 합 계 ] | F51: =SUMIF(Q5:Q50,"010101",F5:F50) -> 0 | H51: =SUMIF(Q5:Q50,"010101",H5:H50) -> 0 | J51: =SUMIF(Q5:Q50,"010101",J5:J50) -> 0 | L51: =SUMIF(Q5:Q50,"010101",L5:L50) -> 0 | N51: TOTAL
A52: 철거공사 | Q52: 010102
A53: 소방용헤드 철거 | B53: 스프링클러헤드, (폐쇄상향)72°C | C53: 개 | D53: 108 | F53: =TRUNC(E53*D53, 0) -> 0 | H53: =TRUNC(G53*D53, 0) -> 0 | J53: =TRUNC(I53*D53, 0) -> 0 | K53: =TRUNC(E53+G53+I53, 0) -> 0 | L53: =TRUNC(F53+H53+J53, 0) -> 0 | N53: 5D1EC40D7007E854AC3D48AAED3D3A | Q53: 010102 | R53: T | S53: F | T53: F | AU53: 0101025D1EC40D7007E854AC3D48AAED3D3A | AV53: 155
A54: 소방용헤드 철거 | B54: 스프링클러헤드, (폐쇄하향)72°C | C54: 개 | D54: 381 | F54: =TRUNC(E54*D54, 0) -> 0 | H54: =TRUNC(G54*D54, 0) -> 0 | J54: =TRUNC(I54*D54, 0) -> 0 | K54: =TRUNC(E54+G54+I54, 0) -> 0 | L54: =TRUNC(F54+H54+J54, 0) -> 0 | N54: 5D1EC40D7007E8650138D6C1CB74B0 | Q54: 010102 | R54: T | S54: F | T54: F | AU54: 0101025D1EC40D7007E8650138D6C1CB74B0 | AV54: 156
A55: 소방용헤드 철거 | B55: 스프링클러헤드, 드라이펜던트형 72°C | C55: 개 | D55: 100 | F55: =TRUNC(E55*D55, 0) -> 0 | H55: =TRUNC(G55*D55, 0) -> 0 | J55: =TRUNC(I55*D55, 0) -> 0 | K55: =TRUNC(E55+G55+I55, 0) -> 0 | L55: =TRUNC(F55+H55+J55, 0) -> 0 | N55: 5D1EC40D7007E8650138D6C1CB755D | Q55: 010102 | R55: T | S55: F | T55: F | AU55: 0101025D1EC40D7007E8650138D6C1CB755D | AV55: 157
A56: 드라이밸브 철거 | B56: D150 | C56: 개 | D56: 1 | F56: =TRUNC(E56*D56, 0) -> 0 | H56: =TRUNC(G56*D56, 0) -> 0 | J56: =TRUNC(I56*D56, 0) -> 0 | K56: =TRUNC(E56+G56+I56, 0) -> 0 | L56: =TRUNC(F56+H56+J56, 0) -> 0 | N56: 5D1EC407D0073F0588337DB54559A9 | Q56: 010102 | R56: T | S56: F | T56: F | AU56: 0101025D1EC407D0073F0588337DB54559A9 | AV56: 159
Q57: 010102
Q58: 010102
Q59: 010102
Q60: 010102
Q61: 010102
Q62: 010102
Q63: 010102
Q64: 010102
Q65: 010102
Q66: 010102
Q67: 010102
Q68: 010102
... Q74: 010102
A75: [ 합 계 ] | F75: =SUMIF(Q53:Q74,"010102",F53:F74) -> 0 | H75: =SUMIF(Q53:Q74,"010102",H53:H74) -> 0 | J75: =SUMIF(Q53:Q74,"010102",J53:J74) -> 0 | L75: =SUMIF(Q53:Q74,"010102",L53:L74) -> 0 | N75: TOTAL

Sheet 공종별내역서(소방전기)
A1: [ 부천대 대학혁신지원사업 밀레니엄관 지하1층 리뉴얼 디자인 소방전기공사 ]
A2: 품 명 | B2: 규 격 | C2: 단위 | D2: 수량 | E2: 재 료 비 | G2: 노 무 비 | I2: 경 비 | K2: 합 계 | M2: 비 고 | N2: 품목코드 | O2: 변수 | P2: 설정 | Q2: 공종코드 | R2: 일위 | S2: 단산 | T2: 자재 | U2: 손료적용 | V2: 손료저장 | W2: 적용율 | X2: JUK1 | Y2: JUK2 | Z2: JUK3 | AA2: JUK4 | AB2: JUK5 | AC2: JUK6 | AD2: JUK7 | AE2: JUK8 | AF2: JUK9 | AG2: JUK10 | AH2: JUK11 | AI2: JUK12 | AJ2: JUK13 | AK2: JUK14 | AL2: JUK15 | AM2: JUK16 | AN2: JUK17 | AO2: JUK18 | AP2: JUK19 | AQ2: JUK20 | AR2: 자재구분 | AS2: 공종구분 | AT2: 공종레벨 | AU2: 공종+자재 | AV2: 고유번호
E3: 단 가 | F3: 금 액 | G3: 단 가 | H3: 금 액 | I3: 단 가 | J3: 금 액 | K3: 단 가 | L3: 금 액
A4: 자동화재탐지설비공사 | Q4: 010101
A5: 나사없는전선관-노출 | B5: E19 | C5: M | D5: 830 | F5: =TRUNC(E5*D5, 0) -> 0 | H5: =TRUNC(G5*D5, 0) -> 0 | J5: =TRUNC(I5*D5, 0) -> 0 | K5: =TRUNC(E5+G5+I5, 0) -> 0 | L5: =TRUNC(F5+H5+J5, 0) -> 0 | N5: 531A6229DA8F53D29C0DB46E001C30 | Q5: 010101 | R5: T | S5: F | T5: F | AU5: 010101531A6229DA8F53D29C0DB46E001C30 | AV5: 274
A6: 나사없는전선관-노출 | B6: E25 | C6: M | D6: 90 | F6: =TRUNC(E6*D6, 0) -> 0 | H6: =TRUNC(G6*D6, 0) -> 0 | J6: =TRUNC(I6*D6, 0) -> 0 | K6: =TRUNC(E6+G6+I6, 0) -> 0 | L6: =TRUNC(F6+H6+J6, 0) -> 0 | N6: 531A6229DA8F53D29C0DB46E001F85 | Q6: 010101 | R6: T | S6: F | T6: F | AU6: 010101531A6229DA8F53D29C0DB46E001F85 | AV6: 275
A7: 나사없는전선관-노출 | B7: E31 | C7: M | D7: 124 | F7: =TRUNC(E7*D7, 0) -> 0 | H7: =TRUNC(G7*D7, 0) -> 0 | J7: =TRUNC(I7*D7, 0) -> 0 | K7: =TRUNC(E7+G7+I7, 0) -> 0 | L7: =TRUNC(F7+H7+J7, 0) -> 0 | N7: 531A6229DA8F53D29C0DB46E001EFE | Q7: 010101 | R7: T | S7: F | T7: F | AU7: 010101531A6229DA8F53D29C0DB46E001EFE | AV7: 276
A8: 1종금속제가요전선관-노출 | B8: 16mm, 비방수 | C8: M | D8: 300 | F8: =TRUNC(E8*D8, 0) -> 0 | H8: =TRUNC(G8*D8, 0) -> 0 | J8: =TRUNC(I8*D8, 0) -> 0 | K8: =TRUNC(E8+G8+I8, 0) -> 0 | L8: =TRUNC(F8+H8+J8, 0) -> 0 | N8: 531A6259CC75C40790A733D3301E5B | Q8: 010101 | R8: T | S8: F | T8: F | AU8: 010101531A6259CC75C40790A733D3301E5B | AV8: 277
A9: 1종금속제가요전선관 | B9: 1종금속제가요전선관, 박스커넥터, 16mm, 비방수 | C9: 개 | D9: 388 | F9: =TRUNC(E9*D9, 0) -> 0 | H9: =TRUNC(G9*D9, 0) -> 0 | J9: =TRUNC(I9*D9, 0) -> 0 | K9: =TRUNC(E9+G9+I9, 0) -> 0 | L9: =TRUNC(F9+H9+J9, 0) -> 0 | N9: 5478E2093EC9EB399862E98F601102CE0F8818 | Q9: 010101 | R9: F | S9: F | T9: T | AU9: 0101015478E2093EC9EB399862E98F601102CE0F8818 | AV9: 278
A10: 450/75OV 저독성난연가교폴리올레핀절연전선(HFIX) | B10: 1.38㎜ | C10: M | D10: 4640 | F10: =TRUNC(E10*D10, 0) -> 0 | H10: =TRUNC(G10*D10, 0) -> 0 | J10: =TRUNC(I10*D10, 0) -> 0 | K10: =TRUNC(E10+G10+I10, 0) -> 0 | L10: =TRUNC(F10+H10+J10, 0) -> 0 | N10: 531A6259CC487C119422E10F201D10 | Q10: 010101 | R10: T | S10: F | T10: F | AU10: 010101531A6259CC487C119422E10F201D10 | AV10: 283
A11: 0.6/1kv 내화케이블(F-FR-8) | B11: 4C*2.5㎟ | C11: M | D11: 616 | F11: =TRUNC(E11*D11, 0) -> 0 | H11: =TRUNC(G11*D11, 0) -> 0 | J11: =TRUNC(I11*D11, 0) -> 0 | K11: =TRUNC(E11+G11+I11, 0) -> 0 | L11: =TRUNC(F11+H11+J11, 0) -> 0 | N11: 531A6259CC5AEECB9D49CB6D501398 | Q11: 010101 | R11: T | S11: F | T11: F | AU11: 010101531A6259CC5AEECB9D49CB6D501398 | AV11: 308
A12: 아우트렛박스-매입 | B12: 8각, 54mm | C12: 개 | D12: 163 | F12: =TRUNC(E12*D12, 0) -> 0 | H12: =TRUNC(G12*D12, 0) -> 0 | J12: =TRUNC(I12*D12, 0) -> 0 | K12: =TRUNC(E12+G12+I12, 0) -> 0 | L12: =TRUNC(F12+H12+J12, 0) -> 0 | N12: 520D32F92215D6CB990BA56C601155 | Q12: 010101 | R12: T | S12: F | T12: F | AU12: 010101520D32F92215D6CB990BA56C601155 | AV12: 285
A13: 아우트렛박스-매입 | B13: 중형 4각, 54㎜ | C13: 개 | D13: 37 | F13: =TRUNC(E13*D13, 0) -> 0 | H13: =TRUNC(G13*D13, 0) -> 0 | J13: =TRUNC(I13*D13, 0) -> 0 | K13: =TRUNC(E13+G13+I13, 0) -> 0 | L13: =TRUNC(F13+H13+J13, 0) -> 0 | N13: 520D32F92215D6CB990BA56C6016D7 | Q13: 010101 | R13: T | S13: F | T13: F | AU13: 010101520D32F92215D6CB990BA56C6016D7 | AV13: 286
A14: 아웃렛박스 | B14: 아웃렛박스, 커버, 8각, 평형 | C14: 개 | D14: 163 | F14: =TRUNC(E14*D14, 0) -> 0 | H14: =TRUNC(G14*D14, 0) -> 0 | J14: =TRUNC(I14*D14, 0) -> 0 | K14: =TRUNC(E14+G14+I14, 0) -> 0 | L14: =TRUNC(F14+H14+J14, 0) -> 0 | N14: 5478E2093EDA49CB90632EC950151450D03EA3 | Q14: 010101 | R14: F | S14: F | T14: T | AU14: 0101015478E2093EDA49CB90632EC950151450D03EA3 | AV14: 287
A15: 아웃렛박스 | B15: 아웃렛박스, 커버, 4각, 평 | C15: 개 | D15: 37 | F15: =TRUNC(E15*D15, 0) -> 0 | H15: =TRUNC(G15*D15, 0) -> 0 | J15: =TRUNC(I15*D15, 0) -> 0 | K15: =TRUNC(E15+G15+I15, 0) -> 0 | L15: =TRUNC(F15+H15+J15, 0) -> 0 | N15: 5478E2093EDA49CB90632EC950151450D03EA0 | Q15: 010101 | R15: F | S15: F | T15: T | AU15: 0101015478E2093EDA49CB90632EC950151450D03EA0 | AV15: 288
A16: 풀박스(천장면)-노출 | B16: 150*150*100mm | C16: 개 | D16: 8 | F16: =TRUNC(E16*D16, 0) -> 0 | H16: =TRUNC(G16*D16, 0) -> 0 | J16: =TRUNC(I16*D16, 0) -> 0 | K16: =TRUNC(E16+G16+I16, 0) -> 0 | L16: =TRUNC(F16+H16+J16, 0) -> 0 | N16: 531A6259CCF9207399F35443A014C7 | Q16: 010101 | R16: T | S16: F | T16: F | AU16: 010101531A6259CCF9207399F35443A014C7 | AV16: 289
... A24: 등기구 - 철거후 재설치 | B24: 평판 매입등 | C24: EA | D24: 65 | F24: =TRUNC(E24*D24, 0) -> 0 | H24: =TRUNC(G24*D24, 0) -> 0 | J24: =TRUNC(I24*D24, 0) -> 0 | K24: =TRUNC(E24+G24+I24, 0) -> 0 | L24: =TRUNC(F24+H24+J24, 0) -> 0 | N24: 531A6259CCF920509BF5066D301775 | Q24: 010101 | R24: T | S24: F | T24: F | AU24: 010101531A6259CCF920509BF5066D301775 | AV24: 301
A25: 기존 덕트 철거 | C25: M | D25: 20 | F25: =TRUNC(E25*D25, 0) -> 0 | H25: =TRUNC(G25*D25, 0) -> 0 | J25: =TRUNC(I25*D25, 0) -> 0 | K25: =TRUNC(E25+G25+I25, 0) -> 0 | L25: =TRUNC(F25+H25+J25, 0) -> 0 | N25: 520D32F9226DF6419DBA2D03A01BB2 | Q25: 010101 | R25: T | S25: F | T25: F | AU25: 010101520D32F9226DF6419DBA2D03A01BB2 | AV25: 303
A26: 방화샷타 제어반 | B26: 신설 | C26: 대 | D26: 1 | F26: =TRUNC(E26*D26, 0) -> 0 | H26: =TRUNC(G26*D26, 0) -> 0 | J26: =TRUNC(I26*D26, 0) -> 0 | K26: =TRUNC(E26+G26+I26, 0) -> 0 | L26: =TRUNC(F26+H26+J26, 0) -> 0 | N26: 531A6259F9E8F62796F75D3F001C78 | Q26: 010101 | R26: T | S26: F | T26: F | AU26: 010101531A6259F9E8F62796F75D3F001C78 | AV26: 307
A27: 방화샷타 제어반 | B27: 철거 | C27: 대 | D27: 1 | F27: =TRUNC(E27*D27, 0) -> 0 | H27: =TRUNC(G27*D27, 0) -> 0 | J27: =TRUNC(I27*D27, 0) -> 0 | K27: =TRUNC(E27+G27+I27, 0) -> 0 | L27: =TRUNC(F27+H27+J27, 0) -> 0 | N27: 531A6259F9E8F62796F75D3F001C7A | Q27: 010101 | R27: T | S27: F | T27: F | AU27: 010101531A6259F9E8F62796F75D3F001C7A | AV27: 306
A28: 시각경보기 | C28: 개 | D28: 2 | F28: =TRUNC(E28*D28, 0) -> 0 | H28: =TRUNC(G28*D28, 0) -> 0 | J28: =TRUNC(I28*D28, 0) -> 0 | K28: =TRUNC(E28+G28+I28, 0) -> 0 | L28: =TRUNC(F28+H28+J28, 0) -> 0 | N28: 531AA28989B73A3A9E2FF7ACF01E1D | Q28: 010101 | R28: T | S28: F | T28: F | AU28: 010101531AA28989B73A3A9E2FF7ACF01E1D | AV28: 327
A29: 시각경보기용 전원반 | C29: 개 | D29: 1 | F29: =TRUNC(E29*D29, 0) -> 0 | H29: =TRUNC(G29*D29, 0) -> 0 | J29: =TRUNC(I29*D29, 0) -> 0 | K29: =TRUNC(E29+G29+I29, 0) -> 0 | L29: =TRUNC(F29+H29+J29, 0) -> 0 | N29: 531AA28989B73A2897061C95201CE0 | Q29: 010101 | R29: T | S29: F | T29: F | AU29: 010101531AA28989B73A2897061C95201CE0 | AV29: 328
Q30: 010101
Q32: 010101
Q33: 010101
Q34: 010101
Q35: 010101
Q36: 010101
Q37: 010101
Q38: 010101
Q39: 010101
Q40: 010101
Q41: 010101
Q42: 010101
... Q54: 010101
A55: [ 합 계 ] | F55: =SUMIF(Q5:Q54,"010101",F5:F54) -> 0 | H55: =SUMIF(Q5:Q54,"010101",H5:H54) -> 0 | J55: =SUMIF(Q5:Q54,"010101",J5:J54) -> 0 | L55: =SUMIF(Q5:Q54,"010101",L5:L54) -> 0 | N55: TOTAL
A56: 유도등설비공사 | Q56: 010102
A57: 나사없는전선관-노출 | B57: E19 | C57: M | D57: 444 | F57: =TRUNC(E57*D57, 0) -> 0 | H57: =TRUNC(G57*D57, 0) -> 0 | J57: =TRUNC(I57*D57, 0) -> 0 | K57: =TRUNC(E57+G57+I57, 0) -> 0 | L57: =TRUNC(F57+H57+J57, 0) -> 0 | N57: 531A6229DA8F53D29C0DB46E001C30 | Q57: 010102 | R57: T | S57: F | T57: F | AU57: 010102531A6229DA8F53D29C0DB46E001C30 | AV57: 239
A58: 1종금속제가요전선관-노출 | B58: 16mm, 비방수 | C58: M | D58: 105 | F58: =TRUNC(E58*D58, 0) -> 0 | H58: =TRUNC(G58*D58, 0) -> 0 | J58: =TRUNC(I58*D58, 0) -> 0 | K58: =TRUNC(E58+G58+I58, 0) -> 0 | L58: =TRUNC(F58+H58+J58, 0) -> 0 | N58: 531A6259CC75C40790A733D3301E5B | Q58: 010102 | R58: T | S58: F | T58: F | AU58: 010102531A6259CC75C40790A733D3301E5B | AV58: 242
A59: 1종금속제가요전선관 | B59: 1종금속제가요전선관, 박스커넥터, 16mm, 비방수 | C59: 개 | D59: 140 | F59: =TRUNC(E59*D59, 0) -> 0 | H59: =TRUNC(G59*D59, 0) -> 0 | J59: =TRUNC(I59*D59, 0) -> 0 | K59: =TRUNC(E59+G59+I59, 0) -> 0 | L59: =TRUNC(F59+H59+J59, 0) -> 0 | N59: 5478E2093EC9EB399862E98F601102CE0F8818 | Q59: 010102 | R59: F | S59: F | T59: T | AU59: 0101025478E2093EC9EB399862E98F601102CE0F8818 | AV59: 243
A60: 450/75OV 저독성난연가교폴리올레핀절연전선(HFIX) | B60: 2.5㎟ | C60: M | D60: 1098 | F60: =TRUNC(E60*D60, 0) -> 0 | H60: =TRUNC(G60*D60, 0) -> 0 | J60: =TRUNC(I60*D60, 0) -> 0 | K60: =TRUNC(E60+G60+I60, 0) -> 0 | L60: =TRUNC(F60+H60+J60, 0) -> 0 | N60: 531A6259CC487C119422E10F2018AE | Q60: 010102 | R60: T | S60: F | T60: F | AU60: 010102531A6259CC487C119422E10F2018AE | AV60: 249
A61: 아우트렛박스-매입 | B61: 8각, 54mm | C61: 개 | D61: 42 | F61: =TRUNC(E61*D61, 0) -> 0 | H61: =TRUNC(G61*D61, 0) -> 0 | J61: =TRUNC(I61*D61, 0) -> 0 | K61: =TRUNC(E61+G61+I61, 0) -> 0 | L61: =TRUNC(F61+H61+J61, 0) -> 0 | N61: 520D32F92215D6CB990BA56C601155 | Q61: 010102 | R61: T | S61: F | T61: F | AU61: 010102520D32F92215D6CB990BA56C601155 | AV61: 250
A62: 아우트렛박스-매입 | B62: 중형 4각, 54㎜ | C62: 개 | D62: 35 | F62: =TRUNC(E62*D62, 0) -> 0 | H62: =TRUNC(G62*D62, 0) -> 0 | J62: =TRUNC(I62*D62, 0) -> 0 | K62: =TRUNC(E62+G62+I62, 0) -> 0 | L62: =TRUNC(F62+H62+J62, 0) -> 0 | N62: 520D32F92215D6CB990BA56C6016D7 | Q62: 010102 | R62: T | S62: F | T62: F | AU62: 010102520D32F92215D6CB990BA56C6016D7 | AV62: 251
A63: 아웃렛박스 | B63: 아웃렛박스, 커버, 8각, 평형 | C63: 개 | D63: 42 | F63: =TRUNC(E63*D63, 0) -> 0 | H63: =TRUNC(G63*D63, 0) -> 0 | J63: =TRUNC(I63*D63, 0) -> 0 | K63: =TRUNC(E63+G63+I63, 0) -> 0 | L63: =TRUNC(F63+H63+J63, 0) -> 0 | N63: 5478E2093EDA49CB90632EC950151450D03EA3 | Q63: 010102 | R63: F | S63: F | T63: T | AU63: 0101025478E2093EDA49CB90632EC950151450D03EA3 | AV63: 252
A64: 아웃렛박스 | B64: 아웃렛박스, 커버, 4각, 평 | C64: 개 | D64: 35 | F64: =TRUNC(E64*D64, 0) -> 0 | H64: =TRUNC(G64*D64, 0) -> 0 | J64: =TRUNC(I64*D64, 0) -> 0 | K64: =TRUNC(E64+G64+I64, 0) -> 0 | L64: =TRUNC(F64+H64+J64, 0) -> 0 | N64: 5478E2093EDA49CB90632EC950151450D03EA0 | Q64: 010102 | R64: F | S64: F | T64: T | AU64: 0101025478E2093EDA49CB90632EC950151450D03EA0 | AV64: 253
A65: 피난구 유도등(고휘도-LED) | B65: 중형(단면) 60분용 | C65: 개 | D65: 49 | F65: =TRUNC(E65*D65, 0) -> 0 | H65: =TRUNC(G65*D65, 0) -> 0 | J65: =TRUNC(I65*D65, 0) -> 0 | K65: =TRUNC(E65+G65+I65, 0) -> 0 | L65: =TRUNC(F65+H65+J65, 0) -> 0 | N65: 531A6259F9E8F62796F134B8301A52 | Q65: 010102 | R65: T | S65: F | T65: F | AU65: 010102531A6259F9E8F62796F134B8301A52 | AV65: 258
A66: 음성점멸 유도등 | B66: 음성점멸 유도등 | C66: 개 | D66: 10 | F66: =TRUNC(E66*D66, 0) -> 0 | H66: =TRUNC(G66*D66, 0) -> 0 | J66: =TRUNC(I66*D66, 0) -> 0 | K66: =TRUNC(E66+G66+I66, 0) -> 0 | L66: =TRUNC(F66+H66+J66, 0) -> 0 | N66: 531A6259F9E8F62796F134B8301A51 | Q66: 010102 | R66: T | S66: F | T66: F | AU66: 010102531A6259F9E8F62796F134B8301A51 | AV66: 329
A67: 거실통로유도등(고휘도-LED) | B67: 천장양면 | C67: 개 | D67: 16 | F67: =TRUNC(E67*D67, 0) -> 0 | H67: =TRUNC(G67*D67, 0) -> 0 | J67: =TRUNC(I67*D67, 0) -> 0 | K67: =TRUNC(E67+G67+I67, 0) -> 0 | L67: =TRUNC(F67+H67+J67, 0) -> 0 | N67: 531A6259F9E8F62796F134B830106F | Q67: 010102 | R67: T | S67: F | T67: F | AU67: 010102531A6259F9E8F62796F134B830106F | AV67: 260
A68: 피난구 유도등 철거 | C68: 개 | D68: 23 | F68: =TRUNC(E68*D68, 0) -> 0 | H68: =TRUNC(G68*D68, 0) -> 0 | J68: =TRUNC(I68*D68, 0) -> 0 | K68: =TRUNC(E68+G68+I68, 0) -> 0 | L68: =TRUNC(F68+H68+J68, 0) -> 0 | N68: 531A6259F9E8F62796F134B8301A50 | Q68: 010102 | R68: T | S68: F | T68: F | AU68: 010102531A6259F9E8F62796F134B8301A50 | AV68: 310
A69: 전선관지지행거(단독) | B69: 16C | C69: 개소 | D69: 221 | F69: =TRUNC(E69*D69, 0) -> 0 | H69: =TRUNC(G69*D69, 0) -> 0 | J69: =TRUNC(I69*D69, 0) -> 0 | K69: =TRUNC(E69+G69+I69, 0) -> 0 | L69: =TRUNC(F69+H69+J69, 0) -> 0 | N69: 531A6259CC75C4DC98F67C1C20110A | Q69: 010102 | R69: T | S69: F | T69: F | AU69: 010102531A6259CC75C4DC98F67C1C20110A | AV69: 296
A70: 배관용 구멍뚫기(코어드릴)-Con,c | B70: 두께 30cm 이하 ∮25mm, 벽 | C70: 개소 | D70: 6 | F70: =TRUNC(E70*D70, 0) -> 0 | H70: =TRUNC(G70*D70, 0) -> 0 | J70: =TRUNC(I70*D70, 0) -> 0 | K70: =TRUNC(E70+G70+I70, 0) -> 0 | L70: =TRUNC(F70+H70+J70, 0) -> 0 | N70: 531A6229F5EA7BB89B13C95C701AC8 | Q70: 010102 | R70: T | S70: F | T70: F | AU70: 010102531A6229F5EA7BB89B13C95C701AC8 | AV70: 297
A71: 배관용 홈파기 | B71: ∮22mm 이하용 | C71: M | D71: 4 | F71: =TRUNC(E71*D71, 0) -> 0 | H71: =TRUNC(G71*D71, 0) -> 0 | J71: =TRUNC(I71*D71, 0) -> 0 | K71: =TRUNC(E71+G71+I71, 0) -> 0 | L71: =TRUNC(F71+H71+J71, 0) -> 0 | N71: 531A6229F5EA7B9D9DB619478012CE | Q71: 010102 | R71: T | S71: F | T71: F | AU71: 010102531A6229F5EA7B9D9DB619478012CE | AV71: 311
Q72: 010102
Q73: 010102
Q74: 010102
Q75: 010102
Q76: 010102
Q77: 010102
Q78: 010102
Q79: 010102
Q80: 010102
A81: [ 합 계 ] | F81: =SUMIF(Q57:Q80,"010102",F57:F80) -> 0 | H81: =SUMIF(Q57:Q80,"010102",H57:H80) -> 0 | J81: =SUMIF(Q57:Q80,"010102",J57:J80) -> 0 | L81: =SUMIF(Q57:Q80,"010102",L57:L80) -> 0 | N81: TOTAL
A82: 비상방송설비공사 | Q82: 010103
A83: 나사없는전선관-노출 | B83: E19 | C83: M | D83: 443 | F83: =TRUNC(E83*D83, 0) -> 0 | H83: =TRUNC(G83*D83, 0) -> 0 | J83: =TRUNC(I83*D83, 0) -> 0 | K83: =TRUNC(E83+G83+I83, 0) -> 0 | L83: =TRUNC(F83+H83+J83, 0) -> 0 | N83: 531A6229DA8F53D29C0DB46E001C30 | Q83: 010103 | R83: T | S83: F | T83: F | AU83: 010103531A6229DA8F53D29C0DB46E001C30 | AV83: 266
A84: 1종금속제가요전선관-노출 | B84: 16mm, 비방수 | C84: M | D84: 104 | F84: =TRUNC(E84*D84, 0) -> 0 | H84: =TRUNC(G84*D84, 0) -> 0 | J84: =TRUNC(I84*D84, 0) -> 0 | K84: =TRUNC(E84+G84+I84, 0) -> 0 | L84: =TRUNC(F84+H84+J84, 0) -> 0 | N84: 531A6259CC75C40790A733D3301E5B | Q84: 010103 | R84: T | S84: F | T84: F | AU84: 010103531A6259CC75C40790A733D3301E5B | AV84: 267
A85: 1종금속제가요전선관 | B85: 1종금속제가요전선관, 박스커넥터, 16mm, 비방수 | C85: 개 | D85: 140 | F85: =TRUNC(E85*D85, 0) -> 0 | H85: =TRUNC(G85*D85, 0) -> 0 | J85: =TRUNC(I85*D85, 0) -> 0 | K85: =TRUNC(E85+G85+I85, 0) -> 0 | L85: =TRUNC(F85+H85+J85, 0) -> 0 | N85: 5478E2093EC9EB399862E98F601102CE0F8818 | Q85: 010103 | R85: F | S85: F | T85: T | AU85: 0101035478E2093EC9EB399862E98F601102CE0F8818 | AV85: 268
A86: 450/75OV 저독성난연가교폴리올레핀절연전선(HFIX) | B86: 1.38㎜ | C86: M | D86: 1093 | F86: =TRUNC(E86*D86, 0) -> 0 | H86: =TRUNC(G86*D86, 0) -> 0 | J86: =TRUNC(I86*D86, 0) -> 0 | K86: =TRUNC(E86+G86+I86, 0) -> 0 | L86: =TRUNC(F86+H86+J86, 0) -> 0 | N86: 531A6259CC487C119422E10F201D10 | Q86: 010103 | R86: T | S86: F | T86: F | AU86: 010103531A6259CC487C119422E10F201D10 | AV86: 269
A87: 아우트렛박스-매입 | B87: 중형 4각, 54㎜ | C87: 개 | D87: 68 | F87: =TRUNC(E87*D87, 0) -> 0 | H87: =TRUNC(G87*D87, 0) -> 0 | J87: =TRUNC(I87*D87, 0) -> 0 | K87: =TRUNC(E87+G87+I87, 0) -> 0 | L87: =TRUNC(F87+H87+J87, 0) -> 0 | N87: 520D32F92215D6CB990BA56C6016D7 | Q87: 010103 | R87: T | S87: F | T87: F | AU87: 010103520D32F92215D6CB990BA56C6016D7 | AV87: 270
A88: 아웃렛박스 | B88: 아웃렛박스, 커버, 4각, 평 | C88: 개 | D88: 68 | F88: =TRUNC(E88*D88, 0) -> 0 | H88: =TRUNC(G88*D88, 0) -> 0 | J88: =TRUNC(I88*D88, 0) -> 0 | K88: =TRUNC(E88+G88+I88, 0) -> 0 | L88: =TRUNC(F88+H88+J88, 0) -> 0 | N88: 5478E2093EDA49CB90632EC950151450D03EA0 | Q88: 010103 | R88: F | S88: F | T88: T | AU88: 0101035478E2093EDA49CB90632EC950151450D03EA0 | AV88: 271
A89: 스피커 | B89: 천정형 3W | C89: 개 | D89: 62 | F89: =TRUNC(E89*D89, 0) -> 0 | H89: =TRUNC(G89*D89, 0) -> 0 | J89: =TRUNC(I89*D89, 0) -> 0 | K89: =TRUNC(E89+G89+I89, 0) -> 0 | L89: =TRUNC(F89+H89+J89, 0) -> 0 | N89: 531A62299C6F5F0E9FA6D35EA01310 | Q89: 010103 | R89: T | S89: F | T89: F | AU89: 010103531A62299C6F5F0E9FA6D35EA01310 | AV89: 312
A90: 스피커 - 철거 | B90: 천정형 | C90: 개 | D90: 4 | F90: =TRUNC(E90*D90, 0) -> 0 | H90: =TRUNC(G90*D90, 0) -> 0 | J90: =TRUNC(I90*D90, 0) -> 0 | K90: =TRUNC(E90+G90+I90, 0) -> 0 | L90: =TRUNC(F90+H90+J90, 0) -> 0 | N90: 531AA28989B729B9954EE2FA601B9F | Q90: 010103 | R90: T | S90: F | T90: F | AU90: 010103531AA28989B729B9954EE2FA601B9F | AV90: 314
A91: 전선관지지행거(단독) | B91: 16C | C91: 개소 | D91: 221 | F91: =TRUNC(E91*D91, 0) -> 0 | H91: =TRUNC(G91*D91, 0) -> 0 | J91: =TRUNC(I91*D91, 0) -> 0 | K91: =TRUNC(E91+G91+I91, 0) -> 0 | L91: =TRUNC(F91+H91+J91, 0) -> 0 | N91: 531A6259CC75C4DC98F67C1C20110A | Q91: 010103 | R91: T | S91: F | T91: F | AU91: 010103531A6259CC75C4DC98F67C1C20110A | AV91: 272
A92: 배관용 구멍뚫기(코어드릴)-Con,c | B92: 두께 30cm 이하 ∮25mm, 벽 | C92: 개소 | D92: 14 | F92: =TRUNC(E92*D92, 0) -> 0 | H92: =TRUNC(G92*D92, 0) -> 0 | J92: =TRUNC(I92*D92, 0) -> 0 | K92: =TRUNC(E92+G92+I92, 0) -> 0 | L92: =TRUNC(F92+H92+J92, 0) -> 0 | N92: 531A6229F5EA7BB89B13C95C701AC8 | Q92: 010103 | R92: T | S92: F | T92: F | AU92: 010103531A6229F5EA7BB89B13C95C701AC8 | AV92: 273
Q93: 010103
Q94: 010103
Q95: 010103
Q96: 010103
Q97: 010103
Q98: 010103
Q99: 010103
Q100: 010103
Q101: 010103
Q102: 010103
Q103: 010103
Q104: 010103
... Q106: 010103
A107: [ 합 계 ] | F107: =SUMIF(Q83:Q106,"010103",F83:F106) -> 0 | H107: =SUMIF(Q83:Q106,"010103",H83:H106) -> 0 | J107: =SUMIF(Q83:Q106,"010103",J83:J106) -> 0 | L107: =SUMIF(Q83:Q106,"010103",L83:L106) -> 0 | N107: TOTAL
A108: 비상조명등설비공사 | Q108: 010104
A109: 나사없는전선관-노출 | B109: E19 | C109: M | D109: 567 | F109: =TRUNC(E109*D109, 0) -> 0 | H109: =TRUNC(G109*D109, 0) -> 0 | J109: =TRUNC(I109*D109, 0) -> 0 | K109: =TRUNC(E109+G109+I109, 0) -> 0 | L109: =TRUNC(F109+H109+J109, 0) -> 0 | N109: 531A6229DA8F53D29C0DB46E001C30 | Q109: 010104 | R109: T | S109: F | T109: F | AU109: 010104531A6229DA8F53D29C0DB46E001C30 | AV109: 217
A110: 1종금속제가요전선관-노출 | B110: 16mm, 비방수 | C110: M | D110: 125 | F110: =TRUNC(E110*D110, 0) -> 0 | H110: =TRUNC(G110*D110, 0) -> 0 | J110: =TRUNC(I110*D110, 0) -> 0 | K110: =TRUNC(E110+G110+I110, 0) -> 0 | L110: =TRUNC(F110+H110+J110, 0) -> 0 | N110: 531A6259CC75C40790A733D3301E5B | Q110: 010104 | R110: T | S110: F | T110: F | AU110: 010104531A6259CC75C40790A733D3301E5B | AV110: 220
A111: 1종금속제가요전선관 | B111: 1종금속제가요전선관, 박스커넥터, 16mm, 비방수 | C111: 개 | D111: 168 | F111: =TRUNC(E111*D111, 0) -> 0 | H111: =TRUNC(G111*D111, 0) -> 0 | J111: =TRUNC(I111*D111, 0) -> 0 | K111: =TRUNC(E111+G111+I111, 0) -> 0 | L111: =TRUNC(F111+H111+J111, 0) -> 0 | N111: 5478E2093EC9EB399862E98F601102CE0F8818 | Q111: 010104 | R111: F | S111: F | T111: T | AU111: 0101045478E2093EC9EB399862E98F601102CE0F8818 | AV111: 221
A112: 450/75OV 저독성난연가교폴리올레핀절연전선(HFIX) | B112: 2.5㎟ | C112: M | D112: 1383 | F112: =TRUNC(E112*D112, 0) -> 0 | H112: =TRUNC(G112*D112, 0) -> 0 | J112: =TRUNC(I112*D112, 0) -> 0 | K112: =TRUNC(E112+G112+I112, 0) -> 0 | L112: =TRUNC(F112+H112+J112, 0) -> 0 | N112: 531A6259CC487C119422E10F2018AE | Q112: 010104 | R112: T | S112: F | T112: F | AU112: 010104531A6259CC487C119422E10F2018AE | AV112: 227
A113: 난연 비닐절연접지용전선(F-GV)-관내 | B113: 0.6/1kv, 2.5㎟ | C113: M | D113: 692 | F113: =TRUNC(E113*D113, 0) -> 0 | H113: =TRUNC(G113*D113, 0) -> 0 | J113: =TRUNC(I113*D113, 0) -> 0 | K113: =TRUNC(E113+G113+I113, 0) -> 0 | L113: =TRUNC(F113+H113+J113, 0) -> 0 | N113: 531A6259CC487C3C93650455E0170B | Q113: 010104 | R113: T | S113: F | T113: F | AU113: 010104531A6259CC487C3C93650455E0170B | AV113: 262
A114: 아우트렛박스-매입 | B114: 중형 4각, 54㎜ | C114: 개 | D114: 85 | F114: =TRUNC(E114*D114, 0) -> 0 | H114: =TRUNC(G114*D114, 0) -> 0 | J114: =TRUNC(I114*D114, 0) -> 0 | K114: =TRUNC(E114+G114+I114, 0) -> 0 | L114: =TRUNC(F114+H114+J114, 0) -> 0 | N114: 520D32F92215D6CB990BA56C6016D7 | Q114: 010104 | R114: T | S114: F | T114: F | AU114: 010104520D32F92215D6CB990BA56C6016D7 | AV114: 229
A115: 아웃렛박스 | B115: 아웃렛박스, 커버, 4각, 평 | C115: 개 | D115: 85 | F115: =TRUNC(E115*D115, 0) -> 0 | H115: =TRUNC(G115*D115, 0) -> 0 | J115: =TRUNC(I115*D115, 0) -> 0 | K115: =TRUNC(E115+G115+I115, 0) -> 0 | L115: =TRUNC(F115+H115+J115, 0) -> 0 | N115: 5478E2093EDA49CB90632EC950151450D03EA0 | Q115: 010104 | R115: F | S115: F | T115: T | AU115: 0101045478E2093EDA49CB90632EC950151450D03EA0 | AV115: 231
A116: 비상조명등 | C116: 개 | D116: 82 | F116: =TRUNC(E116*D116, 0) -> 0 | H116: =TRUNC(G116*D116, 0) -> 0 | J116: =TRUNC(I116*D116, 0) -> 0 | K116: =TRUNC(E116+G116+I116, 0) -> 0 | L116: =TRUNC(F116+H116+J116, 0) -> 0 | N116: 531AA28989A6BADB998C269E401F52 | Q116: 010104 | R116: T | S116: F | T116: F | AU116: 010104531AA28989A6BADB998C269E401F52 | AV116: 264
A117: 비상조명등 철거 | C117: 개 | D117: 2 | F117: =TRUNC(E117*D117, 0) -> 0 | H117: =TRUNC(G117*D117, 0) -> 0 | J117: =TRUNC(I117*D117, 0) -> 0 | K117: =TRUNC(E117+G117+I117, 0) -> 0 | L117: =TRUNC(F117+H117+J117, 0) -> 0 | N117: 531AA28989A6BADB998C269E401F53 | Q117: 010104 | R117: T | S117: F | T117: F | AU117: 010104531AA28989A6BADB998C269E401F53 | AV117: 316
A118: 전선관지지행거(단독) | B118: 16C | C118: 개소 | D118: 285 | F118: =TRUNC(E118*D118, 0) -> 0 | H118: =TRUNC(G118*D118, 0) -> 0 | J118: =TRUNC(I118*D118, 0) -> 0 | K118: =TRUNC(E118+G118+I118, 0) -> 0 | L118: =TRUNC(F118+H118+J118, 0) -> 0 | N118: 531A6259CC75C4DC98F67C1C20110A | Q118: 010104 | R118: T | S118: F | T118: F | AU118: 010104531A6259CC75C4DC98F67C1C20110A | AV118: 263
A119: 배관용 구멍뚫기(코어드릴)-Con,c | B119: 두께 30cm 이하 ∮25mm, 벽 | C119: 개소 | D119: 13 | F119: =TRUNC(E119*D119, 0) -> 0 | H119: =TRUNC(G119*D119, 0) -> 0 | J119: =TRUNC(I119*D119, 0) -> 0 | K119: =TRUNC(E119+G119+I119, 0) -> 0 | L119: =TRUNC(F119+H119+J119, 0) -> 0 | N119: 531A6229F5EA7BB89B13C95C701AC8 | Q119: 010104 | R119: T | S119: F | T119: F | AU119: 010104531A6229F5EA7BB89B13C95C701AC8 | AV119: 265
Q120: 010104
...

Sheet 공량설정_일위대가(소방기계)
A1: 일위대가 | B1: 적용율(%) | C1: 소수점이하자릿수 | D1: 일위대가 코드
A2: 강관배관 D25 (호표 1) | B2: ='원가계산서(소방기계+소방전기)'!J2 -> 50 | D2: 5D1E64EBE007BB90863E379EDC09B3
A3: 배관공 | C3: 4 | D3: 5D1E64EBE007BB90863E379EDC09B35D0F042C7007771E963950785E6ACEED8CE18C
A4: 보통인부 | C4: 4 | D4: 5D1E64EBE007BB90863E379EDC09B35D0F042C7007771E963950785E6ACEED8CE2AE
A5: 강관배관 D32 (호표 2) | B5: =$B$2 -> 50 | D5: 5D1E64EBE007BB90863E379EDC0E35
A6: 배관공 | C6: 4 | D6: 5D1E64EBE007BB90863E379EDC0E355D0F042C7007771E963950785E6ACEED8CE18C
A7: 보통인부 | C7: 4 | D7: 5D1E64EBE007BB90863E379EDC0E355D0F042C7007771E963950785E6ACEED8CE2AE
A8: 강관배관 D40 (호표 3) | B8: =$B$2 -> 50 | D8: 5D1E64EBE007BB90863E379EDC0FDB
A9: 배관공 | C9: 4 | D9: 5D1E64EBE007BB90863E379EDC0FDB5D0F042C7007771E963950785E6ACEED8CE18C
A10: 보통인부 | C10: 4 | D10: 5D1E64EBE007BB90863E379EDC0FDB5D0F042C7007771E963950785E6ACEED8CE2AE
A11: 강관배관 D50 (호표 4) | B11: =$B$2 -> 50 | D11: 5D1E64EBE007BB90863E379EDC0C07
A12: 배관공 | C12: 3 | D12: 5D1E64EBE007BB90863E379EDC0C075D0F042C7007771E963950785E6ACEED8CE18C
A13: 보통인부 | C13: 3 | D13: 5D1E64EBE007BB90863E379EDC0C075D0F042C7007771E963950785E6ACEED8CE2AE
A14: 강관전기아크용접 D65 (호표 5) | B14: =$B$2 -> 50 | D14: 5D1E54B55007B82A57373D121A7EA3
A15: 용접공 | C15: 3 | D15: 5D1E54B55007B82A57373D121A7EA35D0F042C7007771E963950785E6ACEED8CE3B1
A16: 강관전기아크용접 D100 (호표 6) | B16: =$B$2 -> 50 | D16: 5D1E54B660072F49C934B363AC1488
A17: 용접공 | C17: 3 | D17: 5D1E54B660072F49C934B363AC14885D0F042C7007771E963950785E6ACEED8CE3B1
A18: 소방용헤드 스프링클러헤드, (폐쇄하향)72°C (호표 7) | B18: =$B$2 -> 50 | D18: 5D1EC40D7007E8650138D6C1CB74B1
A19: 배관공 | C19: 3 | D19: 5D1EC40D7007E8650138D6C1CB74B15D0F042C7007771E963950785E6ACEED8CE18C
A20: 보통인부 | C20: 3 | D20: 5D1EC40D7007E8650138D6C1CB74B15D0F042C7007771E963950785E6ACEED8CE2AE
A21: 소방용헤드 스프링클러헤드, (폐쇄상향)72°C (호표 8) | B21: =$B$2 -> 50 | D21: 5D1EC40D7007E854AC3D48AAED3D3B
A22: 배관공 | C22: 3 | D22: 5D1EC40D7007E854AC3D48AAED3D3B5D0F042C7007771E963950785E6ACEED8CE18C
A23: 보통인부 | C23: 3 | D23: 5D1EC40D7007E854AC3D48AAED3D3B5D0F042C7007771E963950785E6ACEED8CE2AE
A24: 소방용헤드 스프링클러헤드, 드라이펜던츠형 72°C (호표 9) | B24: =$B$2 -> 50 | D24: 5D1EC40D7007E8650138D6C1CB74B5
A25: 배관공 | C25: 3 | D25: 5D1EC40D7007E8650138D6C1CB74B55D0F042C7007771E963950785E6ACEED8CE18C
A26: 보통인부 | C26: 3 | D26: 5D1EC40D7007E8650138D6C1CB74B55D0F042C7007771E963950785E6ACEED8CE2AE
A27: 스프링쿨러헤드 신축배관설치 신축배관(보온) 2M (호표 10) | B27: =$B$2 -> 50 | D27: 5D1EC40D7007E8F4C534279F0A4A3B
A28: 배관공 | C28: 3 | D28: 5D1EC40D7007E8F4C534279F0A4A3B5D0F042C7007771E963950785E6ACEED8CE18C
A29: 보통인부 | C29: 3 | D29: 5D1EC40D7007E8F4C534279F0A4A3B5D0F042C7007771E963950785E6ACEED8CE2AE
A30: 준비자동식밸드 설치 D100 (호표 11) | B30: =$B$2 -> 50 | D30: 5D1ED41AF007B77E3038AA15E09BB9
A31: 배관공 | C31: 2 | D31: 5D1ED41AF007B77E3038AA15E09BB95D0F042C7007771E963950785E6ACEED8CE18C
A32: 방수구 이전설치 65mm (호표 12) | B32: =$B$2 -> 50 | D32: 5D1ED41AF007D255FC39446100B47B
A33: 배관공 | C33: 4 | D33: 5D1ED41AF007D255FC39446100B47B5D0F042C7007771E963950785E6ACEED8CE18C
A34: 소방용헤드 철거 스프링클러헤드, (폐쇄상향)72°C (호표 13) | B34: =$B$2 -> 50 | D34: 5D1EC40D7007E854AC3D48AAED3D3A
A35: 배관공 | C35: 3 | D35: 5D1EC40D7007E854AC3D48AAED3D3A5D0F042C7007771E963950785E6ACEED8CE18C
A36: 보통인부 | C36: 4 | D36: 5D1EC40D7007E854AC3D48AAED3D3A5D0F042C7007771E963950785E6ACEED8CE2AE
A37: 소방용헤드 철거 스프링클러헤드, (폐쇄하향)72°C (호표 14) | B37: =$B$2 -> 50 | D37: 5D1EC40D7007E8650138D6C1CB74B0
A38: 배관공 | C38: 3 | D38: 5D1EC40D7007E8650138D6C1CB74B05D0F042C7007771E963950785E6ACEED8CE18C
A39: 보통인부 | C39: 4 | D39: 5D1EC40D7007E8650138D6C1CB74B05D0F042C7007771E963950785E6ACEED8CE2AE
A40: 소방용헤드 철거 스프링클러헤드, 드라이펜던트형 72°C (호표 15) | B40: =$B$2 -> 50 | D40: 5D1EC40D7007E8650138D6C1CB755D
A41: 배관공 | C41: 3 | D41: 5D1EC40D7007E8650138D6C1CB755D5D0F042C7007771E963950785E6ACEED8CE18C
A42: 보통인부 | C42: 4 | D42: 5D1EC40D7007E8650138D6C1CB755D5D0F042C7007771E963950785E6ACEED8CE2AE
A43: 드라이밸브 철거 D150 (호표 16) | B43: =$B$2 -> 50 | D43: 5D1EC407D0073F0588337DB54559A9
A44: 배관공 | C44: 2 | D44: 5D1EC407D0073F0588337DB54559A95D0F042C7007771E963950785E6ACEED8CE18C
A45: 보통인부 | C45: 3 | D45: 5D1EC407D0073F0588337DB54559A95D0F042C7007771E963950785E6ACEED8CE2AE

Sheet 공량설정_일위대가(소방전기)
A1: 일위대가 | B1: 적용율(%) | C1: 소수점이하자릿수 | D1: 일위대가 코드
A2: 나사없는전선관-노출 E19 (호표 1) | B2: ='공량설정_일위대가(소방기계)'!B2 -> 50 | D2: 531A6229DA8F53D29C0DB46E001C30
A3: 내선전공 | C3: 2 | D3: 531A6229DA8F53D29C0DB46E001C30538022A9CA46349790E36E2FA0192AB4F3238D
A4: 나사없는전선관-노출 E25 (호표 2) | B4: =$B$2 -> 50 | D4: 531A6229DA8F53D29C0DB46E001F85
A5: 내선전공 | C5: 3 | D5: 531A6229DA8F53D29C0DB46E001F85538022A9CA46349790E36E2FA0192AB4F3238D
A6: 나사없는전선관-노출 E31 (호표 3) | B6: =$B$2 -> 50 | D6: 531A6229DA8F53D29C0DB46E001EFE
A7: 내선전공 | C7: 3 | D7: 531A6229DA8F53D29C0DB46E001EFE538022A9CA46349790E36E2FA0192AB4F3238D
A8: 1종금속제가요전선관-노출 16mm, 비방수 (호표 4) | B8: =$B$2 -> 50 | D8: 531A6259CC75C40790A733D3301E5B
A9: 내선전공 | C9: 3 | D9: 531A6259CC75C40790A733D3301E5B538022A9CA46349790E36E2FA0192AB4F3238D
A10: 450/75OV 저독성난연가교폴리올레핀절연전선(HFIX) 1.38㎜ (호표 5) | B10: =$B$2 -> 50 | D10: 531A6259CC487C119422E10F201D10
A11: 내선전공 | C11: 2 | D11: 531A6259CC487C119422E10F201D10538022A9CA46349790E36E2FA0192AB4F3238D
A12: 0.6/1kv 내화케이블(F-FR-8) 4C*2.5㎟ (호표 6) | B12: =$B$2 -> 50 | D12: 531A6259CC5AEECB9D49CB6D501398
A13: 저압케이블전공 | C13: 3 | D13: 531A6259CC5AEECB9D49CB6D501398538022A9CA46349790E36E2FA0192AB4F32380
A14: 아우트렛박스-매입 8각, 54mm (호표 7) | B14: =$B$2 -> 50 | D14: 520D32F92215D6CB990BA56C601155
A15: 통신내선공 | C15: 2 | D15: 520D32F92215D6CB990BA56C601155538022A9CA46349790E36E2FA0192AB4F32CE2
A16: 아우트렛박스-매입 중형 4각, 54㎜ (호표 8) | B16: =$B$2 -> 50 | D16: 520D32F92215D6CB990BA56C6016D7
A17: 통신내선공 | C17: 2 | D17: 520D32F92215D6CB990BA56C6016D7538022A9CA46349790E36E2FA0192AB4F32CE2
A18: 풀박스(천장면)-노출 150*150*100mm (호표 9) | B18: =$B$2 -> 50 | D18: 531A6259CCF9207399F35443A014C7
A19: 내선전공 | C19: 3 | D19: 531A6259CCF9207399F35443A014C7538022A9CA46349790E36E2FA0192AB4F3238D
A20: 화재감지기 열감지기,차동식스포트형 (호표 10) | B20: =$B$2 -> 50 | D20: 531A6259F9E8F62796F2DADDB0121F
A21: 내선전공 | C21: 2 | D21: 531A6259F9E8F62796F2DADDB0121F538022A9CA46349790E36E2FA0192AB4F3238D
A22: 화재감지기 연기감지기, 광전식 (호표 11) | B22: =$B$2 -> 50 | D22: 531A6259F9E8F62796F2DBE3801502
A23: 내선전공 | C23: 2 | D23: 531A6259F9E8F62796F2DBE3801502538022A9CA46349790E36E2FA0192AB4F3238D
A24: 사이렌 사이렌 (호표 12) | B24: =$B$2 -> 50 | D24: 531A6259F9E8F62796F134BAE01F3C
A25: 내선전공 | C25: 2 | D25: 531A6259F9E8F62796F134BAE01F3C538022A9CA46349790E36E2FA0192AB4F3238D
A26: 전선관지지행거(단독) 16C (호표 13) | B26: =$B$2 -> 50 | D26: 531A6259CC75C4DC98F67C1C20110A
A27: 내선전공 | C27: 3 | D27: 531A6259CC75C4DC98F67C1C20110A538022A9CA46349790E36E2FA0192AB4F3238D
A28: 전선관지지행거(단독) 28C (호표 14) | B28: =$B$2 -> 50 | D28: 531A6259CC75C4DC98F67C1C201337
A29: 내선전공 | C29: 3 | D29: 531A6259CC75C4DC98F67C1C201337538022A9CA46349790E36E2FA0192AB4F3238D
A30: 배관용 구멍뚫기(코어드릴)-Con,c 두께 30cm 이하 ∮25mm, 벽 (호표 15) | B30: =$B$2 -> 50 | D30: 531A6229F5EA7BB89B13C95C701AC8
A31: 착암공 | C31: 3 | D31: 531A6229F5EA7BB89B13C95C701AC8538022A9CA46349790E36E2FA0192AB4F325B0
A32: 보통인부 | C32: 3 | D32: 531A6229F5EA7BB89B13C95C701AC8538022A9CA46349790E36E2FA0192AB4F324AC
A33: 화재감지기 -철거 감지기 (호표 16) | B33: =$B$2 -> 50 | D33: 531AA28989B729B9954EE2FA601B9C
A34: 내선전공 | C34: 3 | D34: 531AA28989B729B9954EE2FA601B9C538022A9CA46349790E36E2FA0192AB4F3238D
A35: 등기구 - 철거후 재설치 평판 매입등 (호표 17) | B35: =$B$2 -> 50 | D35: 531A6259CCF920509BF5066D301775
A36: 내선전공 | C36: 3 | D36: 531A6259CCF920509BF5066D301775538022A9CA46349790E36E2FA0192AB4F3238D
A37: 기존 덕트 철거 (호표 18) | B37: =$B$2 -> 50 | D37: 520D32F9226DF6419DBA2D03A01BB2
A38: 통신내선공 | C38: 2 | D38: 520D32F9226DF6419DBA2D03A01BB2538022A9CA46349790E36E2FA0192AB4F32CE2
A39: 방화샷타 제어반 신설 (호표 19) | B39: =$B$2 -> 50 | D39: 531A6259F9E8F62796F75D3F001C78
A40: 내선전공 | C40: 2 | D40: 531A6259F9E8F62796F75D3F001C78538022A9CA46349790E36E2FA0192AB4F3238D
A41: 방화샷타 제어반 이설 (호표 20) | B41: =$B$2 -> 50 | D41: 531A6259F9E8F62796F75D3F001C7B
A42: 내선전공 | C42: 2 | D42: 531A6259F9E8F62796F75D3F001C7B538022A9CA46349790E36E2FA0192AB4F3238D
A43: 방화샷타 제어반 철거 (호표 21) | B43: =$B$2 -> 50 | D43: 531A6259F9E8F62796F75D3F001C7A
A44: 내선전공 | C44: 3 | D44: 531A6259F9E8F62796F75D3F001C7A538022A9CA46349790E36E2FA0192AB4F3238D
A45: 시각경보기 (호표 22) | B45: =$B$2 -> 50 | D45: 531AA28989B73A3A9E2FF7ACF01E1D
A46: 내선전공 | C46: 2 | D46: 531AA28989B73A3A9E2FF7ACF01E1D538022A9CA46349790E36E2FA0192AB4F3238D
A47: 시각경보기용 전원반 (호표 23) | B47: =$B$2 -> 50 | D47: 531AA28989B73A2897061C95201CE0
A48: 내선전공 | C48: 2 | D48: 531AA28989B73A2897061C95201CE0538022A9CA46349790E36E2FA0192AB4F3238D
A49: 450/75OV 저독성난연가교폴리올레핀절연전선(HFIX) 2.5㎟ (호표 24) | B49: =$B$2 -> 50 | D49: 531A6259CC487C119422E10F2018AE
A50: 내선전공 | C50: 2 | D50: 531A6259CC487C119422E10F2018AE538022A9CA46349790E36E2FA0192AB4F3238D
A51: 피난구 유도등(고휘도-LED) 중형(단면) 60분용 (호표 25) | B51: =$B$2 -> 50 | D51: 531A6259F9E8F62796F134B8301A52
A52: 내선전공 | C52: 1 | D52: 531A6259F9E8F62796F134B8301A52538022A9CA46349790E36E2FA0192AB4F3238D
A53: 음성점멸 유도등 음성점멸 유도등 (호표 26) | B53: =$B$2 -> 50 | D53: 531A6259F9E8F62796F134B8301A51
A54: 내선전공 | C54: 1 | D54: 531A6259F9E8F62796F134B8301A51538022A9CA46349790E36E2FA0192AB4F3238D
A55: 거실통로유도등(고휘도-LED) 천장양면 (호표 27) | B55: =$B$2 -> 50 | D55: 531A6259F9E8F62796F134B830106F
A56: 내선전공 | C56: 1 | D56: 531A6259F9E8F62796F134B830106F538022A9CA46349790E36E2FA0192AB4F3238D
A57: 피난구 유도등 철거 (호표 28) | B57: =$B$2 -> 50 | D57: 531A6259F9E8F62796F134B8301A50
A58: 내선전공 | C58: 2 | D58: 531A6259F9E8F62796F134B8301A50538022A9CA46349790E36E2FA0192AB4F3238D
A59: 배관용 홈파기 ∮22mm 이하용 (호표 29) | B59: =$B$2 -> 50 | D59: 531A6229F5EA7B9D9DB619478012CE
A60: 보통인부 | C60: 2 | D60: 531A6229F5EA7B9D9DB619478012CE538022A9CA46349790E36E2FA0192AB4F324AC
A61: 스피커 천정형 3W (호표 30) | B61: =$B$2 -> 50 | D61: 531A62299C6F5F0E9FA6D35EA01310
A62: 통신설비공 | C62: 2 | D62: 531A62299C6F5F0E9FA6D35EA01310538022A9CA46349790E36E2FA0192AB4F32CE3
A63: 스피커 - 철거 천정형 (호표 31) | B63: =$B$2 -> 50 | D63: 531AA28989B729B9954EE2FA601B9F
A64: 내선전공 | C64: 3 | D64: 531AA28989B729B9954EE2FA601B9F538022A9CA46349790E36E2FA0192AB4F3238D
A65: 난연 비닐절연접지용전선(F-GV)-관내 0.6/1kv, 2.5㎟ (호표 32) | B65: =$B$2 -> 50 | D65: 531A6259CC487C3C93650455E0170B
A66: 내선전공 | C66: 3 | D66: 531A6259CC487C3C93650455E0170B538022A9CA46349790E36E2FA0192AB4F3238D
A67: 비상조명등 (호표 33) | B67: =$B$2 -> 50 | D67: 531AA28989A6BADB998C269E401F52
A68: 내선전공 | C68: 2 | D68: 531AA28989A6BADB998C269E401F52538022A9CA46349790E36E2FA0192AB4F3238D
A69: 비상조명등 철거 (호표 34) | B69: =$B$2 -> 50 | D69: 531AA28989A6BADB998C269E401F53
A70: 내선전공 | C70: 3 | D70: 531AA28989A6BADB998C269E401F53538022A9CA46349790E36E2FA0192AB4F3238D
A71: 코아드릴 15.24cm (호표 35) | B71: =$B$2 -> 50 | D71: 544332D95C72406890F9972B001B9995BA346379

Sheet  공사설정 
A1: 이 Sheet는 수정하지 마십시요
A2: 공사구분 | B2: C | C2: 타이틀
A3: 확정내역 | B3: 원내역
A4: 자재단가적용 | B4: 5
A5: 경비단가적용 | B5: 5
A6: 품목코드형식 | B6: XXXX-XXXX-XXXXXXXXX
A7: 내역금액소수점처리 | B7: C | C7: 1
A8: 일위대가내역소수점처리 | B8: C | C8: 2
A9: 단가명 | B9: 조달청가격 | C9: 거래가격 | D9: 유통물가 | E9: 물가정보 | F9: 조사가격2 | G9: TTTTT
A10: 환율 | B10: 1157 | C10: 0 | D10: 0
A11: 시간당작업량 | B11: R | C11: 4
A12: 1회 사이클시간 | B12: R | C12: 4
A13: 시간당 작업사이클 | B13: R | C13: 3
A14: 일반변수 | B14: C | C14: 5
A15: 시간당 노임산출 계수 | B15: A | C15: 1/8*16/12*25/20 | D15: 1/8*16/12*25/20 | E15: 1/8*16/12*25/20 | F15: 1
A16: 재료비 할증 계수 | B16: 1.11 | C16: 1.12
A17: 노무비 할증 계수 | B17: 1 | C17: 1.5 | D17: 1.16 | E17: 1.6 | F17: 1.6 | G17: 1.6 | H17: 1.94 | I17: 1.94 | J17: 1.94 | K17: 1 | L17: 1 | M17: 1
A18: 경비 할증 계수 | B18: 1.25 | C18: 1.071
A19: 내역,일위대가 품명,규격,단위 따로적용
A20: 내역단가 소수점처리 | B20: C | C20: 1
A21: 코드 | B21: 공종구분명 | C21: 원가비목코드
A22: 1 | B22: 작 업 부 산 물 | C22: A3
A23: 2 | B23: 운 반 비 | C23: C1
A24: 3 | B24: 관 급 자 재 비 | C24: DJ
A25: 4 | B25: 사 급 자 재 비 | C25: D3
A26: 5 | B26: 외 자 재
A27: 6 | B27: 폐기물처리비 | C27: DA
A28: 7 | B28: 고재처리비 | C28: DM
A29: 8 | B29: ...
A30: 9 | B30: ...
A31: A | B31: ....
A32: B | B32: .....
A33: C | B33: ....
A34: D | B34: ....
A35: E | B35: ....
A36: F | B36: ....
A37: G | B37: ....
A38: H | B38: ....
A39: I | B39: ....
A40: J | B40: ....
A43: 단가 순서 | B43: 1234

Sheet Sheet1
