Workbook

Sheet 원가계산서
B1: 공 사 원 가 계 산 서
B2: 공사명 : 2026학년도 밀레니엄관 지하1층 개선공사(기계)
B3: 비 목 | E3: 금 액 | F3: 구 성 비 | G3: 비 고
A4: A1 | B4: 순 공 사 원 가 | C4: 재 료 비 | D4: 직 접 재 료 비 | E4: =TRUNC(공종별집계표!F5, 0) -> 0
A5: A2 | D5: 간 접 재 료 비 | E5: 0
A6: A3 | D6: 작업설, 부산물(△) | E6: 0
A7: AS | D7: [ 소 계 ] | E7: =TRUNC(E4+E5-E6, 0) -> 0
A8: B1 | C8: 노 무 비 | D8: 직 접 노 무 비 | E8: =TRUNC(공종별집계표!H5, 0) -> 0
A9: B2 | D9: 간 접 노 무 비 | E9: =TRUNC(E8*0.175, 0) -> 0 | F9: 직접노무비 * 17.5%
A10: BS | D10: [ 소 계 ] | E10: =TRUNC(E8+E9, 0) -> 0
A11: C4 | C11: 경 비 | D11: 산 재 보 험 료 | E11: =TRUNC(E10*0.0356, 0) -> 0 | F11: 노무비 * 3.56%
A12: C5 | D12: 고 용 보 험 료 | E12: =TRUNC(E10*0.0101, 0) -> 0 | F12: 노무비 * 1.01%
A13: C6 | D13: 국민 건강 보험료 | F13: 직접노무비 * 3.595%
A14: C7 | D14: 국민 연금 보험료 | F14: 직접노무비 * 4.75%
A15: C8 | D15: 퇴직 공제 부금비 | F15: 직접노무비 * 2.3%
A16: CA | D16: 산업안전보건관리비 | F16: (재료비+직노) * 3.11%
A17: CB | D17: 노인장기요양보험료 | F17: 건강보험료 * 13.14%
A18: CG | D18: 기 타 경 비 | E18: =TRUNC((E7+E10)*0.05, 0) -> 0 | F18: (재료비+노무비) * 5%
A19: CH | D19: 환 경 보 전 비 | E19: =TRUNC((E7+E8)*0.005, 0) -> 0 | F19: (재료비+직노+경비) * 0.5%
A20: CK | D20: 하도급지급보증수수료 | E20: =TRUNC((E7+E8)*0.00081, 0) -> 0 | F20: (재료비+직노+경비) * 0.081%
A21: CL | D21: 건설기계대여금지급보증서발급수수료 | E21: =TRUNC((E7+E8)*0.0007, 0) -> 0 | F21: (재료비+직노+경비) * 0.07%
A22: CS | D22: [ 소 계 ] | E22: =TRUNC(E11+E12+E13+E14+E15+E16+E17+E18+E19+E20+E21, 0) -> 0
A23: S1 | B23: 계 | E23: =TRUNC(E7+E10+E22, 0) -> 0
A24: D1 | B24: 일 반 관 리 비 | E24: =TRUNC(E23*0.08, 0) -> 0 | F24: 계 * 8%
A25: D2 | B25: 이 윤 | E25: =TRUNC((E10+E22+E24)*0.15, 0) -> 0 | F25: (노무비+경비+일반관리비) * 15%
A26: D9 | B26: 공 급 가 액 | E26: =TRUNC(E23+E24+E25, 0) -> 0
A27: DA | B27: 폐 기 물 처 리 비 | E27: =TRUNC(공종별집계표!T13, 0) -> 0
A28: DB | B28: 부 가 가 치 세 | E28: =TRUNC((E26+E27)*0.1, 0) -> 0 | F28: 공급가액 * 10%
A29: DH | B29: 도 급 액 | E29: =TRUNC(E26+E28, 0) -> 0
A30: DM | B30: 고 재 처 리 비 | E30: =TRUNC(공종별집계표!T15, 0) -> 0
A31: S2 | B31: 총 공 사 비 | E31: =TRUNC((E29+0+E30), 0) -> 0

Sheet 공종별집계표
A1: 공 종 별 집 계 표
A2: [ 2026학년도 밀레니엄관 지하1층 개선공사(기계) ]
A3: 품 명 | B3: 규 격 | C3: 단위 | D3: 수량 | E3: 재 료 비 | G3: 노 무 비 | I3: 경 비 | K3: 합 계 | M3: 비 고 | N3: 공종코드 | O3: 변수 | P3: 상위공종 | Q3: 공종구분 | R3: 공종레벨 | S3: 공종소계 | T3: 원가계산서 연결금액
E4: 단 가 | F4: 금 액 | G4: 단 가 | H4: 금 액 | I4: 단 가 | J4: 금 액 | K4: 단 가 | L4: 금 액
A5: 2026학년도 밀레니엄관 지하1층 개선공사(기계) | D5: 1 | E5: =F6 -> 0 | F5: =E5*D5 -> 0 | G5: =H6 -> 0 | H5: =G5*D5 -> 0 | I5: =J6 -> 0 | J5: =I5*D5 -> 0 | K5: =E5+G5+I5 -> 0 | L5: =F5+H5+J5 -> 0 | N5: 01 | R5: 1
A6: 01 기계설비공사 | D6: 1 | E6: =F7+F8+F9+F10+F11+F12 -> 0 | F6: =E6*D6 -> 0 | G6: =H7+H8+H9+H10+H11+H12 -> 0 | H6: =G6*D6 -> 0 | I6: =J7+J8+J9+J10+J11+J12 -> 0 | J6: =I6*D6 -> 0 | K6: =E6+G6+I6 -> 0 | L6: =F6+H6+J6 -> 0 | N6: 0101 | P6: 01 | R6: 2
A7: 0101 급수급탕배관공사 | D7: 1 | E7: =공종별내역서!F51 -> 0 | F7: =E7*D7 -> 0 | G7: =공종별내역서!H51 -> 0 | H7: =G7*D7 -> 0 | I7: =공종별내역서!J51 -> 0 | J7: =I7*D7 -> 0 | K7: =E7+G7+I7 -> 0 | L7: =F7+H7+J7 -> 0 | N7: 010101 | P7: 0101 | R7: 3
A8: 0102 오배수배관공사 | D8: 1 | E8: =공종별내역서!F99 -> 0 | F8: =E8*D8 -> 0 | G8: =공종별내역서!H99 -> 0 | H8: =G8*D8 -> 0 | I8: =공종별내역서!J99 -> 0 | J8: =I8*D8 -> 0 | K8: =E8+G8+I8 -> 0 | L8: =F8+H8+J8 -> 0 | N8: 010102 | P8: 0101 | R8: 3
A9: 0103 환기설비공사 | D9: 1 | E9: =공종별내역서!F123 -> 0 | F9: =E9*D9 -> 0 | G9: =공종별내역서!H123 -> 0 | H9: =G9*D9 -> 0 | I9: =공종별내역서!J123 -> 0 | J9: =I9*D9 -> 0 | K9: =E9+G9+I9 -> 0 | L9: =F9+H9+J9 -> 0 | N9: 010103 | P9: 0101 | R9: 3
A10: 0104 철거공사 | D10: 1 | E10: =공종별내역서!F147 -> 0 | F10: =E10*D10 -> 0 | G10: =공종별내역서!H147 -> 0 | H10: =G10*D10 -> 0 | I10: =공종별내역서!J147 -> 0 | J10: =I10*D10 -> 0 | K10: =E10+G10+I10 -> 0 | L10: =F10+H10+J10 -> 0 | N10: 010104 | P10: 0101 | R10: 3
A11: 0105 냉난방기설치공사 | D11: 1 | E11: =공종별내역서!F195 -> 0 | F11: =E11*D11 -> 0 | G11: =공종별내역서!H195 -> 0 | H11: =G11*D11 -> 0 | I11: =공종별내역서!J195 -> 0 | J11: =I11*D11 -> 0 | K11: =E11+G11+I11 -> 0 | L11: =F11+H11+J11 -> 0 | N11: 010105 | P11: 0101 | R11: 3
A12: 0106 제습기설치공사 | D12: 1 | E12: =공종별내역서!F219 -> 0 | F12: =E12*D12 -> 0 | G12: =공종별내역서!H219 -> 0 | H12: =G12*D12 -> 0 | I12: =공종별내역서!J219 -> 0 | J12: =I12*D12 -> 0 | K12: =E12+G12+I12 -> 0 | L12: =F12+H12+J12 -> 0 | N12: 010106 | P12: 0101 | R12: 3
A13: 02 폐기물처리비 | D13: 1 | E13: =F14 -> 0 | F13: =E13*D13 -> 0 | G13: =H14 -> 0 | H13: =G13*D13 -> 0 | I13: =J14 -> 0 | J13: =I13*D13 -> 0 | K13: =E13+G13+I13 -> 0 | L13: =F13+H13+J13 -> 0 | N13: 0102 | Q13: 6 | R13: 2 | T13: =L13*1 -> 0
A14: 0201 폐기물처리비 | D14: 1 | E14: =공종별내역서!F243 -> 0 | F14: =E14*D14 -> 0 | G14: =공종별내역서!H243 -> 0 | H14: =G14*D14 -> 0 | I14: =공종별내역서!J243 -> 0 | J14: =I14*D14 -> 0 | K14: =E14+G14+I14 -> 0 | L14: =F14+H14+J14 -> 0 | N14: 010201 | P14: 0102 | R14: 3
A15: 03 고재처리비 | D15: 1 | E15: =F16 -> 0 | F15: =E15*D15 -> 0 | G15: =H16 -> 0 | H15: =G15*D15 -> 0 | I15: =J16 -> 0 | J15: =I15*D15 -> 0 | K15: =E15+G15+I15 -> 0 | L15: =F15+H15+J15 -> 0 | N15: 0103 | Q15: 7 | R15: 2 | T15: =L15*1 -> 0
A16: 0301 고재처리비 | D16: 1 | E16: =공종별내역서!F267 -> 0 | F16: =E16*D16 -> 0 | G16: =공종별내역서!H267 -> 0 | H16: =G16*D16 -> 0 | I16: =공종별내역서!J267 -> 0 | J16: =I16*D16 -> 0 | K16: =E16+G16+I16 -> 0 | L16: =F16+H16+J16 -> 0 | N16: 010301 | P16: 0103 | R16: 3
A27: [ 합 계 ] | F27: =F5 -> 0 | H27: =H5 -> 0 | J27: =J5 -> 0 | L27: =L5 -> 0

Sheet 공종별내역서
A1: [ 부천대 대학혁신지원사업 밀레니엄관 지하1층 리뉴얼 ]
A2: 품 명 | B2: 규 격 | C2: 단위 | D2: 수량 | E2: 재 료 비 | G2: 노 무 비 | I2: 경 비 | K2: 합 계 | M2: 비 고 | N2: 품목코드 | O2: 변수 | P2: 설정 | Q2: 공종코드 | R2: 일위 | S2: 단산 | T2: 자재 | U2: 손료적용 | V2: 손료저장 | W2: 적용율 | X2: JUK1 | Y2: JUK2 | Z2: JUK3 | AA2: JUK4 | AB2: JUK5 | AC2: JUK6 | AD2: JUK7 | AE2: JUK8 | AF2: JUK9 | AG2: JUK10 | AH2: JUK11 | AI2: JUK12 | AJ2: JUK13 | AK2: JUK14 | AL2: JUK15 | AM2: JUK16 | AN2: JUK17 | AO2: JUK18 | AP2: JUK19 | AQ2: JUK20 | AR2: 자재구분 | AS2: 공종구분 | AT2: 공종레벨 | AU2: 공종+자재 | AV2: 고유번호
E3: 단 가 | F3: 금 액 | G3: 단 가 | H3: 금 액 | I3: 단 가 | J3: 금 액 | K3: 단 가 | L3: 금 액
A4: 0101 급수급탕배관공사 | Q4: 010101
A5: 스테인리스옥내배관(프레스식) | B5: D13 | C5: M | D5: 287 | N5: 5B95E60FBC62F484184FE19FF506C0 | Q5: 010101 | R5: T | S5: F | T5: F | AU5: 0101015B95E60FBC62F484184FE19FF506C0 | AV5: 196
A6: 스테인리스옥내배관(프레스식) | B6: D20 | C6: M | D6: 91 | N6: 5B95E60FBC62F484184FE19FF50539 | Q6: 010101 | R6: T | S6: F | T6: F | AU6: 0101015B95E60FBC62F484184FE19FF50539 | AV6: 197
A7: 스테인리스옥내배관(프레스식) | B7: D25 | C7: M | D7: 57 | N7: 5B95E60FBC62F484184FE19FF50412 | Q7: 010101 | R7: T | S7: F | T7: F | AU7: 0101015B95E60FBC62F484184FE19FF50412 | AV7: 198
A8: 일반배관용스테인리스강관관이음쇠 | B8: ∮13mm, 엘보90°, SP | C8: 개 | D8: 176 | N8: 5C05E6A06A3264AE2871408F75834D7FAC7794 | Q8: 010101 | R8: F | S8: F | T8: T | AU8: 0101015C05E6A06A3264AE2871408F75834D7FAC7794 | AV8: 199
A9: 일반배관용스테인리스강관관이음쇠 | B9: ∮20mm, 엘보90°, SP | C9: 개 | D9: 4 | N9: 5C05E6A06A3264AE2871408F75834D7FAC7795 | Q9: 010101 | R9: F | S9: F | T9: T | AU9: 0101015C05E6A06A3264AE2871408F75834D7FAC7795 | AV9: 200
A10: 일반배관용스테인리스강관관이음쇠 | B10: ∮25mm, 엘보90°, SP | C10: 개 | D10: 41 | N10: 5C05E6A06A3264AE2871408F75834D7FAC7792 | Q10: 010101 | R10: F | S10: F | T10: T | AU10: 0101015C05E6A06A3264AE2871408F75834D7FAC7792 | AV10: 201
A11: 일반배관용스테인리스강관관이음쇠 | B11: ∮20*20mm, 티, SP | C11: 개 | D11: 13 | N11: 5C05E6A06A3264AE2871408F75834D7CD161D5 | Q11: 010101 | R11: F | S11: F | T11: T | AU11: 0101015C05E6A06A3264AE2871408F75834D7CD161D5 | AV11: 202
A12: 일반배관용스테인리스강관관이음쇠 | B12: ∮25*25mm, 티, SP | C12: 개 | D12: 11 | N12: 5C05E6A06A3264AE2871408F75834D7CD161D4 | Q12: 010101 | R12: F | S12: F | T12: T | AU12: 0101015C05E6A06A3264AE2871408F75834D7CD161D4 | AV12: 203
A13: 일반배관용스테인리스강관관이음쇠 | B13: ∮50*50mm, 티, SP | C13: 개 | D13: 2 | N13: 5C05E6A06A3264AE2871408F75834D7CD160CD | Q13: 010101 | R13: F | S13: F | T13: T | AU13: 0101015C05E6A06A3264AE2871408F75834D7CD160CD | AV13: 204
A14: 일반배관용스테인리스강관관이음쇠 | B14: ∮13*12.7mm, 급수전티, SP | C14: 개 | D14: 33 | N14: 5C05E6A06A3264AE2871408F75834D7CD04324 | Q14: 010101 | R14: F | S14: F | T14: T | AU14: 0101015C05E6A06A3264AE2871408F75834D7CD04324 | AV14: 205
A15: 일반배관용스테인리스강관관이음쇠 | B15: ∮25*25.4mm, 급수전티, SP | C15: 개 | D15: 7 | N15: 5C05E6A06A3264AE2871408F75834D7CD04320 | Q15: 010101 | R15: F | S15: F | T15: T | AU15: 0101015C05E6A06A3264AE2871408F75834D7CD04320 | AV15: 206
A16: 일반배관용스테인리스강관관이음쇠 | B16: ∮25*20mm, 리듀서, SP | C16: 개 | D16: 1 | N16: 5C05E6A06A3264AE2871408F75834D7CD2701B | Q16: 010101 | R16: F | S16: F | T16: T | AU16: 0101015C05E6A06A3264AE2871408F75834D7CD2701B | AV16: 207
... A46: 각종 잡철물 제작 설치 | B46: 현장제작설치,일반철제 | C46: TON | D46: 0.2 | N46: 5B95663967B2945338E3C94A85F931 | Q46: 010101 | R46: T | S46: F | T46: F | AU46: 0101015B95663967B2945338E3C94A85F931 | AV46: 224
Q47: 010101
Q48: 010101
Q49: 010101
Q50: 010101
A51: [ 합 계 ] | F51: =SUMIF(Q5:Q50,"010101",F5:F50) -> 0 | H51: =SUMIF(Q5:Q50,"010101",H5:H50) -> 0 | J51: =SUMIF(Q5:Q50,"010101",J5:J50) -> 0 | L51: =SUMIF(Q5:Q50,"010101",L5:L50) -> 0 | N51: TOTAL
A52: 0102 오배수배관공사 | Q52: 010102
A53: 경질염화비닐관(접착제) | B53: PVC관(VG2), D50 | C53: M | D53: 2 | N53: 5B95D611A8E2F4197867ED7E75D800 | Q53: 010102 | R53: T | S53: F | T53: F | AU53: 0101025B95D611A8E2F4197867ED7E75D800 | AV53: 237
A54: 경질염화비닐관(접착제) | B54: PVC관(VG2), D35 | C54: M | D54: 12 | N54: 5B95D611A8E2D46B98BDD444952BDA | Q54: 010102 | R54: T | S54: F | T54: F | AU54: 0101025B95D611A8E2D46B98BDD444952BDA | AV54: 238
A55: 경질염화비닐관(고무링 캡조임-일반 PVC) | B55: PVC관(VG2), D50 | C55: M | D55: 89 | N55: 5B95D611A8E2F4197867ED4135BA36 | Q55: 010102 | R55: T | S55: F | T55: F | AU55: 0101025B95D611A8E2F4197867ED4135BA36 | AV55: 239
A56: 경질염화비닐관(고무링 캡조임-일반 PVC) | B56: PVC관(VG2), D75 | C56: M | D56: 58 | N56: 5B95D611A8E214B8C841F57A852E68 | Q56: 010102 | R56: T | S56: F | T56: F | AU56: 0101025B95D611A8E214B8C841F57A852E68 | AV56: 240
A57: 경질염화비닐관(고무링 캡조임-일반 PVC) | B57: PVC관(VG2), D100 | C57: M | D57: 26 | N57: 5B95D612B2A2E41E685784EE658FE7 | Q57: 010102 | R57: T | S57: F | T57: F | AU57: 0101025B95D612B2A2E41E685784EE658FE7 | AV57: 241
A58: 바닥배수구 설치 | B58: D75 | C58: 개 | D58: 5 | N58: 5B9586E78072D48E88B35F84B56092 | Q58: 010102 | R58: T | S58: F | T58: F | AU58: 0101025B9586E78072D48E88B35F84B56092 | AV58: 242
A59: 일반용경질폴리염화비닐이음관 | B59: 일반용경질폴리염화비닐이음관, ∮50mm, P트랩, DRF | C59: 개 | D59: 10 | N59: 5C05E6A06A3264AE2860A463D507EA53D2A942 | Q59: 010102 | R59: F | S59: F | T59: T | AU59: 0101025C05E6A06A3264AE2860A463D507EA53D2A942 | AV59: 243
A60: 일반용경질폴리염화비닐이음관 | B60: 일반용경질폴리염화비닐이음관, ∮75mm, P트랩, DRF | C60: 개 | D60: 5 | N60: 5C05E6A06A3264AE2860A463D507EA53D2A945 | Q60: 010102 | R60: F | S60: F | T60: T | AU60: 0101025C05E6A06A3264AE2860A463D507EA53D2A945 | AV60: 244
A61: 일반용경질폴리염화비닐이음관 | B61: 일반용경질폴리염화비닐이음관, ∮50mm, PVC C.O., DTS | C61: 개 | D61: 1 | N61: 5C05E6A06A3264AE2860A463C5610B8B995B4F | Q61: 010102 | R61: F | S61: F | T61: T | AU61: 0101025C05E6A06A3264AE2860A463C5610B8B995B4F | AV61: 245
A62: 일반용경질폴리염화비닐이음관 | B62: 일반용경질폴리염화비닐이음관, ∮75mm, PVC C.O., DTS | C62: 개 | D62: 4 | N62: 5C05E6A06A3264AE2860A463C5610B8B995B49 | Q62: 010102 | R62: F | S62: F | T62: T | AU62: 0101025C05E6A06A3264AE2860A463C5610B8B995B49 | AV62: 246
A63: 일반용경질폴리염화비닐이음관 | B63: 일반용경질폴리염화비닐이음관, ∮100mm, PVC C.O., DTS | C63: 개 | D63: 1 | N63: 5C05E6A06A3264AE2860A463C5610B8B995B4A | Q63: 010102 | R63: F | S63: F | T63: T | AU63: 0101025C05E6A06A3264AE2860A463C5610B8B995B4A | AV63: 354
A64: 일반행가(전산볼트) | B64: D50 | C64: 개소 | D64: 30 | N64: 5B9576B4C4E204CBD8E151D4F5335A | Q64: 010102 | R64: T | S64: F | T64: F | AU64: 0101025B9576B4C4E204CBD8E151D4F5335A | AV64: 247
... A92: 각종 잡철물 제작 설치 | B92: 현장제작설치,일반철제 | C92: TON | D92: 0.07 | N92: 5B95663967B2945338E3C94A85F931 | Q92: 010102 | R92: T | S92: F | T92: F | AU92: 0101025B95663967B2945338E3C94A85F931 | AV92: 272
Q93: 010102
Q94: 010102
Q95: 010102
Q96: 010102
...

Sheet 공량설정_일위대가
A1: 일위대가 | B1: 적용율(%) | C1: 소수점이하자릿수 | D1: 일위대가 코드
A2: 스테인리스옥내배관(프레스식) D13 (호표 1) | B2: =원가계산서!J2 -> 0 | D2: 5B95E60FBC62F484184FE19FF506C0
A3: 배관공 | C3: 3 | D3: 5B95E60FBC62F484184FE19FF506C05B8086C9EBE2B406E86A4BA34551D2BAD76A41
A4: 보통인부 | C4: 3 | D4: 5B95E60FBC62F484184FE19FF506C05B8086C9EBE2B406E86A4BA34551D2BAD769A3
A5: 스테인리스옥내배관(프레스식) D20 (호표 2) | B5: =$B$2 -> 0 | D5: 5B95E60FBC62F484184FE19FF50539
A6: 배관공 | C6: 3 | D6: 5B95E60FBC62F484184FE19FF505395B8086C9EBE2B406E86A4BA34551D2BAD76A41
A7: 보통인부 | C7: 3 | D7: 5B95E60FBC62F484184FE19FF505395B8086C9EBE2B406E86A4BA34551D2BAD769A3
A8: 스테인리스옥내배관(프레스식) D25 (호표 3) | B8: =$B$2 -> 0 | D8: 5B95E60FBC62F484184FE19FF50412
A9: 배관공 | C9: 2 | D9: 5B95E60FBC62F484184FE19FF504125B8086C9EBE2B406E86A4BA34551D2BAD76A41
A10: 보통인부 | C10: 2 | D10: 5B95E60FBC62F484184FE19FF504125B8086C9EBE2B406E86A4BA34551D2BAD769A3
A11: 동관용접(Brazing) D15 (호표 4) | B11: =$B$2 -> 0 | D11: 5B95D6084ED2244D882C3105E53700
A12: 용접공 | C12: 3 | D12: 5B95D6084ED2244D882C3105E537005B8086C9EBE2B406E86A4BA34551D2BAD76898
A13: 동관용접(Brazing) D20 (호표 5) | B13: =$B$2 -> 0 | D13: 5B95D6084ED214A61845E0873531CF
A14: 용접공 | C14: 2 | D14: 5B95D6084ED214A61845E0873531CF5B8086C9EBE2B406E86A4BA34551D2BAD76898
A15: 동관용접(Brazing) D25 (호표 6) | B15: =$B$2 -> 0 | D15: 5B95D6084ED2049F28551B83952AE3
A16: 용접공 | C16: 3 | D16: 5B95D6084ED2049F28551B83952AE35B8086C9EBE2B406E86A4BA34551D2BAD76898
A17: 동관용접(Brazing) D50 (호표 7) | B17: =$B$2 -> 0 | D17: 5B95D6084ED2540148B877E0D56765
A18: 용접공 | C18: 3 | D18: 5B95D6084ED2540148B877E0D567655B8086C9EBE2B406E86A4BA34551D2BAD76898
A19: 관보온(고무발포, 매직테프) 9t*D15 (호표 8) | B19: =$B$2 -> 0 | D19: 5B95B6CAE712949148E5FE9055424A
A20: 보온공 | C20: 3 | D20: 5B95B6CAE712949148E5FE9055424A5B8086C9EBE2B406E86A4BA34551D2BAD76D18
A21: 보통인부 | C21: 3 | D21: 5B95B6CAE712949148E5FE9055424A5B8086C9EBE2B406E86A4BA34551D2BAD769A3
A22: 관보온(고무발포, 매직테프) 9t*D25 (호표 9) | B22: =$B$2 -> 0 | D22: 5B95B6CAE712B44FB8620BA9D5A7B2
A23: 보온공 | C23: 3 | D23: 5B95B6CAE712B44FB8620BA9D5A7B25B8086C9EBE2B406E86A4BA34551D2BAD76D18
A24: 보통인부 | C24: 3 | D24: 5B95B6CAE712B44FB8620BA9D5A7B25B8086C9EBE2B406E86A4BA34551D2BAD769A3
A25: 관보온(고무발포, 매직테프) 19t*D15 (호표 10) | B25: =$B$2 -> 0 | D25: 5B95B6CAE1F214F488D5727FC59E78
A26: 보온공 | C26: 3 | D26: 5B95B6CAE1F214F488D5727FC59E785B8086C9EBE2B406E86A4BA34551D2BAD76D18
A27: 보통인부 | C27: 3 | D27: 5B95B6CAE1F214F488D5727FC59E785B8086C9EBE2B406E86A4BA34551D2BAD769A3
A28: 관보온(고무발포, 매직테프) 19t*D20 (호표 11) | B28: =$B$2 -> 0 | D28: 5B95B6CAE1F2248AC856CA03E56BD4
A29: 보온공 | C29: 3 | D29: 5B95B6CAE1F2248AC856CA03E56BD45B8086C9EBE2B406E86A4BA34551D2BAD76D18
A30: 보통인부 | C30: 3 | D30: 5B95B6CAE1F2248AC856CA03E56BD45B8086C9EBE2B406E86A4BA34551D2BAD769A3
A31: 관보온(고무발포, 매직테프) 19t*D25 (호표 12) | B31: =$B$2 -> 0 | D31: 5B95B6CAE1F234A1482F6A688558C1
A32: 보온공 | C32: 3 | D32: 5B95B6CAE1F234A1482F6A688558C15B8086C9EBE2B406E86A4BA34551D2BAD76D18
A33: 보통인부 | C33: 3 | D33: 5B95B6CAE1F234A1482F6A688558C15B8086C9EBE2B406E86A4BA34551D2BAD769A3
A34: 절연행가(전산볼트) D15 (호표 13) | B34: =$B$2 -> 0 | D34: 5B9576B4C4E204CA387EC3E3E5DE66
A35: 절연행가(전산볼트) D20 (호표 14) | B35: =$B$2 -> 0 | D35: 5B9576B4C4E204CA387EC3D175356C
A36: 절연행가(전산볼트) D25 (호표 15) | B36: =$B$2 -> 0 | D36: 5B9576B4C4E204CA387EC3C7054BFB
A37: 각종 잡철물 제작 설치 현장제작설치,일반철제 (호표 16) | B37: =$B$2 -> 0 | D37: 5B95663967B2945338E3C94A85F931
A38: 철공 | C38: 2 | D38: 5B95663967B2945338E3C94A85F9315B8086C9EBE2B406E86A4BA34551D2BAD769A8
A39: 용접공 | C39: 2 | D39: 5B95663967B2945338E3C94A85F9315B8086C9EBE2B406E86A4BA34551D2BAD76898
A40: 특별인부 | C40: 1 | D40: 5B95663967B2945338E3C94A85F9315B8086C9EBE2B406E86A4BA34551D2BAD769A2
...

Sheet  공사설정 
A1: 이 Sheet는 수정하지 마십시요
A2: 공사구분 | B2: C | C2: 타이틀
A3: 확정내역 | B3: 원내역
A4: 자재단가적용 | B4: 5
A5: 경비단가적용 | B5: 5
A6: 품목코드형식 | B6: XXXX-XXXX-XXXXXXXXX
A7: 내역금액소수점처리 | B7: C | C7: 1
A8: 일위대가내역소수점처리 | B8: C | C8: 2
A9: 단가명 | B9: 조달청가격 | C9: 거래가격 | D9: 유통물가 | E9: 물가정보 | F9: 조사가격2 | G9: TTTTT
A10: 환율 | B10: 1157 | C10: 0 | D10: 0
A11: 시간당작업량 | B11: R | C11: 4
A12: 1회 사이클시간 | B12: R | C12: 4
A13: 시간당 작업사이클 | B13: R | C13: 3
A14: 일반변수 | B14: C | C14: 5
A15: 시간당 노임산출 계수 | B15: A | C15: 1/8*16/12*25/20 | D15: 1/8*16/12*25/20 | E15: 1/8*16/12*25/20 | F15: 1
A16: 재료비 할증 계수 | B16: 1.11 | C16: 1.12
A17: 노무비 할증 계수 | B17: 1 | C17: 1.5 | D17: 1.16 | E17: 1.6 | F17: 1.6 | G17: 1.6 | H17: 1.94 | I17: 1.94 | J17: 1.94 | K17: 1 | L17: 1 | M17: 1
A18: 경비 할증 계수 | B18: 1.25 | C18: 1.071
A19: 내역,일위대가 품명,규격,단위 따로적용
A20: 내역단가 소수점처리 | B20: C | C20: 1
A21: 코드 | B21: 공종구분명 | C21: 원가비목코드
A22: 1 | B22: 작 업 부 산 물 | C22: A3
A23: 2 | B23: 운 반 비 | C23: C1
A24: 3 | B24: 관 급 자 재 비 | C24: DJ
A25: 4 | B25: 사 급 자 재 비 | C25: D3
A26: 5 | B26: 외 자 재
A27: 6 | B27: 폐기물처리비 | C27: DA
A28: 7 | B28: 고재처리비 | C28: DM
A29: 8 | B29: ...
A30: 9 | B30: ...
A31: A | B31: ....
A32: B | B32: .....
A33: C | B33: ....
A34: D | B34: ....
A35: E | B35: ....
A36: F | B36: ....
A37: G | B37: ....
A38: H | B38: ....
A39: I | B39: ....
A40: J | B40: ....
...

Sheet Sheet1
