Workbook

Sheet 원가계산서
B1: 공 사 원 가 계 산 서
B2: 공사명 : 2026학년도 밀레니엄관 지하1층 개선공사(기계)
B3: 비 목 | E3: 금 액 | F3: 구 성 비 | G3: 비 고
A4: A1 | B4: 순 공 사 원 가 | C4: 재 료 비 | D4: 직 접 재 료 비 | E4: =TRUNC(공종별집계표!F5, 0) -> 0
A5: A2 | D5: 간 접 재 료 비 | E5: 0
A6: A3 | D6: 작업설, 부산물(△) | E6: 0
A7: AS | D7: [ 소 계 ] | E7: =TRUNC(E4+E5-E6, 0) -> 0
A8: B1 | C8: 노 무 비 | D8: 직 접 노 무 비 | E8: =TRUNC(공종별집계표!H5, 0) -> 0
A9: B2 | D9: 간 접 노 무 비 | E9: =TRUNC(E8*0.175, 0) -> 0 | F9: 직접노무비 * 17.5%
A10: BS | D10: [ 소 계 ] | E10: =TRUNC(E8+E9, 0) -> 0
A11: C4 | C11: 경 비 | D11: 산 재 보 험 료 | E11: =TRUNC(E10*0.0356, 0) -> 0 | F11: 노무비 * 3.56%
A12: C5 | D12: 고 용 보 험 료 | E12: =TRUNC(E10*0.0101, 0) -> 0 | F12: 노무비 * 1.01%
A13: C6 | D13: 국민 건강 보험료 | F13: 직접노무비 * 3.595%
A14: C7 | D14: 국민 연금 보험료 | F14: 직접노무비 * 4.75%
A15: C8 | D15: 퇴직 공제 부금비 | F15: 직접노무비 * 2.3%
A16: CA | D16: 산업안전보건관리비 | F16: (재료비+직노) * 3.11%
A17: CB | D17: 노인장기요양보험료 | F17: 건강보험료 * 13.14%
A18: CG | D18: 기 타 경 비 | E18: =TRUNC((E7+E10)*0.05, 0) -> 0 | F18: (재료비+노무비) * 5%
A19: CH | D19: 환 경 보 전 비 | E19: =TRUNC((E7+E8)*0.005, 0) -> 0 | F19: (재료비+직노+경비) * 0.5%
A20: CK | D20: 하도급지급보증수수료 | E20: =TRUNC((E7+E8)*0.00081, 0) -> 0 | F20: (재료비+직노+경비) * 0.081%
A21: CL | D21: 건설기계대여금지급보증서발급수수료 | E21: =TRUNC((E7+E8)*0.0007, 0) -> 0 | F21: (재료비+직노+경비) * 0.07%
A22: CS | D22: [ 소 계 ] | E22: =TRUNC(E11+E12+E13+E14+E15+E16+E17+E18+E19+E20+E21, 0) -> 0
A23: S1 | B23: 계 | E23: =TRUNC(E7+E10+E22, 0) -> 0
A24: D1 | B24: 일 반 관 리 비 | E24: =TRUNC(E23*0.08, 0) -> 0 | F24: 계 * 8%
A25: D2 | B25: 이 윤 | E25: =TRUNC((E10+E22+E24)*0.15, 0) -> 0 | F25: (노무비+경비+일반관리비) * 15%
A26: D9 | B26: 공 급 가 액 | E26: =TRUNC(E23+E24+E25, 0) -> 0
A27: DA | B27: 폐 기 물 처 리 비 | E27: =TRUNC(공종별집계표!T13, 0) -> 0
A28: DB | B28: 부 가 가 치 세 | E28: =TRUNC((E26+E27)*0.1, 0) -> 0 | F28: 공급가액 * 10%
A29: DH | B29: 도 급 액 | E29: =TRUNC(E26+E28, 0) -> 0
A30: DM | B30: 고 재 처 리 비 | E30: =TRUNC(공종별집계표!T15, 0) -> 0
A31: S2 | B31: 총 공 사 비 | E31: =TRUNC((E29+0+E30), 0) -> 0

Sheet 공종별집계표
A1: 공 종 별 집 계 표
A2: [ 2026학년도 밀레니엄관 지하1층 개선공사(기계) ]
A3: 품 명 | B3: 규 격 | C3: 단위 | D3: 수량 | E3: 재 료 비 | G3: 노 무 비 | I3: 경 비 | K3: 합 계 | M3: 비 고 | N3: 공종코드 | O3: 변수 | P3: 상위공종 | Q3: 공종구분 | R3: 공종레벨 | S3: 공종소계 | T3: 원가계산서 연결금액
E4: 단 가 | F4: 금 액 | G4: 단 가 | H4: 금 액 | I4: 단 가 | J4: 금 액 | K4: 단 가 | L4: 금 액
A5: 2026학년도 밀레니엄관 지하1층 개선공사(기계) | D5: 1 | E5: =F6 -> 0 | F5: =E5*D5 -> 0 | G5: =H6 -> 0 | H5: =G5*D5 -> 0 | I5: =J6 -> 0 | J5: =I5*D5 -> 0 | K5: =E5+G5+I5 -> 0 | L5: =F5+H5+J5 -> 0 | N5: 01 | R5: 1
A6: 01 기계설비공사 | D6: 1 | E6: =F7+F8+F9+F10+F11+F12 -> 0 | F6: =E6*D6 -> 0 | G6: =H7+H8+H9+H10+H11+H12 -> 0 | H6: =G6*D6 -> 0 | I6: =J7+J8+J9+J10+J11+J12 -> 0 | J6: =I6*D6 -> 0 | K6: =E6+G6+I6 -> 0 | L6: =F6+H6+J6 -> 0 | N6: 0101 | P6: 01 | R6: 2
A7: 0101 급수급탕배관공사 | D7: 1 | E7: =공종별내역서!F51 -> 0 | F7: =E7*D7 -> 0 | G7: =공종별내역서!H51 -> 0 | H7: =G7*D7 -> 0 | I7: =공종별내역서!J51 -> 0 | J7: =I7*D7 -> 0 | K7: =E7+G7+I7 -> 0 | L7: =F7+H7+J7 -> 0 | N7: 010101 | P7: 0101 | R7: 3
A8: 0102 오배수배관공사 | D8: 1 | E8: =공종별내역서!F99 -> 0 | F8: =E8*D8 -> 0 | G8: =공종별내역서!H99 -> 0 | H8: =G8*D8 -> 0 | I8: =공종별내역서!J99 -> 0 | J8: =I8*D8 -> 0 | K8: =E8+G8+I8 -> 0 | L8: =F8+H8+J8 -> 0 | N8: 010102 | P8: 0101 | R8: 3
A9: 0103 환기설비공사 | D9: 1 | E9: =공종별내역서!F123 -> 0 | F9: =E9*D9 -> 0 | G9: =공종별내역서!H123 -> 0 | H9: =G9*D9 -> 0 | I9: =공종별내역서!J123 -> 0 | J9: =I9*D9 -> 0 | K9: =E9+G9+I9 -> 0 | L9: =F9+H9+J9 -> 0 | N9: 010103 | P9: 0101 | R9: 3
A10: 0104 철거공사 | D10: 1 | E10: =공종별내역서!F147 -> 0 | F10: =E10*D10 -> 0 | G10: =공종별내역서!H147 -> 0 | H10: =G10*D10 -> 0 | I10: =공종별내역서!J147 -> 0 | J10: =I10*D10 -> 0 | K10: =E10+G10+I10 -> 0 | L10: =F10+H10+J10 -> 0 | N10: 010104 | P10: 0101 | R10: 3
A11: 0105 냉난방기설치공사 | D11: 1 | E11: =공종별내역서!F195 -> 0 | F11: =E11*D11 -> 0 | G11: =공종별내역서!H195 -> 0 | H11: =G11*D11 -> 0 | I11: =공종별내역서!J195 -> 0 | J11: =I11*D11 -> 0 | K11: =E11+G11+I11 -> 0 | L11: =F11+H11+J11 -> 0 | N11: 010105 | P11: 0101 | R11: 3
A12: 0106 제습기설치공사 | D12: 1 | E12: =공종별내역서!F219 -> 0 | F12: =E12*D12 -> 0 | G12: =공종별내역서!H219 -> 0 | H12: =G12*D12 -> 0 | I12: =공종별내역서!J219 -> 0 | J12: =I12*D12 -> 0 | K12: =E12+G12+I12 -> 0 | L12: =F12+H12+J12 -> 0 | N12: 010106 | P12: 0101 | R12: 3
A13: 02 폐기물처리비 | D13: 1 | E13: =F14 -> 0 | F13: =E13*D13 -> 0 | G13: =H14 -> 0 | H13: =G13*D13 -> 0 | I13: =J14 -> 0 | J13: =I13*D13 -> 0 | K13: =E13+G13+I13 -> 0 | L13: =F13+H13+J13 -> 0 | N13: 0102 | Q13: 6 | R13: 2 | T13: =L13*1 -> 0
A14: 0201 폐기물처리비 | D14: 1 | E14: =공종별내역서!F243 -> 0 | F14: =E14*D14 -> 0 | G14: =공종별내역서!H243 -> 0 | H14: =G14*D14 -> 0 | I14: =공종별내역서!J243 -> 0 | J14: =I14*D14 -> 0 | K14: =E14+G14+I14 -> 0 | L14: =F14+H14+J14 -> 0 | N14: 010201 | P14: 0102 | R14: 3
A15: 03 고재처리비 | D15: 1 | E15: =F16 -> 0 | F15: =E15*D15 -> 0 | G15: =H16 -> 0 | H15: =G15*D15 -> 0 | I15: =J16 -> 0 | J15: =I15*D15 -> 0 | K15: =E15+G15+I15 -> 0 | L15: =F15+H15+J15 -> 0 | N15: 0103 | Q15: 7 | R15: 2 | T15: =L15*1 -> 0
A16: 0301 고재처리비 | D16: 1 | E16: =공종별내역서!F267 -> 0 | F16: =E16*D16 -> 0 | G16: =공종별내역서!H267 -> 0 | H16: =G16*D16 -> 0 | I16: =공종별내역서!J267 -> 0 | J16: =I16*D16 -> 0 | K16: =E16+G16+I16 -> 0 | L16: =F16+H16+J16 -> 0 | N16: 010301 | P16: 0103 | R16: 3
A27: [ 합 계 ] | F27: =F5 -> 0 | H27: =H5 -> 0 | J27: =J5 -> 0 | L27: =L5 -> 0

Sheet 공종별내역서
A1: [ 부천대 대학혁신지원사업 밀레니엄관 지하1층 리뉴얼 ]
A2: 품 명 | B2: 규 격 | C2: 단위 | D2: 수량 | E2: 재 료 비 | G2: 노 무 비 | I2: 경 비 | K2: 합 계 | M2: 비 고 | N2: 품목코드 | O2: 변수 | P2: 설정 | Q2: 공종코드 | R2: 일위 | S2: 단산 | T2: 자재 | U2: 손료적용 | V2: 손료저장 | W2: 적용율 | X2: JUK1 | Y2: JUK2 | Z2: JUK3 | AA2: JUK4 | AB2: JUK5 | AC2: JUK6 | AD2: JUK7 | AE2: JUK8 | AF2: JUK9 | AG2: JUK10 | AH2: JUK11 | AI2: JUK12 | AJ2: JUK13 | AK2: JUK14 | AL2: JUK15 | AM2: JUK16 | AN2: JUK17 | AO2: JUK18 | AP2: JUK19 | AQ2: JUK20 | AR2: 자재구분 | AS2: 공종구분 | AT2: 공종레벨 | AU2: 공종+자재 | AV2: 고유번호
E3: 단 가 | F3: 금 액 | G3: 단 가 | H3: 금 액 | I3: 단 가 | J3: 금 액 | K3: 단 가 | L3: 금 액
A4: 0101 급수급탕배관공사 | Q4: 010101
A5: 스테인리스옥내배관(프레스식) | B5: D13 | C5: M | D5: 287 | N5: 5B95E60FBC62F484184FE19FF506C0 | Q5: 010101 | R5: T | S5: F | T5: F | AU5: 0101015B95E60FBC62F484184FE19FF506C0 | AV5: 196
A6: 스테인리스옥내배관(프레스식) | B6: D20 | C6: M | D6: 91 | N6: 5B95E60FBC62F484184FE19FF50539 | Q6: 010101 | R6: T | S6: F | T6: F | AU6: 0101015B95E60FBC62F484184FE19FF50539 | AV6: 197
A7: 스테인리스옥내배관(프레스식) | B7: D25 | C7: M | D7: 57 | N7: 5B95E60FBC62F484184FE19FF50412 | Q7: 010101 | R7: T | S7: F | T7: F | AU7: 0101015B95E60FBC62F484184FE19FF50412 | AV7: 198
A8: 일반배관용스테인리스강관관이음쇠 | B8: ∮13mm, 엘보90°, SP | C8: 개 | D8: 176 | N8: 5C05E6A06A3264AE2871408F75834D7FAC7794 | Q8: 010101 | R8: F | S8: F | T8: T | AU8: 0101015C05E6A06A3264AE2871408F75834D7FAC7794 | AV8: 199
A9: 일반배관용스테인리스강관관이음쇠 | B9: ∮20mm, 엘보90°, SP | C9: 개 | D9: 4 | N9: 5C05E6A06A3264AE2871408F75834D7FAC7795 | Q9: 010101 | R9: F | S9: F | T9: T | AU9: 0101015C05E6A06A3264AE2871408F75834D7FAC7795 | AV9: 200
A10: 일반배관용스테인리스강관관이음쇠 | B10: ∮25mm, 엘보90°, SP | C10: 개 | D10: 41 | N10: 5C05E6A06A3264AE2871408F75834D7FAC7792 | Q10: 010101 | R10: F | S10: F | T10: T | AU10: 0101015C05E6A06A3264AE2871408F75834D7FAC7792 | AV10: 201
A11: 일반배관용스테인리스강관관이음쇠 | B11: ∮20*20mm, 티, SP | C11: 개 | D11: 13 | N11: 5C05E6A06A3264AE2871408F75834D7CD161D5 | Q11: 010101 | R11: F | S11: F | T11: T | AU11: 0101015C05E6A06A3264AE2871408F75834D7CD161D5 | AV11: 202
A12: 일반배관용스테인리스강관관이음쇠 | B12: ∮25*25mm, 티, SP | C12: 개 | D12: 11 | N12: 5C05E6A06A3264AE2871408F75834D7CD161D4 | Q12: 010101 | R12: F | S12: F | T12: T | AU12: 0101015C05E6A06A3264AE2871408F75834D7CD161D4 | AV12: 203
A13: 일반배관용스테인리스강관관이음쇠 | B13: ∮50*50mm, 티, SP | C13: 개 | D13: 2 | N13: 5C05E6A06A3264AE2871408F75834D7CD160CD | Q13: 010101 | R13: F | S13: F | T13: T | AU13: 0101015C05E6A06A3264AE2871408F75834D7CD160CD | AV13: 204
A14: 일반배관용스테인리스강관관이음쇠 | B14: ∮13*12.7mm, 급수전티, SP | C14: 개 | D14: 33 | N14: 5C05E6A06A3264AE2871408F75834D7CD04324 | Q14: 010101 | R14: F | S14: F | T14: T | AU14: 0101015C05E6A06A3264AE2871408F75834D7CD04324 | AV14: 205
A15: 일반배관용스테인리스강관관이음쇠 | B15: ∮25*25.4mm, 급수전티, SP | C15: 개 | D15: 7 | N15: 5C05E6A06A3264AE2871408F75834D7CD04320 | Q15: 010101 | R15: F | S15: F | T15: T | AU15: 0101015C05E6A06A3264AE2871408F75834D7CD04320 | AV15: 206
A16: 일반배관용스테인리스강관관이음쇠 | B16: ∮25*20mm, 리듀서, SP | C16: 개 | D16: 1 | N16: 5C05E6A06A3264AE2871408F75834D7CD2701B | Q16: 010101 | R16: F | S16: F | T16: T | AU16: 0101015C05E6A06A3264AE2871408F75834D7CD2701B | AV16: 207
... A46: 각종 잡철물 제작 설치 | B46: 현장제작설치,일반철제 | C46: TON | D46: 0.2 | N46: 5B95663967B2945338E3C94A85F931 | Q46: 010101 | R46: T | S46: F | T46: F | AU46: 0101015B95663967B2945338E3C94A85F931 | AV46: 224
Q47: 010101
Q48: 010101
Q49: 010101
Q50: 010101
A51: [ 합 계 ] | F51: =SUMIF(Q5:Q50,"010101",F5:F50) -> 0 | H51: =SUMIF(Q5:Q50,"010101",H5:H50) -> 0 | J51: =SUMIF(Q5:Q50,"010101",J5:J50) -> 0 | L51: =SUMIF(Q5:Q50,"010101",L5:L50) -> 0 | N51: TOTAL
A52: 0102 오배수배관공사 | Q52: 010102
A53: 경질염화비닐관(접착제) | B53: PVC관(VG2), D50 | C53: M | D53: 2 | N53: 5B95D611A8E2F4197867ED7E75D800 | Q53: 010102 | R53: T | S53: F | T53: F | AU53: 0101025B95D611A8E2F4197867ED7E75D800 | AV53: 237
A54: 경질염화비닐관(접착제) | B54: PVC관(VG2), D35 | C54: M | D54: 12 | N54: 5B95D611A8E2D46B98BDD444952BDA | Q54: 010102 | R54: T | S54: F | T54: F | AU54: 0101025B95D611A8E2D46B98BDD444952BDA | AV54: 238
A55: 경질염화비닐관(고무링 캡조임-일반 PVC) | B55: PVC관(VG2), D50 | C55: M | D55: 89 | N55: 5B95D611A8E2F4197867ED4135BA36 | Q55: 010102 | R55: T | S55: F | T55: F | AU55: 0101025B95D611A8E2F4197867ED4135BA36 | AV55: 239
A56: 경질염화비닐관(고무링 캡조임-일반 PVC) | B56: PVC관(VG2), D75 | C56: M | D56: 58 | N56: 5B95D611A8E214B8C841F57A852E68 | Q56: 010102 | R56: T | S56: F | T56: F | AU56: 0101025B95D611A8E214B8C841F57A852E68 | AV56: 240
A57: 경질염화비닐관(고무링 캡조임-일반 PVC) | B57: PVC관(VG2), D100 | C57: M | D57: 26 | N57: 5B95D612B2A2E41E685784EE658FE7 | Q57: 010102 | R57: T | S57: F | T57: F | AU57: 0101025B95D612B2A2E41E685784EE658FE7 | AV57: 241
A58: 바닥배수구 설치 | B58: D75 | C58: 개 | D58: 5 | N58: 5B9586E78072D48E88B35F84B56092 | Q58: 010102 | R58: T | S58: F | T58: F | AU58: 0101025B9586E78072D48E88B35F84B56092 | AV58: 242
A59: 일반용경질폴리염화비닐이음관 | B59: 일반용경질폴리염화비닐이음관, ∮50mm, P트랩, DRF | C59: 개 | D59: 10 | N59: 5C05E6A06A3264AE2860A463D507EA53D2A942 | Q59: 010102 | R59: F | S59: F | T59: T | AU59: 0101025C05E6A06A3264AE2860A463D507EA53D2A942 | AV59: 243
A60: 일반용경질폴리염화비닐이음관 | B60: 일반용경질폴리염화비닐이음관, ∮75mm, P트랩, DRF | C60: 개 | D60: 5 | N60: 5C05E6A06A3264AE2860A463D507EA53D2A945 | Q60: 010102 | R60: F | S60: F | T60: T | AU60: 0101025C05E6A06A3264AE2860A463D507EA53D2A945 | AV60: 244
A61: 일반용경질폴리염화비닐이음관 | B61: 일반용경질폴리염화비닐이음관, ∮50mm, PVC C.O., DTS | C61: 개 | D61: 1 | N61: 5C05E6A06A3264AE2860A463C5610B8B995B4F | Q61: 010102 | R61: F | S61: F | T61: T | AU61: 0101025C05E6A06A3264AE2860A463C5610B8B995B4F | AV61: 245
A62: 일반용경질폴리염화비닐이음관 | B62: 일반용경질폴리염화비닐이음관, ∮75mm, PVC C.O., DTS | C62: 개 | D62: 4 | N62: 5C05E6A06A3264AE2860A463C5610B8B995B49 | Q62: 010102 | R62: F | S62: F | T62: T | AU62: 0101025C05E6A06A3264AE2860A463C5610B8B995B49 | AV62: 246
A63: 일반용경질폴리염화비닐이음관 | B63: 일반용경질폴리염화비닐이음관, ∮100mm, PVC C.O., DTS | C63: 개 | D63: 1 | N63: 5C05E6A06A3264AE2860A463C5610B8B995B4A | Q63: 010102 | R63: F | S63: F | T63: T | AU63: 0101025C05E6A06A3264AE2860A463C5610B8B995B4A | AV63: 354
A64: 일반행가(전산볼트) | B64: D50 | C64: 개소 | D64: 30 | N64: 5B9576B4C4E204CBD8E151D4F5335A | Q64: 010102 | R64: T | S64: F | T64: F | AU64: 0101025B9576B4C4E204CBD8E151D4F5335A | AV64: 247
... A92: 각종 잡철물 제작 설치 | B92: 현장제작설치,일반철제 | C92: TON | D92: 0.07 | N92: 5B95663967B2945338E3C94A85F931 | Q92: 010102 | R92: T | S92: F | T92: F | AU92: 0101025B95663967B2945338E3C94A85F931 | AV92: 272
Q93: 010102
Q94: 010102
Q95: 010102
Q96: 010102
Q97: 010102
Q98: 010102
A99: [ 합 계 ] | F99: =SUMIF(Q53:Q98,"010102",F53:F98) -> 0 | H99: =SUMIF(Q53:Q98,"010102",H53:H98) -> 0 | J99: =SUMIF(Q53:Q98,"010102",J53:J98) -> 0 | L99: =SUMIF(Q53:Q98,"010102",L53:L98) -> 0 | N99: TOTAL
A100: 0103 환기설비공사 | Q100: 010103
A101: 각형닥트제작(기계덕트) | B101: #24 (0.6t) | C101: M2 | D101: 47 | N101: 5B95C6334D92548278F9080515343F | Q101: 010103 | R101: T | S101: F | T101: F | AU101: 0101035B95C6334D92548278F9080515343F | AV101: 357
A102: 각형닥트설치(기계덕트) | B102: #24 (0.6t) | C102: M2 | D102: 47 | N102: 5B95C6334D92548278F90805153438 | Q102: 010103 | R102: T | S102: F | T102: F | AU102: 0101035B95C6334D92548278F90805153438 | AV102: 358
A103: 스파이럴덕트 설치 | B103: D250 | C103: M | D103: 21 | N103: 5B95D6683572B499B8EF06A4D5FD3F | Q103: 010103 | R103: T | S103: F | T103: F | AU103: 0101035B95D6683572B499B8EF06A4D5FD3F | AV103: 274
A104: 플렉시블덕트 설치 | B104: D150 | C104: 개소 | D104: 18 | N104: 5B95D6683572B49D18BEF9C1B5F9D8 | Q104: 010103 | R104: T | S104: F | T104: F | AU104: 0101035B95D6683572B49D18BEF9C1B5F9D8 | AV104: 275
A105: 플렉시블덕트 설치 | B105: D200 | C105: 개소 | D105: 329 | N105: 5B95D6683572B49D18BEF9C1B5FF60 | Q105: 010103 | R105: T | S105: F | T105: F | AU105: 0101035B95D6683572B49D18BEF9C1B5FF60 | AV105: 276
A106: 일반행가(전산볼트) | B106: D250 | C106: 개소 | D106: 6 | N106: 5B9576B4C4E204CBD8E1477EC5D394 | Q106: 010103 | R106: T | S106: F | T106: F | AU106: 0101035B9576B4C4E204CBD8E1477EC5D394 | AV106: 277
A107: 디퓨저(사각) 이설 | B107: ND200 | C107: 개 | D107: 189 | N107: 5B95C6360532747DB809CD91C55F64 | Q107: 010103 | R107: T | S107: F | T107: F | AU107: 0101035B95C6360532747DB809CD91C55F64 | AV107: 299
A108: 디퓨져 신설 | B108: D200 | C108: 개 | D108: 19 | N108: 5B956641BC02A46A587AF02935E1C4 | Q108: 010103 | R108: T | S108: F | T108: F | AU108: 0101035B956641BC02A46A587AF02935E1C4 | AV108: 300
A109: 라인디퓨져 신설 | B109: D150 | C109: 개 | D109: 12 | N109: 5B956641BC02A46A587AF02935E1CA | Q109: 010103 | R109: T | S109: F | T109: F | AU109: 0101035B956641BC02A46A587AF02935E1CA | AV109: 301
A110: 공조용플렉시블덕트 | B110: 스테인리스밴드, ∮150mm | C110: 개 | D110: 18 | N110: 5C05E6A06A32548F58B5E15EA58E14D79DEF7E | Q110: 010103 | R110: F | S110: F | T110: T | AU110: 0101035C05E6A06A32548F58B5E15EA58E14D79DEF7E | AV110: 278
A111: 공조용플렉시블덕트 | B111: 스테인리스밴드, ∮200mm | C111: 개 | D111: 329 | N111: 5C05E6A06A32548F58B5E15EA58E14D79DEE51 | Q111: 010103 | R111: F | S111: F | T111: T | AU111: 0101035C05E6A06A32548F58B5E15EA58E14D79DEE51 | AV111: 279
A112: 공조덕트 | B112: 공조덕트, 스파이럴엘보, ∮250mm | C112: 개 | D112: 1 | N112: 5C05E6A06A32548F5826A133259327B8F2E59C | Q112: 010103 | R112: F | S112: F | T112: T | AU112: 0101035C05E6A06A32548F5826A133259327B8F2E59C | AV112: 280
... A115: 각종 잡철물 제작 설치 | B115: 현장제작설치,일반철제 | C115: TON | D115: 0.4 | N115: 5B95663967B2945338E3C94A85F931 | Q115: 010103 | R115: T | S115: F | T115: F | AU115: 0101035B95663967B2945338E3C94A85F931 | AV115: 283
Q116: 010103
Q117: 010103
Q118: 010103
Q119: 010103
Q120: 010103
Q121: 010103
Q122: 010103
A123: [ 합 계 ] | F123: =SUMIF(Q101:Q122,"010103",F101:F122) -> 0 | H123: =SUMIF(Q101:Q122,"010103",H101:H122) -> 0 | J123: =SUMIF(Q101:Q122,"010103",J101:J122) -> 0 | L123: =SUMIF(Q101:Q122,"010103",L101:L122) -> 0 | N123: TOTAL
A124: 0104 철거공사 | Q124: 010104
A125: 각형닥트 철거 | B125: 0.6t | C125: M2 | D125: 44 | N125: 5B95C6334D92548278F9084CC5DCCD | Q125: 010104 | R125: T | S125: F | T125: F | AU125: 0101045B95C6334D92548278F9084CC5DCCD | AV125: 359
A126: 동관 철거 | B126: D15 | C126: M | D126: 6 | N126: 5B95D61BA842347BA8F2BC3595C9E5 | Q126: 010104 | R126: T | S126: F | T126: F | AU126: 0101045B95D61BA842347BA8F2BC3595C9E5 | AV126: 284
A127: 동관 철거 | B127: D20 | C127: M | D127: 5 | N127: 5B95D61BA84204A738034CD6F5B813 | Q127: 010104 | R127: T | S127: F | T127: F | AU127: 0101045B95D61BA84204A738034CD6F5B813 | AV127: 285
A128: 동관 철거 | B128: D25 | C128: M | D128: 5 | N128: 5B95D61BA842144D984F9E044529B4 | Q128: 010104 | R128: T | S128: F | T128: F | AU128: 0101045B95D61BA842144D984F9E044529B4 | AV128: 286
A129: 동관 철거 | B129: D32 | C129: M | D129: 2 | N129: 5B95D61BA84264CFA8D1DB3AB52EA7 | Q129: 010104 | R129: T | S129: F | T129: F | AU129: 0101045B95D61BA84264CFA8D1DB3AB52EA7 | AV129: 287
A130: 동관 철거 | B130: D40 | C130: M | D130: 2 | N130: 5B95D61BA84274D4D8140748D5DFA9 | Q130: 010104 | R130: T | S130: F | T130: F | AU130: 0101045B95D61BA84274D4D8140748D5DFA9 | AV130: 288
A131: 동관 철거 | B131: D50 | C131: M | D131: 2 | N131: 5B95D61BA8424400B841DEC3A56DA3 | Q131: 010104 | R131: T | S131: F | T131: F | AU131: 0101045B95D61BA8424400B841DEC3A56DA3 | AV131: 289
A132: 동관이음쇠 | B132: 동관이음쇠, ∮20mm, 동캡 | C132: 개 | D132: 2 | N132: 5C05E6A06A3264AE28605C006571F930AC1312 | Q132: 010104 | R132: F | S132: F | T132: T | AU132: 0101045C05E6A06A3264AE28605C006571F930AC1312 | AV132: 290
A133: 동관용접(Brazing) | B133: D20 | C133: 개소 | D133: 2 | N133: 5B95D6084ED214A61845E0873531CF | Q133: 010104 | R133: T | S133: F | T133: F | AU133: 0101045B95D6084ED214A61845E0873531CF | AV133: 291
A134: PVC관 철거 | B134: D50 | C134: M | D134: 2 | N134: 5B95D611ABB2B4A0B80AA4C21505CC | Q134: 010104 | R134: T | S134: F | T134: F | AU134: 0101045B95D611ABB2B4A0B80AA4C21505CC | AV134: 292
A135: 주철관배관 철거 | B135: D50 | C135: 개소 | D135: 6 | N135: 5B95D61F0912B44F387351E4D5F41E | Q135: 010104 | R135: T | S135: F | T135: F | AU135: 0101045B95D61F0912B44F387351E4D5F41E | AV135: 293
A136: 주철관배관 철거 | B136: D75 | C136: 개소 | D136: 20 | N136: 5B95D61F0912B44F387351DA7511C0 | Q136: 010104 | R136: T | S136: F | T136: F | AU136: 0101045B95D61F0912B44F387351DA7511C0 | AV136: 294
... A140: 공조덕트 | B140: 공조덕트, 스파이럴캡, ∮200mm | C140: 개 | D140: 53 | N140: 5C05E6A06A32548F5826A133259327B8F2E97B | Q140: 010104 | R140: F | S140: F | T140: T | AU140: 0101045C05E6A06A32548F5826A133259327B8F2E97B | AV140: 298
Q141: 010104
Q142: 010104
Q143: 010104
Q144: 010104
Q145: 010104
Q146: 010104
A147: [ 합 계 ] | F147: =SUMIF(Q125:Q146,"010104",F125:F146) -> 0 | H147: =SUMIF(Q125:Q146,"010104",H125:H146) -> 0 | J147: =SUMIF(Q125:Q146,"010104",J125:J146) -> 0 | L147: =SUMIF(Q125:Q146,"010104",L125:L146) -> 0 | N147: TOTAL
A148: 0105 냉난방기설치공사 | Q148: 010105
A149: 실외기(40마력) | B149: 1등급, AI엔진, 한랭지형, 자동제어(ACP) 연동 | C149: 대 | D149: 1 | N149: 5C3166C372D2F4E698D0F75845A2902C155E | Q149: 010105 | R149: F | S149: F | T149: T | AU149: 0101055C3166C372D2F4E698D0F75845A2902C155E | AV149: 317
A150: 실외기(30마력) | B150: 1등급, AI엔진, 한랭지형, 자동제어(ACP) 연동 | C150: 대 | D150: 1 | N150: 5C3166C372D2F4E698D0F75845A2902C155F | Q150: 010105 | R150: F | S150: F | T150: T | AU150: 0101055C3166C372D2F4E698D0F75845A2902C155F | AV150: 318
A151: 매립덕트 실내기(40평) | C151: 대 | D151: 1 | N151: 5C3166C372D2F4E698D0F75845A2902C14B8 | Q151: 010105 | R151: F | S151: F | T151: T | AU151: 0101055C3166C372D2F4E698D0F75845A2902C14B8 | AV151: 319
A152: 4-WAY 천정형 실내기(40평) | C152: 대 | D152: 8 | N152: 5C3166C372D2F4E698D0F75845A2902C170C | Q152: 010105 | R152: F | S152: F | T152: T | AU152: 0101055C3166C372D2F4E698D0F75845A2902C170C | AV152: 320
A153: 4-WAY 천정형 실내기(28평) | C153: 대 | D153: 1 | N153: 5C3166C372D2F4E698D0F75845A2902C170D | Q153: 010105 | R153: F | S153: F | T153: T | AU153: 0101055C3166C372D2F4E698D0F75845A2902C170D | AV153: 321
A154: 4-WAY 천정형 실내기(23평) | C154: 대 | D154: 3 | N154: 5C3166C372D2F4E698D0F75845A2902C170E | Q154: 010105 | R154: F | S154: F | T154: T | AU154: 0101055C3166C372D2F4E698D0F75845A2902C170E | AV154: 322
A155: 4-WAY 천정형 실내기(10평) | C155: 대 | D155: 8 | N155: 5C3166C372D2F4E698D0F75845A2902C170F | Q155: 010105 | R155: F | S155: F | T155: T | AU155: 0101055C3166C372D2F4E698D0F75845A2902C170F | AV155: 323
A156: 1-WAY 천정형 실내기(5평) | C156: 대 | D156: 4 | N156: 5C3166C372D2F4E698D0F75845A2902C1708 | Q156: 010105 | R156: F | S156: F | T156: T | AU156: 0101055C3166C372D2F4E698D0F75845A2902C1708 | AV156: 324
A157: 4-WAY 판넬 | C157: 대 | D157: 18 | N157: 5C3166C372D2F4E698D0F75845A2902C1665 | Q157: 010105 | R157: F | S157: F | T157: T | AU157: 0101055C3166C372D2F4E698D0F75845A2902C1665 | AV157: 325
A158: 1-WAY 판넬 | C158: 대 | D158: 8 | N158: 5C3166C372D2F4E698D0F75845A2902C1664 | Q158: 010105 | R158: F | S158: F | T158: T | AU158: 0101055C3166C372D2F4E698D0F75845A2902C1664 | AV158: 326
A159: 유선 리모컨 | C159: EA | D159: 27 | N159: 5C3166C372D2F4E698D0F75845A2902C1660 | Q159: 010105 | R159: F | S159: F | T159: T | AU159: 0101055C3166C372D2F4E698D0F75845A2902C1660 | AV159: 327
A160: 중앙제어기 | B160: ACP5 | C160: EA | D160: 1 | N160: 5C3166C372D2F4E698D0F75845A2902C11E3 | Q160: 010105 | R160: F | S160: F | T160: T | AU160: 0101055C3166C372D2F4E698D0F75845A2902C11E3 | AV160: 328
A161: 분지관 | B161: 분지관 평균 | C161: EA | D161: 25 | N161: 5C3166C372D2F4E698D0F75845A2902C11E6 | Q161: 010105 | R161: F | S161: F | T161: T | AU161: 0101055C3166C372D2F4E698D0F75845A2902C11E6 | AV161: 329
...

Sheet 공량설정_일위대가
A1: 일위대가 | B1: 적용율(%) | C1: 소수점이하자릿수 | D1: 일위대가 코드
A2: 스테인리스옥내배관(프레스식) D13 (호표 1) | B2: =원가계산서!J2 -> 0 | D2: 5B95E60FBC62F484184FE19FF506C0
A3: 배관공 | C3: 3 | D3: 5B95E60FBC62F484184FE19FF506C05B8086C9EBE2B406E86A4BA34551D2BAD76A41
A4: 보통인부 | C4: 3 | D4: 5B95E60FBC62F484184FE19FF506C05B8086C9EBE2B406E86A4BA34551D2BAD769A3
A5: 스테인리스옥내배관(프레스식) D20 (호표 2) | B5: =$B$2 -> 0 | D5: 5B95E60FBC62F484184FE19FF50539
A6: 배관공 | C6: 3 | D6: 5B95E60FBC62F484184FE19FF505395B8086C9EBE2B406E86A4BA34551D2BAD76A41
A7: 보통인부 | C7: 3 | D7: 5B95E60FBC62F484184FE19FF505395B8086C9EBE2B406E86A4BA34551D2BAD769A3
A8: 스테인리스옥내배관(프레스식) D25 (호표 3) | B8: =$B$2 -> 0 | D8: 5B95E60FBC62F484184FE19FF50412
A9: 배관공 | C9: 2 | D9: 5B95E60FBC62F484184FE19FF504125B8086C9EBE2B406E86A4BA34551D2BAD76A41
A10: 보통인부 | C10: 2 | D10: 5B95E60FBC62F484184FE19FF504125B8086C9EBE2B406E86A4BA34551D2BAD769A3
A11: 동관용접(Brazing) D15 (호표 4) | B11: =$B$2 -> 0 | D11: 5B95D6084ED2244D882C3105E53700
A12: 용접공 | C12: 3 | D12: 5B95D6084ED2244D882C3105E537005B8086C9EBE2B406E86A4BA34551D2BAD76898
A13: 동관용접(Brazing) D20 (호표 5) | B13: =$B$2 -> 0 | D13: 5B95D6084ED214A61845E0873531CF
A14: 용접공 | C14: 2 | D14: 5B95D6084ED214A61845E0873531CF5B8086C9EBE2B406E86A4BA34551D2BAD76898
A15: 동관용접(Brazing) D25 (호표 6) | B15: =$B$2 -> 0 | D15: 5B95D6084ED2049F28551B83952AE3
A16: 용접공 | C16: 3 | D16: 5B95D6084ED2049F28551B83952AE35B8086C9EBE2B406E86A4BA34551D2BAD76898
A17: 동관용접(Brazing) D50 (호표 7) | B17: =$B$2 -> 0 | D17: 5B95D6084ED2540148B877E0D56765
A18: 용접공 | C18: 3 | D18: 5B95D6084ED2540148B877E0D567655B8086C9EBE2B406E86A4BA34551D2BAD76898
A19: 관보온(고무발포, 매직테프) 9t*D15 (호표 8) | B19: =$B$2 -> 0 | D19: 5B95B6CAE712949148E5FE9055424A
A20: 보온공 | C20: 3 | D20: 5B95B6CAE712949148E5FE9055424A5B8086C9EBE2B406E86A4BA34551D2BAD76D18
A21: 보통인부 | C21: 3 | D21: 5B95B6CAE712949148E5FE9055424A5B8086C9EBE2B406E86A4BA34551D2BAD769A3
A22: 관보온(고무발포, 매직테프) 9t*D25 (호표 9) | B22: =$B$2 -> 0 | D22: 5B95B6CAE712B44FB8620BA9D5A7B2
A23: 보온공 | C23: 3 | D23: 5B95B6CAE712B44FB8620BA9D5A7B25B8086C9EBE2B406E86A4BA34551D2BAD76D18
A24: 보통인부 | C24: 3 | D24: 5B95B6CAE712B44FB8620BA9D5A7B25B8086C9EBE2B406E86A4BA34551D2BAD769A3
A25: 관보온(고무발포, 매직테프) 19t*D15 (호표 10) | B25: =$B$2 -> 0 | D25: 5B95B6CAE1F214F488D5727FC59E78
A26: 보온공 | C26: 3 | D26: 5B95B6CAE1F214F488D5727FC59E785B8086C9EBE2B406E86A4BA34551D2BAD76D18
A27: 보통인부 | C27: 3 | D27: 5B95B6CAE1F214F488D5727FC59E785B8086C9EBE2B406E86A4BA34551D2BAD769A3
A28: 관보온(고무발포, 매직테프) 19t*D20 (호표 11) | B28: =$B$2 -> 0 | D28: 5B95B6CAE1F2248AC856CA03E56BD4
A29: 보온공 | C29: 3 | D29: 5B95B6CAE1F2248AC856CA03E56BD45B8086C9EBE2B406E86A4BA34551D2BAD76D18
A30: 보통인부 | C30: 3 | D30: 5B95B6CAE1F2248AC856CA03E56BD45B8086C9EBE2B406E86A4BA34551D2BAD769A3
A31: 관보온(고무발포, 매직테프) 19t*D25 (호표 12) | B31: =$B$2 -> 0 | D31: 5B95B6CAE1F234A1482F6A688558C1
A32: 보온공 | C32: 3 | D32: 5B95B6CAE1F234A1482F6A688558C15B8086C9EBE2B406E86A4BA34551D2BAD76D18
A33: 보통인부 | C33: 3 | D33: 5B95B6CAE1F234A1482F6A688558C15B8086C9EBE2B406E86A4BA34551D2BAD769A3
A34: 절연행가(전산볼트) D15 (호표 13) | B34: =$B$2 -> 0 | D34: 5B9576B4C4E204CA387EC3E3E5DE66
A35: 절연행가(전산볼트) D20 (호표 14) | B35: =$B$2 -> 0 | D35: 5B9576B4C4E204CA387EC3D175356C
A36: 절연행가(전산볼트) D25 (호표 15) | B36: =$B$2 -> 0 | D36: 5B9576B4C4E204CA387EC3C7054BFB
A37: 각종 잡철물 제작 설치 현장제작설치,일반철제 (호표 16) | B37: =$B$2 -> 0 | D37: 5B95663967B2945338E3C94A85F931
A38: 철공 | C38: 2 | D38: 5B95663967B2945338E3C94A85F9315B8086C9EBE2B406E86A4BA34551D2BAD769A8
A39: 용접공 | C39: 2 | D39: 5B95663967B2945338E3C94A85F9315B8086C9EBE2B406E86A4BA34551D2BAD76898
A40: 특별인부 | C40: 1 | D40: 5B95663967B2945338E3C94A85F9315B8086C9EBE2B406E86A4BA34551D2BAD769A2
A41: 보통인부 | C41: 2 | D41: 5B95663967B2945338E3C94A85F9315B8086C9EBE2B406E86A4BA34551D2BAD769A3
A42: 경질염화비닐관(접착제) PVC관(VG2), D50 (호표 17) | B42: =$B$2 -> 0 | D42: 5B95D611A8E2F4197867ED7E75D800
A43: 배관공 | C43: 3 | D43: 5B95D611A8E2F4197867ED7E75D8005B8086C9EBE2B406E86A4BA34551D2BAD76A41
A44: 보통인부 | C44: 3 | D44: 5B95D611A8E2F4197867ED7E75D8005B8086C9EBE2B406E86A4BA34551D2BAD769A3
A45: 경질염화비닐관(접착제) PVC관(VG2), D35 (호표 18) | B45: =$B$2 -> 0 | D45: 5B95D611A8E2D46B98BDD444952BDA
A46: 배관공 | C46: 3 | D46: 5B95D611A8E2D46B98BDD444952BDA5B8086C9EBE2B406E86A4BA34551D2BAD76A41
A47: 보통인부 | C47: 3 | D47: 5B95D611A8E2D46B98BDD444952BDA5B8086C9EBE2B406E86A4BA34551D2BAD769A3
A48: 경질염화비닐관(고무링 캡조임-일반 PVC) PVC관(VG2), D50 (호표 19) | B48: =$B$2 -> 0 | D48: 5B95D611A8E2F4197867ED4135BA36
A49: 배관공 | C49: 3 | D49: 5B95D611A8E2F4197867ED4135BA365B8086C9EBE2B406E86A4BA34551D2BAD76A41
A50: 보통인부 | C50: 3 | D50: 5B95D611A8E2F4197867ED4135BA365B8086C9EBE2B406E86A4BA34551D2BAD769A3
A51: 경질염화비닐관(고무링 캡조임-일반 PVC) PVC관(VG2), D75 (호표 20) | B51: =$B$2 -> 0 | D51: 5B95D611A8E214B8C841F57A852E68
A52: 배관공 | C52: 3 | D52: 5B95D611A8E214B8C841F57A852E685B8086C9EBE2B406E86A4BA34551D2BAD76A41
A53: 보통인부 | C53: 3 | D53: 5B95D611A8E214B8C841F57A852E685B8086C9EBE2B406E86A4BA34551D2BAD769A3
A54: 경질염화비닐관(고무링 캡조임-일반 PVC) PVC관(VG2), D100 (호표 21) | B54: =$B$2 -> 0 | D54: 5B95D612B2A2E41E685784EE658FE7
A55: 배관공 | C55: 3 | D55: 5B95D612B2A2E41E685784EE658FE75B8086C9EBE2B406E86A4BA34551D2BAD76A41
A56: 보통인부 | C56: 3 | D56: 5B95D612B2A2E41E685784EE658FE75B8086C9EBE2B406E86A4BA34551D2BAD769A3
A57: 바닥배수구 설치 D75 (호표 22) | B57: =$B$2 -> 0 | D57: 5B9586E78072D48E88B35F84B56092
A58: 배관공 | C58: 3 | D58: 5B9586E78072D48E88B35F84B560925B8086C9EBE2B406E86A4BA34551D2BAD76A41
A59: 보통인부 | C59: 3 | D59: 5B9586E78072D48E88B35F84B560925B8086C9EBE2B406E86A4BA34551D2BAD769A3
A60: 일반행가(전산볼트) D50 (호표 23) | B60: =$B$2 -> 0 | D60: 5B9576B4C4E204CBD8E151D4F5335A
A61: 일반행가(전산볼트) D80 (호표 24) | B61: =$B$2 -> 0 | D61: 5B9576B4C4E204CBD8E15134B5FF26
A62: 일반행가(전산볼트) D100 (호표 25) | B62: =$B$2 -> 0 | D62: 5B9576B4C4E204CBD8E1512A551BC1
A63: 구멍뚫기(코어드릴) D50, 콘크리트 300mm (호표 26) | B63: =$B$2 -> 0 | D63: 5B9556635CB25466586A84D1A5259F
A64: 착암공 | C64: 3 | D64: 5B9556635CB25466586A84D1A5259F5B8086C9EBE2B406E86A4BA34551D2BAD7689F
A65: 보통인부 | C65: 3 | D65: 5B9556635CB25466586A84D1A5259F5B8086C9EBE2B406E86A4BA34551D2BAD769A3
A66: 구멍뚫기(코어드릴) D75, 콘크리트 300mm (호표 27) | B66: =$B$2 -> 0 | D66: 5B9556635CB2B48FD8AE26FD853B97
A67: 착암공 | C67: 3 | D67: 5B9556635CB2B48FD8AE26FD853B975B8086C9EBE2B406E86A4BA34551D2BAD7689F
A68: 보통인부 | C68: 3 | D68: 5B9556635CB2B48FD8AE26FD853B975B8086C9EBE2B406E86A4BA34551D2BAD769A3
A69: 구멍뚫기(코어드릴) D100, 콘크리트 300mm (호표 28) | B69: =$B$2 -> 0 | D69: 5B95566089F2A49CD8F0CA39756374
A70: 착암공 | C70: 3 | D70: 5B95566089F2A49CD8F0CA397563745B8086C9EBE2B406E86A4BA34551D2BAD7689F
A71: 보통인부 | C71: 3 | D71: 5B95566089F2A49CD8F0CA397563745B8086C9EBE2B406E86A4BA34551D2BAD769A3
A72: 각형닥트제작(기계덕트) #24 (0.6t) (호표 29) | B72: =$B$2 -> 0 | D72: 5B95C6334D92548278F9080515343F
A73: 보통인부 | C73: 3 | D73: 5B95C6334D92548278F9080515343F5B8086C9EBE2B406E86A4BA34551D2BAD769A3
A74: 덕트공 | C74: 3 | D74: 5B95C6334D92548278F9080515343F5B8086C9EBE2B406E86A4BA34551D2BAD76D1F
A75: 각형닥트설치(기계덕트) #24 (0.6t) (호표 30) | B75: =$B$2 -> 0 | D75: 5B95C6334D92548278F90805153438
A76: 덕트공 | C76: 1 | D76: 5B95C6334D92548278F908051534385B8086C9EBE2B406E86A4BA34551D2BAD76D1F
A77: 보통인부 | C77: 2 | D77: 5B95C6334D92548278F908051534385B8086C9EBE2B406E86A4BA34551D2BAD769A3
A78: 스파이럴덕트 설치 D250 (호표 31) | B78: =$B$2 -> 0 | D78: 5B95D6683572B499B8EF06A4D5FD3F
A79: 덕트공 | C79: 4 | D79: 5B95D6683572B499B8EF06A4D5FD3F5B8086C9EBE2B406E86A4BA34551D2BAD76D1F
A80: 보통인부 | C80: 4 | D80: 5B95D6683572B499B8EF06A4D5FD3F5B8086C9EBE2B406E86A4BA34551D2BAD769A3
A81: 플렉시블덕트 설치 D150 (호표 32) | B81: =$B$2 -> 0 | D81: 5B95D6683572B49D18BEF9C1B5F9D8
A82: 덕트공 | C82: 2 | D82: 5B95D6683572B49D18BEF9C1B5F9D85B8086C9EBE2B406E86A4BA34551D2BAD76D1F
A83: 플렉시블덕트 설치 D200 (호표 33) | B83: =$B$2 -> 0 | D83: 5B95D6683572B49D18BEF9C1B5FF60
A84: 덕트공 | C84: 1 | D84: 5B95D6683572B49D18BEF9C1B5FF605B8086C9EBE2B406E86A4BA34551D2BAD76D1F
A85: 일반행가(전산볼트) D250 (호표 34) | B85: =$B$2 -> 0 | D85: 5B9576B4C4E204CBD8E1477EC5D394
A86: 디퓨저(사각) 이설 ND200 (호표 35) | B86: =$B$2 -> 0 | D86: 5B95C6360532747DB809CD91C55F64
A87: 덕트공 | C87: 3 | D87: 5B95C6360532747DB809CD91C55F645B8086C9EBE2B406E86A4BA34551D2BAD76D1F
A88: 디퓨져 신설 D200 (호표 36) | B88: =$B$2 -> 0 | D88: 5B956641BC02A46A587AF02935E1C4
A89: 덕트공 | C89: 2 | D89: 5B956641BC02A46A587AF02935E1C45B8086C9EBE2B406E86A4BA34551D2BAD76D1F
A90: 라인디퓨져 신설 D150 (호표 37) | B90: =$B$2 -> 0 | D90: 5B956641BC02A46A587AF02935E1CA
A91: 덕트공 | C91: 2 | D91: 5B956641BC02A46A587AF02935E1CA5B8086C9EBE2B406E86A4BA34551D2BAD76D1F
A92: 각형닥트 철거 0.6t (호표 38) | B92: =$B$2 -> 0 | D92: 5B95C6334D92548278F9084CC5DCCD
A93: 덕트공 | C93: 2 | D93: 5B95C6334D92548278F9084CC5DCCD5B8086C9EBE2B406E86A4BA34551D2BAD76D1F
A94: 보통인부 | C94: 2 | D94: 5B95C6334D92548278F9084CC5DCCD5B8086C9EBE2B406E86A4BA34551D2BAD769A3
A95: 동관 철거 D15 (호표 39) | B95: =$B$2 -> 0 | D95: 5B95D61BA842347BA8F2BC3595C9E5
A96: 배관공 | C96: 2 | D96: 5B95D61BA842347BA8F2BC3595C9E55B8086C9EBE2B406E86A4BA34551D2BAD76A41
A97: 보통인부 | C97: 3 | D97: 5B95D61BA842347BA8F2BC3595C9E55B8086C9EBE2B406E86A4BA34551D2BAD769A3
A98: 동관 철거 D20 (호표 40) | B98: =$B$2 -> 0 | D98: 5B95D61BA84204A738034CD6F5B813
A99: 배관공 | C99: 3 | D99: 5B95D61BA84204A738034CD6F5B8135B8086C9EBE2B406E86A4BA34551D2BAD76A41
A100: 보통인부 | C100: 3 | D100: 5B95D61BA84204A738034CD6F5B8135B8086C9EBE2B406E86A4BA34551D2BAD769A3
...

Sheet  공사설정 
A1: 이 Sheet는 수정하지 마십시요
A2: 공사구분 | B2: C | C2: 타이틀
A3: 확정내역 | B3: 원내역
A4: 자재단가적용 | B4: 5
A5: 경비단가적용 | B5: 5
A6: 품목코드형식 | B6: XXXX-XXXX-XXXXXXXXX
A7: 내역금액소수점처리 | B7: C | C7: 1
A8: 일위대가내역소수점처리 | B8: C | C8: 2
A9: 단가명 | B9: 조달청가격 | C9: 거래가격 | D9: 유통물가 | E9: 물가정보 | F9: 조사가격2 | G9: TTTTT
A10: 환율 | B10: 1157 | C10: 0 | D10: 0
A11: 시간당작업량 | B11: R | C11: 4
A12: 1회 사이클시간 | B12: R | C12: 4
A13: 시간당 작업사이클 | B13: R | C13: 3
A14: 일반변수 | B14: C | C14: 5
A15: 시간당 노임산출 계수 | B15: A | C15: 1/8*16/12*25/20 | D15: 1/8*16/12*25/20 | E15: 1/8*16/12*25/20 | F15: 1
A16: 재료비 할증 계수 | B16: 1.11 | C16: 1.12
A17: 노무비 할증 계수 | B17: 1 | C17: 1.5 | D17: 1.16 | E17: 1.6 | F17: 1.6 | G17: 1.6 | H17: 1.94 | I17: 1.94 | J17: 1.94 | K17: 1 | L17: 1 | M17: 1
A18: 경비 할증 계수 | B18: 1.25 | C18: 1.071
A19: 내역,일위대가 품명,규격,단위 따로적용
A20: 내역단가 소수점처리 | B20: C | C20: 1
A21: 코드 | B21: 공종구분명 | C21: 원가비목코드
A22: 1 | B22: 작 업 부 산 물 | C22: A3
A23: 2 | B23: 운 반 비 | C23: C1
A24: 3 | B24: 관 급 자 재 비 | C24: DJ
A25: 4 | B25: 사 급 자 재 비 | C25: D3
A26: 5 | B26: 외 자 재
A27: 6 | B27: 폐기물처리비 | C27: DA
A28: 7 | B28: 고재처리비 | C28: DM
A29: 8 | B29: ...
A30: 9 | B30: ...
A31: A | B31: ....
A32: B | B32: .....
A33: C | B33: ....
A34: D | B34: ....
A35: E | B35: ....
A36: F | B36: ....
A37: G | B37: ....
A38: H | B38: ....
A39: I | B39: ....
A40: J | B40: ....
A43: 단가 순서 | B43: 1234

Sheet Sheet1
