Workbook

Sheet 원가계산서
B1: 공 사 원 가 계 산 서
B2: 공사명 : 2026학년도 밀레니엄관 지하1층 개선공사(전기)
B3: 비 목 | E3: 금 액 | F3: 구 성 비 | G3: 비 고
A4: A1 | B4: 순 공 사 원 가 | C4: 재 료 비 | D4: 직 접 재 료 비 | E4: =TRUNC(공종별집계표!F5, 0) -> 0
A5: A2 | D5: 간 접 재 료 비 | E5: 0
A6: A3 | D6: 작업설, 부산물(△) | E6: 0
A7: AS | D7: [ 소 계 ] | E7: =TRUNC(E4+E5-E6, 0) -> 0
A8: B1 | C8: 노 무 비 | D8: 직 접 노 무 비 | E8: =TRUNC(공종별집계표!H5, 0) -> 0
A9: B2 | D9: 간 접 노 무 비 | E9: =TRUNC(E8*0.175, 0) -> 0 | F9: 직접노무비 * 17.5%
A10: BS | D10: [ 소 계 ]
A11: C4 | C11: 경 비 | D11: 산 재 보 험 료 | E11: =TRUNC(E10*0.0356, 0) -> 0 | F11: 노무비 * 3.56%
A12: C5 | D12: 고 용 보 험 료 | E12: =TRUNC(E10*0.0101, 0) -> 0 | F12: 노무비 * 1.01%
A13: C6 | D13: 국민 건강 보험료 | F13: 직접노무비 * 3.595%
A14: C7 | D14: 국민 연금 보험료 | F14: 직접노무비 * 4.75%
A15: C8 | D15: 퇴직 공제 부금비 | F15: 직접노무비 * 2.3%
A16: CA | D16: 산업안전보건관리비 | F16: (재료비+직노) * 2.28%+4325000
A17: CB | D17: 노인장기요양보험료 | F17: 건강보험료 * 13.14%
A18: CG | D18: 기 타 경 비 | E18: =TRUNC((E7+E10)*0.05, 0) -> 0 | F18: (재료비+노무비) * 5%
A19: CM | D19: 석 면 분 담 금 | E19: =TRUNC(E10*0.00006, 0) -> 0 | F19: 노무비 * 0.006%
A20: CS | D20: [ 소 계 ]
A21: S1 | B21: 계
A22: D1 | B22: 일 반 관 리 비 | E22: =TRUNC(E21*0.065, 0) -> 0 | F22: 계 * 6.5%
A23: D2 | B23: 이 윤 | E23: =TRUNC((E10+E20+E22)*0.15, 0) -> 0 | F23: (노무비+경비+일반관리비) * 15%
A24: D9 | B24: 공 급 가 액 | E24: =TRUNC(E21+E22+E23, 0) -> 0
A25: DB | B25: 부 가 가 치 세 | E25: =TRUNC(E24*0.1, 0) -> 0 | F25: 공급가액 * 10%
A26: DH | B26: 도 급 액 | E26: =TRUNC(E24+E25, 0) -> 0
A27: S2 | B27: 총 공 사 비

Sheet 공종별집계표
A1: 공 종 별 집 계 표
A2: [ 2026학년도 밀레니엄관 지하1층 개선공사(전기) ]
A3: 품 명 | B3: 규 격 | C3: 단위 | D3: 수량 | E3: 재 료 비 | G3: 노 무 비 | I3: 경 비 | K3: 합 계 | M3: 비 고 | N3: 공종코드 | O3: 변수 | P3: 상위공종 | Q3: 공종구분 | R3: 공종레벨 | S3: 공종소계 | T3: 원가계산서 연결금액
E4: 단 가 | F4: 금 액 | G4: 단 가 | H4: 금 액 | I4: 단 가 | J4: 금 액 | K4: 단 가 | L4: 금 액
A5: 2026학년도 밀레니엄관 지하1층 개선공사(전기) | D5: 1 | E5: =F6 -> 0 | F5: =E5*D5 -> 0 | G5: =H6 -> 0 | H5: =G5*D5 -> 0 | I5: =J6 -> 0 | J5: =I5*D5 -> 0 | K5: =E5+G5+I5 -> 0 | L5: =F5+H5+J5 -> 0 | N5: 01 | R5: 1
A6: 전기공사 | D6: 1 | E6: =F7+F8+F9+F10+F11+F12+F13 -> 0 | F6: =E6*D6 -> 0 | G6: =H7+H8+H9+H10+H11+H12+H13 -> 0 | H6: =G6*D6 -> 0 | I6: =J7+J8+J9+J10+J11+J12+J13 -> 0 | J6: =I6*D6 -> 0 | K6: =E6+G6+I6 -> 0 | L6: =F6+H6+J6 -> 0 | N6: 0101 | P6: 01 | R6: 2
A7: 전력간선설비공사 | D7: 1 | E7: =공종별내역서!F55 -> 0 | F7: =E7*D7 -> 0 | G7: =공종별내역서!H55 -> 0 | H7: =G7*D7 -> 0 | I7: =공종별내역서!J55 -> 0 | J7: =I7*D7 -> 0 | K7: =E7+G7+I7 -> 0 | L7: =F7+H7+J7 -> 0 | N7: 010101 | P7: 0101 | R7: 3
A8: 전등설비공사 | D8: 1 | E8: =공종별내역서!F107 -> 0 | F8: =E8*D8 -> 0 | G8: =공종별내역서!H107 -> 0 | H8: =G8*D8 -> 0 | I8: =공종별내역서!J107 -> 0 | J8: =I8*D8 -> 0 | K8: =E8+G8+I8 -> 0 | L8: =F8+H8+J8 -> 0 | N8: 010102 | P8: 0101 | R8: 3
A9: 전열설비공사 | D9: 1 | E9: =공종별내역서!F133 -> 0 | F9: =E9*D9 -> 0 | G9: =공종별내역서!H133 -> 0 | H9: =G9*D9 -> 0 | I9: =공종별내역서!J133 -> 0 | J9: =I9*D9 -> 0 | K9: =E9+G9+I9 -> 0 | L9: =F9+H9+J9 -> 0 | N9: 010103 | P9: 0101 | R9: 3
A10: 환기덕트설비공사 | D10: 1 | E10: =공종별내역서!F159 -> 0 | F10: =E10*D10 -> 0 | G10: =공종별내역서!H159 -> 0 | H10: =G10*D10 -> 0 | I10: =공종별내역서!J159 -> 0 | J10: =I10*D10 -> 0 | K10: =E10+G10+I10 -> 0 | L10: =F10+H10+J10 -> 0 | N10: 010104 | P10: 0101 | R10: 3
A11: 냉난방설비공사 | D11: 1 | E11: =공종별내역서!F185 -> 0 | F11: =E11*D11 -> 0 | G11: =공종별내역서!H185 -> 0 | H11: =G11*D11 -> 0 | I11: =공종별내역서!J185 -> 0 | J11: =I11*D11 -> 0 | K11: =E11+G11+I11 -> 0 | L11: =F11+H11+J11 -> 0 | N11: 010105 | P11: 0101 | R11: 3
A12: 케이블트레이설치공사 | D12: 1 | E12: =공종별내역서!F211 -> 0 | F12: =E12*D12 -> 0 | G12: =공종별내역서!H211 -> 0 | H12: =G12*D12 -> 0 | I12: =공종별내역서!J211 -> 0 | J12: =I12*D12 -> 0 | K12: =E12+G12+I12 -> 0 | L12: =F12+H12+J12 -> 0 | N12: 010106 | P12: 0101 | R12: 3
A13: 임시전력설비공사 | D13: 1 | E13: =공종별내역서!F237 -> 0 | F13: =E13*D13 -> 0 | G13: =공종별내역서!H237 -> 0 | H13: =G13*D13 -> 0 | I13: =공종별내역서!J237 -> 0 | J13: =I13*D13 -> 0 | K13: =E13+G13+I13 -> 0 | L13: =F13+H13+J13 -> 0 | N13: 010107 | P13: 0101 | R13: 3
A29: [ 합 계 ] | F29: =F5 -> 0 | H29: =H5 -> 0 | J29: =J5 -> 0 | L29: =L5 -> 0

Sheet 공종별내역서
A1: [ 2026학년도 밀레니엄관 지하1층 개선공사(전기) ]
A2: 품 명 | B2: 규 격 | C2: 단위 | D2: 수량 | E2: 재 료 비 | G2: 노 무 비 | I2: 경 비 | K2: 합 계 | M2: 비 고 | N2: 품목코드 | O2: 변수 | P2: 설정 | Q2: 공종코드 | R2: 일위 | S2: 단산 | T2: 자재 | U2: 손료적용 | V2: 손료저장 | W2: 적용율 | X2: JUK1 | Y2: JUK2 | Z2: JUK3 | AA2: JUK4 | AB2: JUK5 | AC2: JUK6 | AD2: JUK7 | AE2: JUK8 | AF2: JUK9 | AG2: JUK10 | AH2: JUK11 | AI2: JUK12 | AJ2: JUK13 | AK2: JUK14 | AL2: JUK15 | AM2: JUK16 | AN2: JUK17 | AO2: JUK18 | AP2: JUK19 | AQ2: JUK20 | AR2: 자재구분 | AS2: 공종구분 | AT2: 공종레벨 | AU2: 공종+자재 | AV2: 고유번호
E3: 단 가 | F3: 금 액 | G3: 단 가 | H3: 금 액 | I3: 단 가 | J3: 금 액 | K3: 단 가 | L3: 금 액
A4: 전력간선설비공사 | Q4: 010101
A5: 강제전선관-노출 | B5: 아연도, 28mm | C5: M | D5: 46 | N5: 44B033B80E2749D2093199693BA18 | Q5: 010101 | R5: T | S5: F | T5: F | AU5: 01010144B033B80E2749D2093199693BA18 | AV5: 6
A6: 강제전선관-노출 | B6: 아연도, 36mm | C6: M | D6: 216 | N6: 44B033B80E2749D2093199693BDEC | Q6: 010101 | R6: T | S6: F | T6: F | AU6: 01010144B033B80E2749D2093199693BDEC | AV6: 7
A7: 강제전선관-노출 | B7: 아연도, 42mm | C7: M | D7: 82 | N7: 44B033B80E2749D2093199693BCC5 | Q7: 010101 | R7: T | S7: F | T7: F | AU7: 01010144B033B80E2749D2093199693BCC5 | AV7: 8
A8: 강제전선관-노출 | B8: 아연도, 54mm | C8: M | D8: 8 | N8: 44B033B80E2749D2093199693BF99 | Q8: 010101 | R8: T | S8: F | T8: F | AU8: 01010144B033B80E2749D2093199693BF99 | AV8: 9
A9: 강제전선관-노출 | B9: 아연도, 104mm | C9: M | D9: 31 | N9: 44B033B80E2749D2093199693B014 | Q9: 010101 | R9: T | S9: F | T9: F | AU9: 01010144B033B80E2749D2093199693B014 | AV9: 10
A10: 0.6/1kv 난연 전력케이블(F-CV) | B10: 2C*6㎟ | C10: M | D10: 46 | N10: 44B033B80E047A622971E739C41F3 | Q10: 010101 | R10: T | S10: F | T10: F | AU10: 01010144B033B80E047A622971E739C41F3 | AV10: 11
A11: 0.6/1kv 난연 전력케이블(F-CV) | B11: 2C*10㎟ | C11: M | D11: 161 | N11: 44B033B80E047A622971E739C41F1 | Q11: 010101 | R11: T | S11: F | T11: F | AU11: 01010144B033B80E047A622971E739C41F1 | AV11: 12
A12: 0.6/1kv 난연 전력케이블(F-CV) | B12: 4C*16㎟ | C12: M | D12: 266 | N12: 44B033B80E047A6229718EB77078F | Q12: 010101 | R12: T | S12: F | T12: F | AU12: 01010144B033B80E047A6229718EB77078F | AV12: 13
A13: 0.6/1kv 난연 전력케이블(F-CV) | B13: 4C*25㎟ | C13: M | D13: 470 | N13: 44B033B80E047A6229718EB770895 | Q13: 010101 | R13: T | S13: F | T13: F | AU13: 01010144B033B80E047A6229718EB770895 | AV13: 14
A14: 0.6/1kv 난연 전력케이블(F-CV) | B14: 4C*35㎟ | C14: M | D14: 119 | N14: 44B033B80E047A6229718EB7709BC | Q14: 010101 | R14: T | S14: F | T14: F | AU14: 01010144B033B80E047A6229718EB7709BC | AV14: 15
A15: 0.6/1kv 난연 전력케이블(F-CV) | B15: 1C*95㎟ | C15: M | D15: 444 | N15: 44B033B80E047A622971D6DB0DACE | Q15: 010101 | R15: T | S15: F | T15: F | AU15: 01010144B033B80E047A622971D6DB0DACE | AV15: 16
A16: 난연 비닐절연접지용전선(F-GV)-관내 | B16: 0.6/1kv, 6㎟ | C16: M | D16: 46 | N16: 44B033B80E16E4D2B943FBEAED1B6 | Q16: 010101 | R16: T | S16: F | T16: F | AU16: 01010144B033B80E16E4D2B943FBEAED1B6 | AV16: 17
... A34: 배선용 차단기 설치(MCCB) | B34: 4P 225AF | C34: EA | D34: 1 | N34: 44B033B80EA4AD0259573978B5644 | Q34: 010101 | R34: T | S34: F | T34: F | AU34: 01010144B033B80EA4AD0259573978B5644 | AV34: 42
A35: LP-NB | C35: 면 | D35: 1 | N35: 44B033B83B03FC22F93D5754A61AB | Q35: 010101 | R35: T | S35: F | T35: F | AU35: 01010144B033B83B03FC22F93D5754A61AB | AV35: 38
A36: LP-B1B | C36: 면 | D36: 1 | N36: 44B033B83B03FC22F93D5754A61A4 | Q36: 010101 | R36: T | S36: F | T36: F | AU36: 01010144B033B83B03FC22F93D5754A61A4 | AV36: 327
A37: LP-EM | C37: 면 | D37: 1 | N37: 44B033B83B03FC22F93D5754A61A5 | Q37: 010101 | R37: T | S37: F | T37: F | AU37: 01010144B033B83B03FC22F93D5754A61A5 | AV37: 328
A38: LP-TO | C38: 면 | D38: 1 | N38: 44B033B83B03FC22F93D5754A62B2 | Q38: 010101 | R38: T | S38: F | T38: F | AU38: 01010144B033B83B03FC22F93D5754A62B2 | AV38: 329
A39: LP-B | C39: 면 | D39: 1 | N39: 44B033B83B03FC22F93D5754A62B3 | Q39: 010101 | R39: T | S39: F | T39: F | AU39: 01010144B033B83B03FC22F93D5754A62B3 | AV39: 330
A40: LP-HD | C40: 면 | D40: 1 | N40: 44B033B83B03FC22F93D5754A62B0 | Q40: 010101 | R40: T | S40: F | T40: F | AU40: 01010144B033B83B03FC22F93D5754A62B0 | AV40: 331
A41: LP-6HP | C41: 면 | D41: 1 | N41: 44B033B83B03FC22F93D5754A62B1 | Q41: 010101 | R41: T | S41: F | T41: F | AU41: 01010144B033B83B03FC22F93D5754A62B1 | AV41: 332
A42: 분전함 철거 | C42: 면 | D42: 3 | N42: 44B033B83B03FC22F93D5754A62B6 | Q42: 010101 | R42: T | S42: F | T42: F | AU42: 01010144B033B83B03FC22F93D5754A62B6 | AV42: 333
Q43: 010101
Q44: 010101
Q45: 010101
Q46: 010101
Q47: 010101
Q48: 010101
Q49: 010101
Q50: 010101
Q51: 010101
Q52: 010101
Q53: 010101
Q54: 010101
A55: [ 합 계 ] | F55: =SUMIF(Q5:Q54,"010101",F5:F54) -> 0 | H55: =SUMIF(Q5:Q54,"010101",H5:H54) -> 0 | J55: =SUMIF(Q5:Q54,"010101",J5:J54) -> 0 | L55: =SUMIF(Q5:Q54,"010101",L5:L54) -> 0 | N55: TOTAL
A56: 전등설비공사 | Q56: 010102
A57: 나사없는전선관-노출 | B57: E19 | C57: M | D57: 2626 | N57: 44B033C8117059D2A940AB66F3FC3 | Q57: 010102 | R57: T | S57: F | T57: F | AU57: 01010244B033C8117059D2A940AB66F3FC3 | AV57: 43
...

Sheet 공량설정_일위대가
A1: 일위대가 | B1: 적용율(%) | C1: 소수점이하자릿수 | D1: 일위대가 코드
A2: 강제전선관-노출 아연도, 28mm (호표 1) | B2: =원가계산서!J2 -> 0 | D2: 44B033B80E2749D2093199693BA18
A3: 내선전공 | C3: 4 | D3: 44B033B80E2749D2093199693BA18442139D8FF039D525930C3CD9E459E87A76C2
A4: 강제전선관-노출 아연도, 36mm (호표 2) | B4: =$B$2 -> 0 | D4: 44B033B80E2749D2093199693BDEC
A5: 내선전공 | C5: 4 | D5: 44B033B80E2749D2093199693BDEC442139D8FF039D525930C3CD9E459E87A76C2
A6: 강제전선관-노출 아연도, 42mm (호표 3) | B6: =$B$2 -> 0 | D6: 44B033B80E2749D2093199693BCC5
A7: 내선전공 | C7: 4 | D7: 44B033B80E2749D2093199693BCC5442139D8FF039D525930C3CD9E459E87A76C2
A8: 강제전선관-노출 아연도, 54mm (호표 4) | B8: =$B$2 -> 0 | D8: 44B033B80E2749D2093199693BF99
A9: 내선전공 | C9: 4 | D9: 44B033B80E2749D2093199693BF99442139D8FF039D525930C3CD9E459E87A76C2
A10: 강제전선관-노출 아연도, 104mm (호표 5) | B10: =$B$2 -> 0 | D10: 44B033B80E2749D2093199693B014
A11: 내선전공 | C11: 4 | D11: 44B033B80E2749D2093199693B014442139D8FF039D525930C3CD9E459E87A76C2
A12: 0.6/1kv 난연 전력케이블(F-CV) 2C*6㎟ (호표 6) | B12: =$B$2 -> 0 | D12: 44B033B80E047A622971E739C41F3
A13: 저압케이블전공 | C13: 4 | D13: 44B033B80E047A622971E739C41F3442139D8FF039D525930C3CD9E459E87A76CF
A14: 0.6/1kv 난연 전력케이블(F-CV) 2C*10㎟ (호표 7) | B14: =$B$2 -> 0 | D14: 44B033B80E047A622971E739C41F1
A15: 저압케이블전공 | C15: 4 | D15: 44B033B80E047A622971E739C41F1442139D8FF039D525930C3CD9E459E87A76CF
A16: 0.6/1kv 난연 전력케이블(F-CV) 4C*16㎟ (호표 8) | B16: =$B$2 -> 0 | D16: 44B033B80E047A6229718EB77078F
A17: 저압케이블전공 | C17: 4 | D17: 44B033B80E047A6229718EB77078F442139D8FF039D525930C3CD9E459E87A76CF
A18: 0.6/1kv 난연 전력케이블(F-CV) 4C*25㎟ (호표 9) | B18: =$B$2 -> 0 | D18: 44B033B80E047A6229718EB770895
A19: 저압케이블전공 | C19: 4 | D19: 44B033B80E047A6229718EB770895442139D8FF039D525930C3CD9E459E87A76CF
A20: 0.6/1kv 난연 전력케이블(F-CV) 4C*35㎟ (호표 10) | B20: =$B$2 -> 0 | D20: 44B033B80E047A6229718EB7709BC
A21: 저압케이블전공 | C21: 4 | D21: 44B033B80E047A6229718EB7709BC442139D8FF039D525930C3CD9E459E87A76CF
A22: 0.6/1kv 난연 전력케이블(F-CV) 1C*95㎟ (호표 11) | B22: =$B$2 -> 0 | D22: 44B033B80E047A622971D6DB0DACE
A23: 저압케이블전공 | C23: 4 | D23: 44B033B80E047A622971D6DB0DACE442139D8FF039D525930C3CD9E459E87A76CF
A24: 난연 비닐절연접지용전선(F-GV)-관내 0.6/1kv, 6㎟ (호표 12) | B24: =$B$2 -> 0 | D24: 44B033B80E16E4D2B943FBEAED1B6
A25: 내선전공 | C25: 4 | D25: 44B033B80E16E4D2B943FBEAED1B6442139D8FF039D525930C3CD9E459E87A76C2
A26: 난연 비닐절연접지용전선(F-GV)-관내 0.6/1kv, 10㎟ (호표 13) | B26: =$B$2 -> 0 | D26: 44B033B80E16E4D2B943FBEAED637
A27: 내선전공 | C27: 4 | D27: 44B033B80E16E4D2B943FBEAED637442139D8FF039D525930C3CD9E459E87A76C2
A28: 난연 비닐절연접지용전선(F-GV)-관내 0.6/1kv, 16㎟ (호표 14) | B28: =$B$2 -> 0 | D28: 44B033B80E16E4D2B943FBEAED7DE
A29: 내선전공 | C29: 4 | D29: 44B033B80E16E4D2B943FBEAED7DE442139D8FF039D525930C3CD9E459E87A76C2
A30: 난연 비닐절연접지용전선(F-GV)-관내 0.6/1kv, 50㎟ (호표 15) | B30: =$B$2 -> 0 | D30: 44B033B80E16E4D2B943FBEAEDA92
A31: 내선전공 | C31: 4 | D31: 44B033B80E16E4D2B943FBEAEDA92442139D8FF039D525930C3CD9E459E87A76C2
A32: 압착단자 16 ㎟ (호표 16) | B32: =$B$2 -> 0 | D32: 43BE3CF84D4ED592D979B8F005762
A33: 저압케이블전공 | C33: 4 | D33: 43BE3CF84D4ED592D979B8F005762442139D8FF039D525930C3CD9E459E87A76CF
A34: 압착단자 25 ㎟ (호표 17) | B34: =$B$2 -> 0 | D34: 43BE3CF84D4ED592D979B8F00576D
A35: 저압케이블전공 | C35: 4 | D35: 43BE3CF84D4ED592D979B8F00576D442139D8FF039D525930C3CD9E459E87A76CF
A36: 압착단자 35 ㎟ (호표 18) | B36: =$B$2 -> 0 | D36: 43BE3CF84D4ED592D979B8F00576C
A37: 저압케이블전공 | C37: 4 | D37: 43BE3CF84D4ED592D979B8F00576C442139D8FF039D525930C3CD9E459E87A76CF
A38: 압착단자 50 ㎟ (호표 19) | B38: =$B$2 -> 0 | D38: 43BE3CF84D4ED592D979B8F00565E
A39: 저압케이블전공 | C39: 4 | D39: 43BE3CF84D4ED592D979B8F00565E442139D8FF039D525930C3CD9E459E87A76CF
A40: 동관단자 1 HOLE 95 ㎟ (호표 20) | B40: =$B$2 -> 0 | D40: 43BE3CF84D4ED592D979B88D14B04
...

Sheet  공사설정 
A1: 이 Sheet는 수정하지 마십시요
A2: 공사구분 | B2: D | C2: 타이틀
A3: 확정내역 | B3: 원내역
A4: 자재단가적용 | B4: 5
A5: 경비단가적용 | B5: 5
A6: 품목코드형식 | B6: XXXX-XXXX-XXXXXXXXX
A7: 내역금액소수점처리 | B7: C | C7: 1
A8: 일위대가내역소수점처리 | B8: C | C8: 2
A9: 단가명 | B9: 조달청가격 | C9: 거래가격 | D9: 유통물가 | E9: 조사가격1 | F9: 조사가격2 | G9: TTTTT
A10: 환율 | B10: 1472 | C10: 0 | D10: 0
A11: 시간당작업량 | B11: R | C11: 4
A12: 1회 사이클시간 | B12: R | C12: 4
A13: 시간당 작업사이클 | B13: R | C13: 3
A14: 일반변수 | B14: R | C14: 5
A15: 시간당 노임산출 계수 | B15: A | C15: 1/8*16/12*25/20 | D15: 1/8*16/12*25/20 | E15: 1/8*16/12*25/20 | F15: 1
A16: 재료비 할증 계수 | B16: 1.11 | C16: 1.12
A17: 노무비 할증 계수 | B17: 1 | C17: 1.5 | D17: 1.16 | E17: 1.6 | F17: 1.6 | G17: 1.6 | H17: 1.94 | I17: 1.94 | J17: 1.94 | K17: 1 | L17: 1 | M17: 1
A18: 경비 할증 계수 | B18: 1.25 | C18: 1.071
A19: 내역,일위대가 품명,규격,단위 따로적용
A20: 내역단가 소수점처리 | B20: C | C20: 1
A21: 코드 | B21: 공종구분명 | C21: 원가비목코드
A22: 1 | B22: 작 업 부 산 물 | C22: A3
A23: 2 | B23: 운 반 비 | C23: C1
A24: 3 | B24: 관 급 자 재 비 | C24: DJ
A25: 4 | B25: 사 급 자 재 비 | C25: D3
A26: 5 | B26: 외 자 재
A27: 6 | B27: 폐기물처리비
A28: 7 | B28: ...
A29: 8 | B29: 한전표준공사비 | C29: DK
A30: 9 | B30: ...
A31: A | B31: ....
A32: B | B32: .....
A33: C | B33: ....
A34: D | B34: ....
A35: E | B35: ....
A36: F | B36: ....
A37: G | B37: ....
A38: H | B38: ....
A39: I | B39: ....
A40: J | B40: ....
...

Sheet Sheet1
