Workbook

Sheet 원가계산서
B1: 공 사 원 가 계 산 서
B2: 공사명 : 2026학년도 밀레니엄관 지하1층 개선공사(전기)
B3: 비 목 | E3: 금 액 | F3: 구 성 비 | G3: 비 고
A4: A1 | B4: 순 공 사 원 가 | C4: 재 료 비 | D4: 직 접 재 료 비 | E4: =TRUNC(공종별집계표!F5, 0) -> 0
A5: A2 | D5: 간 접 재 료 비 | E5: 0
A6: A3 | D6: 작업설, 부산물(△) | E6: 0
A7: AS | D7: [ 소 계 ] | E7: =TRUNC(E4+E5-E6, 0) -> 0
A8: B1 | C8: 노 무 비 | D8: 직 접 노 무 비 | E8: =TRUNC(공종별집계표!H5, 0) -> 0
A9: B2 | D9: 간 접 노 무 비 | E9: =TRUNC(E8*0.175, 0) -> 0 | F9: 직접노무비 * 17.5%
A10: BS | D10: [ 소 계 ]
A11: C4 | C11: 경 비 | D11: 산 재 보 험 료 | E11: =TRUNC(E10*0.0356, 0) -> 0 | F11: 노무비 * 3.56%
A12: C5 | D12: 고 용 보 험 료 | E12: =TRUNC(E10*0.0101, 0) -> 0 | F12: 노무비 * 1.01%
A13: C6 | D13: 국민 건강 보험료 | F13: 직접노무비 * 3.595%
A14: C7 | D14: 국민 연금 보험료 | F14: 직접노무비 * 4.75%
A15: C8 | D15: 퇴직 공제 부금비 | F15: 직접노무비 * 2.3%
A16: CA | D16: 산업안전보건관리비 | F16: (재료비+직노) * 2.28%+4325000
A17: CB | D17: 노인장기요양보험료 | F17: 건강보험료 * 13.14%
A18: CG | D18: 기 타 경 비 | E18: =TRUNC((E7+E10)*0.05, 0) -> 0 | F18: (재료비+노무비) * 5%
A19: CM | D19: 석 면 분 담 금 | E19: =TRUNC(E10*0.00006, 0) -> 0 | F19: 노무비 * 0.006%
A20: CS | D20: [ 소 계 ]
A21: S1 | B21: 계
A22: D1 | B22: 일 반 관 리 비 | E22: =TRUNC(E21*0.065, 0) -> 0 | F22: 계 * 6.5%
A23: D2 | B23: 이 윤 | E23: =TRUNC((E10+E20+E22)*0.15, 0) -> 0 | F23: (노무비+경비+일반관리비) * 15%
A24: D9 | B24: 공 급 가 액 | E24: =TRUNC(E21+E22+E23, 0) -> 0
A25: DB | B25: 부 가 가 치 세 | E25: =TRUNC(E24*0.1, 0) -> 0 | F25: 공급가액 * 10%
A26: DH | B26: 도 급 액 | E26: =TRUNC(E24+E25, 0) -> 0
A27: S2 | B27: 총 공 사 비

Sheet 공종별집계표
A1: 공 종 별 집 계 표
A2: [ 2026학년도 밀레니엄관 지하1층 개선공사(전기) ]
A3: 품 명 | B3: 규 격 | C3: 단위 | D3: 수량 | E3: 재 료 비 | G3: 노 무 비 | I3: 경 비 | K3: 합 계 | M3: 비 고 | N3: 공종코드 | O3: 변수 | P3: 상위공종 | Q3: 공종구분 | R3: 공종레벨 | S3: 공종소계 | T3: 원가계산서 연결금액
E4: 단 가 | F4: 금 액 | G4: 단 가 | H4: 금 액 | I4: 단 가 | J4: 금 액 | K4: 단 가 | L4: 금 액
A5: 2026학년도 밀레니엄관 지하1층 개선공사(전기) | D5: 1 | E5: =F6 -> 0 | F5: =E5*D5 -> 0 | G5: =H6 -> 0 | H5: =G5*D5 -> 0 | I5: =J6 -> 0 | J5: =I5*D5 -> 0 | K5: =E5+G5+I5 -> 0 | L5: =F5+H5+J5 -> 0 | N5: 01 | R5: 1
A6: 전기공사 | D6: 1 | E6: =F7+F8+F9+F10+F11+F12+F13 -> 0 | F6: =E6*D6 -> 0 | G6: =H7+H8+H9+H10+H11+H12+H13 -> 0 | H6: =G6*D6 -> 0 | I6: =J7+J8+J9+J10+J11+J12+J13 -> 0 | J6: =I6*D6 -> 0 | K6: =E6+G6+I6 -> 0 | L6: =F6+H6+J6 -> 0 | N6: 0101 | P6: 01 | R6: 2
A7: 전력간선설비공사 | D7: 1 | E7: =공종별내역서!F55 -> 0 | F7: =E7*D7 -> 0 | G7: =공종별내역서!H55 -> 0 | H7: =G7*D7 -> 0 | I7: =공종별내역서!J55 -> 0 | J7: =I7*D7 -> 0 | K7: =E7+G7+I7 -> 0 | L7: =F7+H7+J7 -> 0 | N7: 010101 | P7: 0101 | R7: 3
A8: 전등설비공사 | D8: 1 | E8: =공종별내역서!F107 -> 0 | F8: =E8*D8 -> 0 | G8: =공종별내역서!H107 -> 0 | H8: =G8*D8 -> 0 | I8: =공종별내역서!J107 -> 0 | J8: =I8*D8 -> 0 | K8: =E8+G8+I8 -> 0 | L8: =F8+H8+J8 -> 0 | N8: 010102 | P8: 0101 | R8: 3
A9: 전열설비공사 | D9: 1 | E9: =공종별내역서!F133 -> 0 | F9: =E9*D9 -> 0 | G9: =공종별내역서!H133 -> 0 | H9: =G9*D9 -> 0 | I9: =공종별내역서!J133 -> 0 | J9: =I9*D9 -> 0 | K9: =E9+G9+I9 -> 0 | L9: =F9+H9+J9 -> 0 | N9: 010103 | P9: 0101 | R9: 3
A10: 환기덕트설비공사 | D10: 1 | E10: =공종별내역서!F159 -> 0 | F10: =E10*D10 -> 0 | G10: =공종별내역서!H159 -> 0 | H10: =G10*D10 -> 0 | I10: =공종별내역서!J159 -> 0 | J10: =I10*D10 -> 0 | K10: =E10+G10+I10 -> 0 | L10: =F10+H10+J10 -> 0 | N10: 010104 | P10: 0101 | R10: 3
A11: 냉난방설비공사 | D11: 1 | E11: =공종별내역서!F185 -> 0 | F11: =E11*D11 -> 0 | G11: =공종별내역서!H185 -> 0 | H11: =G11*D11 -> 0 | I11: =공종별내역서!J185 -> 0 | J11: =I11*D11 -> 0 | K11: =E11+G11+I11 -> 0 | L11: =F11+H11+J11 -> 0 | N11: 010105 | P11: 0101 | R11: 3
A12: 케이블트레이설치공사 | D12: 1 | E12: =공종별내역서!F211 -> 0 | F12: =E12*D12 -> 0 | G12: =공종별내역서!H211 -> 0 | H12: =G12*D12 -> 0 | I12: =공종별내역서!J211 -> 0 | J12: =I12*D12 -> 0 | K12: =E12+G12+I12 -> 0 | L12: =F12+H12+J12 -> 0 | N12: 010106 | P12: 0101 | R12: 3
A13: 임시전력설비공사 | D13: 1 | E13: =공종별내역서!F237 -> 0 | F13: =E13*D13 -> 0 | G13: =공종별내역서!H237 -> 0 | H13: =G13*D13 -> 0 | I13: =공종별내역서!J237 -> 0 | J13: =I13*D13 -> 0 | K13: =E13+G13+I13 -> 0 | L13: =F13+H13+J13 -> 0 | N13: 010107 | P13: 0101 | R13: 3
A29: [ 합 계 ] | F29: =F5 -> 0 | H29: =H5 -> 0 | J29: =J5 -> 0 | L29: =L5 -> 0

Sheet 공종별내역서
A1: [ 2026학년도 밀레니엄관 지하1층 개선공사(전기) ]
A2: 품 명 | B2: 규 격 | C2: 단위 | D2: 수량 | E2: 재 료 비 | G2: 노 무 비 | I2: 경 비 | K2: 합 계 | M2: 비 고 | N2: 품목코드 | O2: 변수 | P2: 설정 | Q2: 공종코드 | R2: 일위 | S2: 단산 | T2: 자재 | U2: 손료적용 | V2: 손료저장 | W2: 적용율 | X2: JUK1 | Y2: JUK2 | Z2: JUK3 | AA2: JUK4 | AB2: JUK5 | AC2: JUK6 | AD2: JUK7 | AE2: JUK8 | AF2: JUK9 | AG2: JUK10 | AH2: JUK11 | AI2: JUK12 | AJ2: JUK13 | AK2: JUK14 | AL2: JUK15 | AM2: JUK16 | AN2: JUK17 | AO2: JUK18 | AP2: JUK19 | AQ2: JUK20 | AR2: 자재구분 | AS2: 공종구분 | AT2: 공종레벨 | AU2: 공종+자재 | AV2: 고유번호
E3: 단 가 | F3: 금 액 | G3: 단 가 | H3: 금 액 | I3: 단 가 | J3: 금 액 | K3: 단 가 | L3: 금 액
A4: 전력간선설비공사 | Q4: 010101
A5: 강제전선관-노출 | B5: 아연도, 28mm | C5: M | D5: 46 | N5: 44B033B80E2749D2093199693BA18 | Q5: 010101 | R5: T | S5: F | T5: F | AU5: 01010144B033B80E2749D2093199693BA18 | AV5: 6
A6: 강제전선관-노출 | B6: 아연도, 36mm | C6: M | D6: 216 | N6: 44B033B80E2749D2093199693BDEC | Q6: 010101 | R6: T | S6: F | T6: F | AU6: 01010144B033B80E2749D2093199693BDEC | AV6: 7
A7: 강제전선관-노출 | B7: 아연도, 42mm | C7: M | D7: 82 | N7: 44B033B80E2749D2093199693BCC5 | Q7: 010101 | R7: T | S7: F | T7: F | AU7: 01010144B033B80E2749D2093199693BCC5 | AV7: 8
A8: 강제전선관-노출 | B8: 아연도, 54mm | C8: M | D8: 8 | N8: 44B033B80E2749D2093199693BF99 | Q8: 010101 | R8: T | S8: F | T8: F | AU8: 01010144B033B80E2749D2093199693BF99 | AV8: 9
A9: 강제전선관-노출 | B9: 아연도, 104mm | C9: M | D9: 31 | N9: 44B033B80E2749D2093199693B014 | Q9: 010101 | R9: T | S9: F | T9: F | AU9: 01010144B033B80E2749D2093199693B014 | AV9: 10
A10: 0.6/1kv 난연 전력케이블(F-CV) | B10: 2C*6㎟ | C10: M | D10: 46 | N10: 44B033B80E047A622971E739C41F3 | Q10: 010101 | R10: T | S10: F | T10: F | AU10: 01010144B033B80E047A622971E739C41F3 | AV10: 11
A11: 0.6/1kv 난연 전력케이블(F-CV) | B11: 2C*10㎟ | C11: M | D11: 161 | N11: 44B033B80E047A622971E739C41F1 | Q11: 010101 | R11: T | S11: F | T11: F | AU11: 01010144B033B80E047A622971E739C41F1 | AV11: 12
A12: 0.6/1kv 난연 전력케이블(F-CV) | B12: 4C*16㎟ | C12: M | D12: 266 | N12: 44B033B80E047A6229718EB77078F | Q12: 010101 | R12: T | S12: F | T12: F | AU12: 01010144B033B80E047A6229718EB77078F | AV12: 13
A13: 0.6/1kv 난연 전력케이블(F-CV) | B13: 4C*25㎟ | C13: M | D13: 470 | N13: 44B033B80E047A6229718EB770895 | Q13: 010101 | R13: T | S13: F | T13: F | AU13: 01010144B033B80E047A6229718EB770895 | AV13: 14
A14: 0.6/1kv 난연 전력케이블(F-CV) | B14: 4C*35㎟ | C14: M | D14: 119 | N14: 44B033B80E047A6229718EB7709BC | Q14: 010101 | R14: T | S14: F | T14: F | AU14: 01010144B033B80E047A6229718EB7709BC | AV14: 15
A15: 0.6/1kv 난연 전력케이블(F-CV) | B15: 1C*95㎟ | C15: M | D15: 444 | N15: 44B033B80E047A622971D6DB0DACE | Q15: 010101 | R15: T | S15: F | T15: F | AU15: 01010144B033B80E047A622971D6DB0DACE | AV15: 16
A16: 난연 비닐절연접지용전선(F-GV)-관내 | B16: 0.6/1kv, 6㎟ | C16: M | D16: 46 | N16: 44B033B80E16E4D2B943FBEAED1B6 | Q16: 010101 | R16: T | S16: F | T16: F | AU16: 01010144B033B80E16E4D2B943FBEAED1B6 | AV16: 17
... A34: 배선용 차단기 설치(MCCB) | B34: 4P 225AF | C34: EA | D34: 1 | N34: 44B033B80EA4AD0259573978B5644 | Q34: 010101 | R34: T | S34: F | T34: F | AU34: 01010144B033B80EA4AD0259573978B5644 | AV34: 42
A35: LP-NB | C35: 면 | D35: 1 | N35: 44B033B83B03FC22F93D5754A61AB | Q35: 010101 | R35: T | S35: F | T35: F | AU35: 01010144B033B83B03FC22F93D5754A61AB | AV35: 38
A36: LP-B1B | C36: 면 | D36: 1 | N36: 44B033B83B03FC22F93D5754A61A4 | Q36: 010101 | R36: T | S36: F | T36: F | AU36: 01010144B033B83B03FC22F93D5754A61A4 | AV36: 327
A37: LP-EM | C37: 면 | D37: 1 | N37: 44B033B83B03FC22F93D5754A61A5 | Q37: 010101 | R37: T | S37: F | T37: F | AU37: 01010144B033B83B03FC22F93D5754A61A5 | AV37: 328
A38: LP-TO | C38: 면 | D38: 1 | N38: 44B033B83B03FC22F93D5754A62B2 | Q38: 010101 | R38: T | S38: F | T38: F | AU38: 01010144B033B83B03FC22F93D5754A62B2 | AV38: 329
A39: LP-B | C39: 면 | D39: 1 | N39: 44B033B83B03FC22F93D5754A62B3 | Q39: 010101 | R39: T | S39: F | T39: F | AU39: 01010144B033B83B03FC22F93D5754A62B3 | AV39: 330
A40: LP-HD | C40: 면 | D40: 1 | N40: 44B033B83B03FC22F93D5754A62B0 | Q40: 010101 | R40: T | S40: F | T40: F | AU40: 01010144B033B83B03FC22F93D5754A62B0 | AV40: 331
A41: LP-6HP | C41: 면 | D41: 1 | N41: 44B033B83B03FC22F93D5754A62B1 | Q41: 010101 | R41: T | S41: F | T41: F | AU41: 01010144B033B83B03FC22F93D5754A62B1 | AV41: 332
A42: 분전함 철거 | C42: 면 | D42: 3 | N42: 44B033B83B03FC22F93D5754A62B6 | Q42: 010101 | R42: T | S42: F | T42: F | AU42: 01010144B033B83B03FC22F93D5754A62B6 | AV42: 333
Q43: 010101
Q44: 010101
Q45: 010101
Q46: 010101
Q47: 010101
Q48: 010101
Q49: 010101
Q50: 010101
Q51: 010101
Q52: 010101
Q53: 010101
Q54: 010101
A55: [ 합 계 ] | F55: =SUMIF(Q5:Q54,"010101",F5:F54) -> 0 | H55: =SUMIF(Q5:Q54,"010101",H5:H54) -> 0 | J55: =SUMIF(Q5:Q54,"010101",J5:J54) -> 0 | L55: =SUMIF(Q5:Q54,"010101",L5:L54) -> 0 | N55: TOTAL
A56: 전등설비공사 | Q56: 010102
A57: 나사없는전선관-노출 | B57: E19 | C57: M | D57: 2626 | N57: 44B033C8117059D2A940AB66F3FC3 | Q57: 010102 | R57: T | S57: F | T57: F | AU57: 01010244B033C8117059D2A940AB66F3FC3 | AV57: 43
A58: 나사없는전선관-노출 | B58: E25 | C58: M | D58: 329 | N58: 44B033C8117059D2A940AB66F3C0F | Q58: 010102 | R58: T | S58: F | T58: F | AU58: 01010244B033C8117059D2A940AB66F3C0F | AV58: 44
A59: 나사없는전선관-노출 | B59: E31 | C59: M | D59: 118 | N59: 44B033C8117059D2A940AB66F3D16 | Q59: 010102 | R59: T | S59: F | T59: F | AU59: 01010244B033C8117059D2A940AB66F3D16 | AV59: 45
A60: 1종금속제가요전선관-노출 | B60: 16mm, 비방수 | C60: M | D60: 4445 | N60: 44B033B80E2749C279C4B9272E32E | Q60: 010102 | R60: T | S60: F | T60: F | AU60: 01010244B033B80E2749C279C4B9272E32E | AV60: 46
A61: 1종금속제가요전선관 | B61: 1종금속제가요전선관, 박스커넥터, 16mm, 비방수 | C61: 개 | D61: 1826 | N61: 43D93E382F9211C2B9EB4B1D958CB1B26B0E5 | Q61: 010102 | R61: F | S61: F | T61: T | AU61: 01010243D93E382F9211C2B9EB4B1D958CB1B26B0E5 | AV61: 47
A62: 1종금속제가요전선관-노출 | B62: 비닐피복, 16mm, 방수 | C62: M | D62: 45 | N62: 44B033B80E2749C279C4B92738517 | Q62: 010102 | R62: T | S62: F | T62: F | AU62: 01010244B033B80E2749C279C4B92738517 | AV62: 48
A63: 1종금속제가요전선관 | B63: 1종금속제가요전선관, 박스커넥터-비닐, 16mm, 방수 | C63: 개 | D63: 12 | N63: 43D93E382F9211C2B9EB4B1D958CB1B26B716 | Q63: 010102 | R63: F | S63: F | T63: T | AU63: 01010243D93E382F9211C2B9EB4B1D958CB1B26B716 | AV63: 49
A64: 450/75OV 저독성난연가교폴리올레핀절연전선(HFIX) | B64: 2.5㎟ | C64: M | D64: 16982 | N64: 44B033B80E16E4F2693A04AC4AA40 | Q64: 010102 | R64: T | S64: F | T64: F | AU64: 01010244B033B80E16E4F2693A04AC4AA40 | AV64: 50
A65: 난연 비닐절연접지용전선(F-GV)-관내 | B65: 0.6/1kv, 2.5㎟ | C65: M | D65: 7578 | N65: 44B033B80E16E4D2B943FBEAED363 | Q65: 010102 | R65: T | S65: F | T65: F | AU65: 01010244B033B80E16E4D2B943FBEAED363 | AV65: 51
A66: 스위치박스-매입 | B66: 1개용 54 mm | C66: 개 | D66: 61 | N66: 44B033B80EA4AD32298302F957D64 | Q66: 010102 | R66: T | S66: F | T66: F | AU66: 01010244B033B80EA4AD32298302F957D64 | AV66: 52
A67: 스위치박스-매입 | B67: 2개용 54 mm | C67: 개 | D67: 10 | N67: 44B033B80EA4AD32298302F957C5E | Q67: 010102 | R67: T | S67: F | T67: F | AU67: 01010244B033B80EA4AD32298302F957C5E | AV67: 53
A68: 아우트렛박스-매입 | B68: 8각 54mm | C68: 개 | D68: 692 | N68: 44B033B80EA4AD32298302F945032 | Q68: 010102 | R68: T | S68: F | T68: F | AU68: 01010244B033B80EA4AD32298302F945032 | AV68: 54
... A100: 콘센트 - 철거 | B100: 15A, 2P | C100: 개 | D100: 151 | N100: 44B033B80EA4AD1279B7F6BA58861 | Q100: 010102 | R100: T | S100: F | T100: F | AU100: 01010244B033B80EA4AD1279B7F6BA58861 | AV100: 86
A101: 스위치 - 철거 | C101: 개 | D101: 89 | N101: 44B033B80EA4AD1279B7F6BA4EBFD | Q101: 010102 | R101: T | S101: F | T101: F | AU101: 01010244B033B80EA4AD1279B7F6BA4EBFD | AV101: 87
Q102: 010102
Q103: 010102
Q104: 010102
Q105: 010102
Q106: 010102
A107: [ 합 계 ] | F107: =SUMIF(Q57:Q106,"010102",F57:F106) -> 0 | H107: =SUMIF(Q57:Q106,"010102",H57:H106) -> 0 | J107: =SUMIF(Q57:Q106,"010102",J57:J106) -> 0 | L107: =SUMIF(Q57:Q106,"010102",L57:L106) -> 0 | N107: TOTAL
A108: 전열설비공사 | Q108: 010103
A109: 나사없는전선관-노출 | B109: E19 | C109: M | D109: 3490 | N109: 44B033C8117059D2A940AB66F3FC3 | Q109: 010103 | R109: T | S109: F | T109: F | AU109: 01010344B033C8117059D2A940AB66F3FC3 | AV109: 88
A110: 나사없는전선관-노출 | B110: E31 | C110: M | D110: 68 | N110: 44B033C8117059D2A940AB66F3D16 | Q110: 010103 | R110: T | S110: F | T110: F | AU110: 01010344B033C8117059D2A940AB66F3D16 | AV110: 89
A111: 1종금속제가요전선관-노출 | B111: 비닐피복, 16mm, 방수 | C111: M | D111: 10 | N111: 44B033B80E2749C279C4B92738517 | Q111: 010103 | R111: T | S111: F | T111: F | AU111: 01010344B033B80E2749C279C4B92738517 | AV111: 90
A112: 1종금속제가요전선관 | B112: 1종금속제가요전선관, 박스커넥터-비닐, 16mm, 방수 | C112: 개 | D112: 2 | N112: 43D93E382F9211C2B9EB4B1D958CB1B26B716 | Q112: 010103 | R112: F | S112: F | T112: T | AU112: 01010343D93E382F9211C2B9EB4B1D958CB1B26B716 | AV112: 91
A113: 450/75OV 저독성난연가교폴리올레핀절연전선(HFIX) | B113: 4㎟ | C113: M | D113: 7029 | N113: 44B033B80E16E4F2693A04AC4AB67 | Q113: 010103 | R113: T | S113: F | T113: F | AU113: 01010344B033B80E16E4F2693A04AC4AB67 | AV113: 92
A114: 난연 비닐절연접지용전선(F-GV)-관내 | B114: 0.6/1kv, 4㎟ | C114: M | D114: 3515 | N114: 44B033B80E16E4D2B943FBEAED0AF | Q114: 010103 | R114: T | S114: F | T114: F | AU114: 01010344B033B80E16E4D2B943FBEAED0AF | AV114: 93
A115: 난연 비닐절연접지용전선(F-GV)-관내 | B115: 0.6/1kv, 6㎟ | C115: M | D115: 68 | N115: 44B033B80E16E4D2B943FBEAED1B6 | Q115: 010103 | R115: T | S115: F | T115: F | AU115: 01010344B033B80E16E4D2B943FBEAED1B6 | AV115: 94
A116: 0.6/1kv 난연 전력케이블(F-CV) | B116: 4C*6㎟ | C116: M | D116: 68 | N116: 44B033B80E047A6229718EB77078C | Q116: 010103 | R116: T | S116: F | T116: F | AU116: 01010344B033B80E047A6229718EB77078C | AV116: 95
A117: 아우트렛박스-매입 | B117: 중형 4각 54㎜ | C117: 개 | D117: 283 | N117: 44B033B80EA4AD32298302F9451D9 | Q117: 010103 | R117: T | S117: F | T117: F | AU117: 01010344B033B80EA4AD32298302F9451D9 | AV117: 96
A118: 아웃렛박스 | B118: 아웃렛박스, 커버, 4각, 2개용S/W, 오목 | C118: 개 | D118: 283 | N118: 43D93E382F8187F2D9FB5605D3F90C31176B8 | Q118: 010103 | R118: F | S118: F | T118: T | AU118: 01010343D93E382F8187F2D9FB5605D3F90C31176B8 | AV118: 97
A119: 풀박스(천장면)-노출 | B119: 150*150*100mm | C119: 개 | D119: 2 | N119: 44B033B80EA4AD32298313686292B | Q119: 010103 | R119: T | S119: F | T119: F | AU119: 01010344B033B80EA4AD32298313686292B | AV119: 98
A120: 콘센트 설치(매입) | B120: 접지형, 15A 250V, 2구 | C120: 개 | D120: 111 | N120: 44B033B80EA4AD1279B7F6BA58CDA | Q120: 010103 | R120: T | S120: F | T120: F | AU120: 01010344B033B80EA4AD1279B7F6BA58CDA | AV120: 99
... A127: 전선관지지대(벽체) | B127: W:100 | C127: 개소 | D127: 10 | N127: 44B033B80E27491259271FBAD5023 | Q127: 010103 | R127: T | S127: F | T127: F | AU127: 01010344B033B80E27491259271FBAD5023 | AV127: 106
Q128: 010103
Q129: 010103
Q130: 010103
Q131: 010103
Q132: 010103
A133: [ 합 계 ] | F133: =SUMIF(Q109:Q132,"010103",F109:F132) -> 0 | H133: =SUMIF(Q109:Q132,"010103",H109:H132) -> 0 | J133: =SUMIF(Q109:Q132,"010103",J109:J132) -> 0 | L133: =SUMIF(Q109:Q132,"010103",L109:L132) -> 0 | N133: TOTAL
A134: 환기덕트설비공사 | Q134: 010104
A135: 1종금속제가요전선관-노출 | B135: 28mm, 비방수 | C135: M | D135: 113 | N135: 44B033B80E2749C279C4B9272E5DC | Q135: 010104 | R135: T | S135: F | T135: F | AU135: 01010444B033B80E2749C279C4B9272E5DC | AV135: 107
A136: 1종금속제가요전선관-노출 | B136: 36mm, 비방수 | C136: M | D136: 64 | N136: 44B033B80E2749C279C4B9272E6E3 | Q136: 010104 | R136: T | S136: F | T136: F | AU136: 01010444B033B80E2749C279C4B9272E6E3 | AV136: 108
A137: 1종금속제가요전선관 | B137: 1종금속제가요전선관, 박스커넥터, 28mm, 비방수 | C137: 개 | D137: 20 | N137: 43D93E382F9211C2B9EB4B1D958CB1B26B0E7 | Q137: 010104 | R137: F | S137: F | T137: T | AU137: 01010443D93E382F9211C2B9EB4B1D958CB1B26B0E7 | AV137: 109
A138: 1종금속제가요전선관 | B138: 1종금속제가요전선관, 박스커넥터, 36mm, 비방수 | C138: 개 | D138: 12 | N138: 43D93E382F9211C2B9EB4B1D958CB1B26B0E6 | Q138: 010104 | R138: F | S138: F | T138: T | AU138: 01010443D93E382F9211C2B9EB4B1D958CB1B26B0E6 | AV138: 110
A139: 난연 비닐절연접지용전선(F-GV)-관내 | B139: 0.6/1kv, 6㎟ | C139: M | D139: 807 | N139: 44B033B80E16E4D2B943FBEAED1B6 | Q139: 010104 | R139: T | S139: F | T139: F | AU139: 01010444B033B80E16E4D2B943FBEAED1B6 | AV139: 111
A140: 난연 비닐절연접지용전선(F-GV)-관내 | B140: 0.6/1kv, 10㎟ | C140: M | D140: 562 | N140: 44B033B80E16E4D2B943FBEAED637 | Q140: 010104 | R140: T | S140: F | T140: F | AU140: 01010444B033B80E16E4D2B943FBEAED637 | AV140: 112
A141: 0.6/1kv 난연 전력케이블(F-CV) | B141: 2C*6㎟ | C141: M | D141: 807 | N141: 44B033B80E047A622971E739C41F3 | Q141: 010104 | R141: T | S141: F | T141: F | AU141: 01010444B033B80E047A622971E739C41F3 | AV141: 114
A142: 0.6/1kv 난연 전력케이블(F-CV) | B142: 3C*10㎟ | C142: M | D142: 562 | N142: 44B033B80E047A622971F1A069FE1 | Q142: 010104 | R142: T | S142: F | T142: F | AU142: 01010444B033B80E047A622971F1A069FE1 | AV142: 115
A143: 풀박스(천장면)-노출 | B143: 150*150*100mm | C143: 개 | D143: 16 | N143: 44B033B80EA4AD32298313686292B | Q143: 010104 | R143: T | S143: F | T143: F | AU143: 01010444B033B80EA4AD32298313686292B | AV143: 116
A144: 전선관지지행거(단독) | B144: 28C | C144: 개소 | D144: 113 | N144: 44B033B80E27491259273A862F31C | Q144: 010104 | R144: T | S144: F | T144: F | AU144: 01010444B033B80E27491259273A862F31C | AV144: 117
A145: 전선관지지행거(단독) | B145: 36C | C145: 개소 | D145: 64 | N145: 44B033B80E27491259273A862F423 | Q145: 010104 | R145: T | S145: F | T145: F | AU145: 01010444B033B80E27491259273A862F423 | AV145: 118
Q146: 010104
Q147: 010104
Q148: 010104
Q149: 010104
Q150: 010104
Q151: 010104
Q152: 010104
Q153: 010104
Q154: 010104
...

Sheet 공량설정_일위대가
A1: 일위대가 | B1: 적용율(%) | C1: 소수점이하자릿수 | D1: 일위대가 코드
A2: 강제전선관-노출 아연도, 28mm (호표 1) | B2: =원가계산서!J2 -> 0 | D2: 44B033B80E2749D2093199693BA18
A3: 내선전공 | C3: 4 | D3: 44B033B80E2749D2093199693BA18442139D8FF039D525930C3CD9E459E87A76C2
A4: 강제전선관-노출 아연도, 36mm (호표 2) | B4: =$B$2 -> 0 | D4: 44B033B80E2749D2093199693BDEC
A5: 내선전공 | C5: 4 | D5: 44B033B80E2749D2093199693BDEC442139D8FF039D525930C3CD9E459E87A76C2
A6: 강제전선관-노출 아연도, 42mm (호표 3) | B6: =$B$2 -> 0 | D6: 44B033B80E2749D2093199693BCC5
A7: 내선전공 | C7: 4 | D7: 44B033B80E2749D2093199693BCC5442139D8FF039D525930C3CD9E459E87A76C2
A8: 강제전선관-노출 아연도, 54mm (호표 4) | B8: =$B$2 -> 0 | D8: 44B033B80E2749D2093199693BF99
A9: 내선전공 | C9: 4 | D9: 44B033B80E2749D2093199693BF99442139D8FF039D525930C3CD9E459E87A76C2
A10: 강제전선관-노출 아연도, 104mm (호표 5) | B10: =$B$2 -> 0 | D10: 44B033B80E2749D2093199693B014
A11: 내선전공 | C11: 4 | D11: 44B033B80E2749D2093199693B014442139D8FF039D525930C3CD9E459E87A76C2
A12: 0.6/1kv 난연 전력케이블(F-CV) 2C*6㎟ (호표 6) | B12: =$B$2 -> 0 | D12: 44B033B80E047A622971E739C41F3
A13: 저압케이블전공 | C13: 4 | D13: 44B033B80E047A622971E739C41F3442139D8FF039D525930C3CD9E459E87A76CF
A14: 0.6/1kv 난연 전력케이블(F-CV) 2C*10㎟ (호표 7) | B14: =$B$2 -> 0 | D14: 44B033B80E047A622971E739C41F1
A15: 저압케이블전공 | C15: 4 | D15: 44B033B80E047A622971E739C41F1442139D8FF039D525930C3CD9E459E87A76CF
A16: 0.6/1kv 난연 전력케이블(F-CV) 4C*16㎟ (호표 8) | B16: =$B$2 -> 0 | D16: 44B033B80E047A6229718EB77078F
A17: 저압케이블전공 | C17: 4 | D17: 44B033B80E047A6229718EB77078F442139D8FF039D525930C3CD9E459E87A76CF
A18: 0.6/1kv 난연 전력케이블(F-CV) 4C*25㎟ (호표 9) | B18: =$B$2 -> 0 | D18: 44B033B80E047A6229718EB770895
A19: 저압케이블전공 | C19: 4 | D19: 44B033B80E047A6229718EB770895442139D8FF039D525930C3CD9E459E87A76CF
A20: 0.6/1kv 난연 전력케이블(F-CV) 4C*35㎟ (호표 10) | B20: =$B$2 -> 0 | D20: 44B033B80E047A6229718EB7709BC
A21: 저압케이블전공 | C21: 4 | D21: 44B033B80E047A6229718EB7709BC442139D8FF039D525930C3CD9E459E87A76CF
A22: 0.6/1kv 난연 전력케이블(F-CV) 1C*95㎟ (호표 11) | B22: =$B$2 -> 0 | D22: 44B033B80E047A622971D6DB0DACE
A23: 저압케이블전공 | C23: 4 | D23: 44B033B80E047A622971D6DB0DACE442139D8FF039D525930C3CD9E459E87A76CF
A24: 난연 비닐절연접지용전선(F-GV)-관내 0.6/1kv, 6㎟ (호표 12) | B24: =$B$2 -> 0 | D24: 44B033B80E16E4D2B943FBEAED1B6
A25: 내선전공 | C25: 4 | D25: 44B033B80E16E4D2B943FBEAED1B6442139D8FF039D525930C3CD9E459E87A76C2
A26: 난연 비닐절연접지용전선(F-GV)-관내 0.6/1kv, 10㎟ (호표 13) | B26: =$B$2 -> 0 | D26: 44B033B80E16E4D2B943FBEAED637
A27: 내선전공 | C27: 4 | D27: 44B033B80E16E4D2B943FBEAED637442139D8FF039D525930C3CD9E459E87A76C2
A28: 난연 비닐절연접지용전선(F-GV)-관내 0.6/1kv, 16㎟ (호표 14) | B28: =$B$2 -> 0 | D28: 44B033B80E16E4D2B943FBEAED7DE
A29: 내선전공 | C29: 4 | D29: 44B033B80E16E4D2B943FBEAED7DE442139D8FF039D525930C3CD9E459E87A76C2
A30: 난연 비닐절연접지용전선(F-GV)-관내 0.6/1kv, 50㎟ (호표 15) | B30: =$B$2 -> 0 | D30: 44B033B80E16E4D2B943FBEAEDA92
A31: 내선전공 | C31: 4 | D31: 44B033B80E16E4D2B943FBEAEDA92442139D8FF039D525930C3CD9E459E87A76C2
A32: 압착단자 16 ㎟ (호표 16) | B32: =$B$2 -> 0 | D32: 43BE3CF84D4ED592D979B8F005762
A33: 저압케이블전공 | C33: 4 | D33: 43BE3CF84D4ED592D979B8F005762442139D8FF039D525930C3CD9E459E87A76CF
A34: 압착단자 25 ㎟ (호표 17) | B34: =$B$2 -> 0 | D34: 43BE3CF84D4ED592D979B8F00576D
A35: 저압케이블전공 | C35: 4 | D35: 43BE3CF84D4ED592D979B8F00576D442139D8FF039D525930C3CD9E459E87A76CF
A36: 압착단자 35 ㎟ (호표 18) | B36: =$B$2 -> 0 | D36: 43BE3CF84D4ED592D979B8F00576C
A37: 저압케이블전공 | C37: 4 | D37: 43BE3CF84D4ED592D979B8F00576C442139D8FF039D525930C3CD9E459E87A76CF
A38: 압착단자 50 ㎟ (호표 19) | B38: =$B$2 -> 0 | D38: 43BE3CF84D4ED592D979B8F00565E
A39: 저압케이블전공 | C39: 4 | D39: 43BE3CF84D4ED592D979B8F00565E442139D8FF039D525930C3CD9E459E87A76CF
A40: 동관단자 1 HOLE 95 ㎟ (호표 20) | B40: =$B$2 -> 0 | D40: 43BE3CF84D4ED592D979B88D14B04
A41: 저압케이블전공 | C41: 4 | D41: 43BE3CF84D4ED592D979B88D14B04442139D8FF039D525930C3CD9E459E87A76CF
A42: 풀박스(천장면)-노출 200*200*100mm (호표 21) | B42: =$B$2 -> 0 | D42: 44B033B80EA4AD322983136862804
A43: 내선전공 | C43: 4 | D43: 44B033B80EA4AD322983136862804442139D8FF039D525930C3CD9E459E87A76C2
A44: 풀박스(천장면)-노출 300*300*200mm (호표 22) | B44: =$B$2 -> 0 | D44: 44B033B80EA4AD3229831368736A5
A45: 내선전공 | C45: 4 | D45: 44B033B80EA4AD3229831368736A5442139D8FF039D525930C3CD9E459E87A76C2
A46: 전선관지지행거(단독) 28C (호표 23) | B46: =$B$2 -> 0 | D46: 44B033B80E27491259273A862F31C
A47: 내선전공 | C47: 4 | D47: 44B033B80E27491259273A862F31C442139D8FF039D525930C3CD9E459E87A76C2
A48: 전선관지지행거(단독) 36C (호표 24) | B48: =$B$2 -> 0 | D48: 44B033B80E27491259273A862F423
A49: 내선전공 | C49: 4 | D49: 44B033B80E27491259273A862F423442139D8FF039D525930C3CD9E459E87A76C2
A50: 전선관지지행거(단독) 42C (호표 25) | B50: =$B$2 -> 0 | D50: 44B033B80E27491259273A862F5CA
A51: 내선전공 | C51: 4 | D51: 44B033B80E27491259273A862F5CA442139D8FF039D525930C3CD9E459E87A76C2
A52: 전선관지지행거(단독) 54C (호표 26) | B52: =$B$2 -> 0 | D52: 44B033B80E27491259273A862F6D0
A53: 내선전공 | C53: 4 | D53: 44B033B80E27491259273A862F6D0442139D8FF039D525930C3CD9E459E87A76C2
A54: 전선관지지행거(단독) 104C (호표 27) | B54: =$B$2 -> 0 | D54: 44B033B80E27491259273A862F9A5
A55: 내선전공 | C55: 4 | D55: 44B033B80E27491259273A862F9A5442139D8FF039D525930C3CD9E459E87A76C2
A56: 등기구 - 철거 평판매입등 300x1200 (호표 28) | B56: =$B$2 -> 0 | D56: 44B033B80EA4AD1279B7E449CC6C0
A57: 내선전공 | C57: 4 | D57: 44B033B80EA4AD1279B7E449CC6C0442139D8FF039D525930C3CD9E459E87A76C2
A58: ELB BOX 2P 30AF/20AT (호표 29) | B58: =$B$2 -> 0 | D58: 44B033B80EA4AD0259573978A471F
A59: 내선전공 | C59: 4 | D59: 44B033B80EA4AD0259573978A471F442139D8FF039D525930C3CD9E459E87A76C2
A60: 배선용 차단기 설치(MCCB) 4P 225AF (호표 30) | B60: =$B$2 -> 0 | D60: 44B033B80EA4AD0259573978B5644
A61: 내선전공 | C61: 4 | D61: 44B033B80EA4AD0259573978B5644442139D8FF039D525930C3CD9E459E87A76C2
A62: LP-NB (호표 31) | B62: =$B$2 -> 0 | D62: 44B033B83B03FC22F93D5754A61AB
A63: 내선전공 | C63: 4 | D63: 44B033B83B03FC22F93D5754A61AB442139D8FF039D525930C3CD9E459E87A76C2
A64: LP-B1B (호표 32) | B64: =$B$2 -> 0 | D64: 44B033B83B03FC22F93D5754A61A4
A65: 내선전공 | C65: 4 | D65: 44B033B83B03FC22F93D5754A61A4442139D8FF039D525930C3CD9E459E87A76C2
A66: LP-EM (호표 33) | B66: =$B$2 -> 0 | D66: 44B033B83B03FC22F93D5754A61A5
A67: 내선전공 | C67: 4 | D67: 44B033B83B03FC22F93D5754A61A5442139D8FF039D525930C3CD9E459E87A76C2
A68: LP-TO (호표 34) | B68: =$B$2 -> 0 | D68: 44B033B83B03FC22F93D5754A62B2
A69: 내선전공 | C69: 4 | D69: 44B033B83B03FC22F93D5754A62B2442139D8FF039D525930C3CD9E459E87A76C2
A70: LP-B (호표 35) | B70: =$B$2 -> 0 | D70: 44B033B83B03FC22F93D5754A62B3
A71: 내선전공 | C71: 4 | D71: 44B033B83B03FC22F93D5754A62B3442139D8FF039D525930C3CD9E459E87A76C2
A72: LP-HD (호표 36) | B72: =$B$2 -> 0 | D72: 44B033B83B03FC22F93D5754A62B0
A73: 내선전공 | C73: 4 | D73: 44B033B83B03FC22F93D5754A62B0442139D8FF039D525930C3CD9E459E87A76C2
A74: LP-6HP (호표 37) | B74: =$B$2 -> 0 | D74: 44B033B83B03FC22F93D5754A62B1
A75: 내선전공 | C75: 4 | D75: 44B033B83B03FC22F93D5754A62B1442139D8FF039D525930C3CD9E459E87A76C2
A76: 분전함 철거 (호표 38) | B76: =$B$2 -> 0 | D76: 44B033B83B03FC22F93D5754A62B6
A77: 내선전공 | C77: 4 | D77: 44B033B83B03FC22F93D5754A62B6442139D8FF039D525930C3CD9E459E87A76C2
A78: 나사없는전선관-노출 E19 (호표 39) | B78: =$B$2 -> 0 | D78: 44B033C8117059D2A940AB66F3FC3
A79: 내선전공 | C79: 4 | D79: 44B033C8117059D2A940AB66F3FC3442139D8FF039D525930C3CD9E459E87A76C2
A80: 나사없는전선관-노출 E25 (호표 40) | B80: =$B$2 -> 0 | D80: 44B033C8117059D2A940AB66F3C0F
A81: 내선전공 | C81: 4 | D81: 44B033C8117059D2A940AB66F3C0F442139D8FF039D525930C3CD9E459E87A76C2
A82: 나사없는전선관-노출 E31 (호표 41) | B82: =$B$2 -> 0 | D82: 44B033C8117059D2A940AB66F3D16
A83: 내선전공 | C83: 4 | D83: 44B033C8117059D2A940AB66F3D16442139D8FF039D525930C3CD9E459E87A76C2
A84: 1종금속제가요전선관-노출 16mm, 비방수 (호표 42) | B84: =$B$2 -> 0 | D84: 44B033B80E2749C279C4B9272E32E
A85: 내선전공 | C85: 4 | D85: 44B033B80E2749C279C4B9272E32E442139D8FF039D525930C3CD9E459E87A76C2
A86: 1종금속제가요전선관-노출 비닐피복, 16mm, 방수 (호표 43) | B86: =$B$2 -> 0 | D86: 44B033B80E2749C279C4B92738517
A87: 내선전공 | C87: 4 | D87: 44B033B80E2749C279C4B92738517442139D8FF039D525930C3CD9E459E87A76C2
A88: 450/75OV 저독성난연가교폴리올레핀절연전선(HFIX) 2.5㎟ (호표 44) | B88: =$B$2 -> 0 | D88: 44B033B80E16E4F2693A04AC4AA40
A89: 내선전공 | C89: 4 | D89: 44B033B80E16E4F2693A04AC4AA40442139D8FF039D525930C3CD9E459E87A76C2
A90: 난연 비닐절연접지용전선(F-GV)-관내 0.6/1kv, 2.5㎟ (호표 45) | B90: =$B$2 -> 0 | D90: 44B033B80E16E4D2B943FBEAED363
A91: 내선전공 | C91: 4 | D91: 44B033B80E16E4D2B943FBEAED363442139D8FF039D525930C3CD9E459E87A76C2
A92: 스위치박스-매입 1개용 54 mm (호표 46) | B92: =$B$2 -> 0 | D92: 44B033B80EA4AD32298302F957D64
A93: 내선전공 | C93: 4 | D93: 44B033B80EA4AD32298302F957D64442139D8FF039D525930C3CD9E459E87A76C2
A94: 스위치박스-매입 2개용 54 mm (호표 47) | B94: =$B$2 -> 0 | D94: 44B033B80EA4AD32298302F957C5E
A95: 내선전공 | C95: 4 | D95: 44B033B80EA4AD32298302F957C5E442139D8FF039D525930C3CD9E459E87A76C2
A96: 아우트렛박스-매입 8각 54mm (호표 48) | B96: =$B$2 -> 0 | D96: 44B033B80EA4AD32298302F945032
A97: 내선전공 | C97: 4 | D97: 44B033B80EA4AD32298302F945032442139D8FF039D525930C3CD9E459E87A76C2
A98: 아우트렛박스-매입 중형 4각 54㎜ (호표 49) | B98: =$B$2 -> 0 | D98: 44B033B80EA4AD32298302F9451D9
A99: 내선전공 | C99: 4 | D99: 44B033B80EA4AD32298302F9451D9442139D8FF039D525930C3CD9E459E87A76C2
A100: 단로 스위치 1구 (호표 50) | B100: =$B$2 -> 0 | D100: 44B033B80EA4AD1279B7F6BA6907B
...

Sheet  공사설정 
A1: 이 Sheet는 수정하지 마십시요
A2: 공사구분 | B2: D | C2: 타이틀
A3: 확정내역 | B3: 원내역
A4: 자재단가적용 | B4: 5
A5: 경비단가적용 | B5: 5
A6: 품목코드형식 | B6: XXXX-XXXX-XXXXXXXXX
A7: 내역금액소수점처리 | B7: C | C7: 1
A8: 일위대가내역소수점처리 | B8: C | C8: 2
A9: 단가명 | B9: 조달청가격 | C9: 거래가격 | D9: 유통물가 | E9: 조사가격1 | F9: 조사가격2 | G9: TTTTT
A10: 환율 | B10: 1472 | C10: 0 | D10: 0
A11: 시간당작업량 | B11: R | C11: 4
A12: 1회 사이클시간 | B12: R | C12: 4
A13: 시간당 작업사이클 | B13: R | C13: 3
A14: 일반변수 | B14: R | C14: 5
A15: 시간당 노임산출 계수 | B15: A | C15: 1/8*16/12*25/20 | D15: 1/8*16/12*25/20 | E15: 1/8*16/12*25/20 | F15: 1
A16: 재료비 할증 계수 | B16: 1.11 | C16: 1.12
A17: 노무비 할증 계수 | B17: 1 | C17: 1.5 | D17: 1.16 | E17: 1.6 | F17: 1.6 | G17: 1.6 | H17: 1.94 | I17: 1.94 | J17: 1.94 | K17: 1 | L17: 1 | M17: 1
A18: 경비 할증 계수 | B18: 1.25 | C18: 1.071
A19: 내역,일위대가 품명,규격,단위 따로적용
A20: 내역단가 소수점처리 | B20: C | C20: 1
A21: 코드 | B21: 공종구분명 | C21: 원가비목코드
A22: 1 | B22: 작 업 부 산 물 | C22: A3
A23: 2 | B23: 운 반 비 | C23: C1
A24: 3 | B24: 관 급 자 재 비 | C24: DJ
A25: 4 | B25: 사 급 자 재 비 | C25: D3
A26: 5 | B26: 외 자 재
A27: 6 | B27: 폐기물처리비
A28: 7 | B28: ...
A29: 8 | B29: 한전표준공사비 | C29: DK
A30: 9 | B30: ...
A31: A | B31: ....
A32: B | B32: .....
A33: C | B33: ....
A34: D | B34: ....
A35: E | B35: ....
A36: F | B36: ....
A37: G | B37: ....
A38: H | B38: ....
A39: I | B39: ....
A40: J | B40: ....
A43: 단가 순서 | B43: 1234

Sheet Sheet1
